BEGIN:VCALENDAR
VERSION:2.0
PRODID:-//Clipper Vacations - ECPv6.10.1.1//NONSGML v1.0//EN
CALSCALE:GREGORIAN
METHOD:PUBLISH
X-ORIGINAL-URL:https://www.clippervacations.com
X-WR-CALDESC:Events for Clipper Vacations
REFRESH-INTERVAL;VALUE=DURATION:PT1H
X-Robots-Tag:noindex
X-PUBLISHED-TTL:PT1H
BEGIN:VTIMEZONE
TZID:America/Los_Angeles
BEGIN:DAYLIGHT
TZOFFSETFROM:-0800
TZOFFSETTO:-0700
TZNAME:PDT
DTSTART:20260308T100000
END:DAYLIGHT
BEGIN:STANDARD
TZOFFSETFROM:-0700
TZOFFSETTO:-0800
TZNAME:PST
DTSTART:20261101T090000
END:STANDARD
END:VTIMEZONE
BEGIN:VEVENT
DTSTART;TZID=America/Los_Angeles:20260625T170000
DTEND;TZID=America/Los_Angeles:20260625T194500
DTSTAMP:20260420T164843
CREATED:20251014T203639Z
LAST-MODIFIED:20260114T200746Z
UID:10001130-1782406800-1782416700@www.clippervacations.com
SUMMARY:Victoria - Seattle
DESCRIPTION:Fares starting at $201
URL:https://www.clippervacations.com/sailing/victoria-seattle-2026-06-25/
LOCATION:Victoria Steamship Terminal\, Steamship Terminal\, Victoria\, British Columbia\, V8V 1W9\, Canada
CATEGORIES:Sailings
END:VEVENT
BEGIN:VEVENT
DTSTART;TZID=America/Los_Angeles:20260626T120000
DTEND;TZID=America/Los_Angeles:20260626T144500
DTSTAMP:20260420T164843
CREATED:20251014T203639Z
LAST-MODIFIED:20260114T200915Z
UID:10001131-1782475200-1782485100@www.clippervacations.com
SUMMARY:Victoria - Seattle
DESCRIPTION:Fares starting at $191
URL:https://www.clippervacations.com/sailing/victoria-seattle-2026-06-26/
LOCATION:Victoria Steamship Terminal\, Steamship Terminal\, Victoria\, British Columbia\, V8V 1W9\, Canada
CATEGORIES:Sailings
END:VEVENT
BEGIN:VEVENT
DTSTART;TZID=America/Los_Angeles:20260627T180000
DTEND;TZID=America/Los_Angeles:20260627T204500
DTSTAMP:20260420T164843
CREATED:20251014T203640Z
LAST-MODIFIED:20251124T201527Z
UID:10001132-1782583200-1782593100@www.clippervacations.com
SUMMARY:Victoria - Seattle
DESCRIPTION:Fares starting at $191
URL:https://www.clippervacations.com/sailing/victoria-seattle-2026-06-27/
LOCATION:Victoria Steamship Terminal\, Steamship Terminal\, Victoria\, British Columbia\, V8V 1W9\, Canada
CATEGORIES:Sailings
END:VEVENT
BEGIN:VEVENT
DTSTART;TZID=America/Los_Angeles:20260628T170000
DTEND;TZID=America/Los_Angeles:20260628T194500
DTSTAMP:20260420T164843
CREATED:20251014T203640Z
LAST-MODIFIED:20251124T201528Z
UID:10001133-1782666000-1782675900@www.clippervacations.com
SUMMARY:Victoria - Seattle
DESCRIPTION:Fares starting at $201
URL:https://www.clippervacations.com/sailing/victoria-seattle-2026-06-28/
LOCATION:Victoria Steamship Terminal\, Steamship Terminal\, Victoria\, British Columbia\, V8V 1W9\, Canada
CATEGORIES:Sailings
END:VEVENT
BEGIN:VEVENT
DTSTART;TZID=America/Los_Angeles:20260629T170000
DTEND;TZID=America/Los_Angeles:20260629T194500
DTSTAMP:20260420T164843
CREATED:20251014T203640Z
LAST-MODIFIED:20251124T201528Z
UID:10001134-1782752400-1782762300@www.clippervacations.com
SUMMARY:Victoria - Seattle
DESCRIPTION:Fares starting at $201
URL:https://www.clippervacations.com/sailing/victoria-seattle-2026-06-29/
LOCATION:Victoria Steamship Terminal\, Steamship Terminal\, Victoria\, British Columbia\, V8V 1W9\, Canada
CATEGORIES:Sailings
END:VEVENT
BEGIN:VEVENT
DTSTART;TZID=America/Los_Angeles:20260630T170000
DTEND;TZID=America/Los_Angeles:20260630T194500
DTSTAMP:20260420T164843
CREATED:20251014T203640Z
LAST-MODIFIED:20251124T201528Z
UID:10001135-1782838800-1782848700@www.clippervacations.com
SUMMARY:Victoria - Seattle
DESCRIPTION:Fares starting at $201
URL:https://www.clippervacations.com/sailing/victoria-seattle-2026-06-30/
LOCATION:Victoria Steamship Terminal\, Steamship Terminal\, Victoria\, British Columbia\, V8V 1W9\, Canada
CATEGORIES:Sailings
END:VEVENT
BEGIN:VEVENT
DTSTART;TZID=America/Los_Angeles:20260701T170000
DTEND;TZID=America/Los_Angeles:20260701T194500
DTSTAMP:20260420T164843
CREATED:20251014T203640Z
LAST-MODIFIED:20251124T201528Z
UID:10001136-1782925200-1782935100@www.clippervacations.com
SUMMARY:Victoria - Seattle
DESCRIPTION:Fares starting at $191
URL:https://www.clippervacations.com/sailing/victoria-seattle-2026-07-01/
LOCATION:Victoria Steamship Terminal\, Steamship Terminal\, Victoria\, British Columbia\, V8V 1W9\, Canada
CATEGORIES:Sailings
END:VEVENT
BEGIN:VEVENT
DTSTART;TZID=America/Los_Angeles:20260702T120000
DTEND;TZID=America/Los_Angeles:20260702T144500
DTSTAMP:20260420T164843
CREATED:20251014T203640Z
LAST-MODIFIED:20260114T202730Z
UID:10001137-1782993600-1783003500@www.clippervacations.com
SUMMARY:Victoria - Seattle
DESCRIPTION:Fares starting at $191
URL:https://www.clippervacations.com/sailing/victoria-seattle-2026-07-02/
LOCATION:Victoria Steamship Terminal\, Steamship Terminal\, Victoria\, British Columbia\, V8V 1W9\, Canada
CATEGORIES:Sailings
END:VEVENT
BEGIN:VEVENT
DTSTART;TZID=America/Los_Angeles:20260703T120000
DTEND;TZID=America/Los_Angeles:20260703T144500
DTSTAMP:20260420T164843
CREATED:20251014T203640Z
LAST-MODIFIED:20260114T202737Z
UID:10001138-1783080000-1783089900@www.clippervacations.com
SUMMARY:Victoria - Seattle
DESCRIPTION:Fares starting at $191
URL:https://www.clippervacations.com/sailing/victoria-seattle-2026-07-03/
LOCATION:Victoria Steamship Terminal\, Steamship Terminal\, Victoria\, British Columbia\, V8V 1W9\, Canada
CATEGORIES:Sailings
END:VEVENT
BEGIN:VEVENT
DTSTART;TZID=America/Los_Angeles:20260704T180000
DTEND;TZID=America/Los_Angeles:20260704T204500
DTSTAMP:20260420T164843
CREATED:20251014T203640Z
LAST-MODIFIED:20251124T201528Z
UID:10001139-1783188000-1783197900@www.clippervacations.com
SUMMARY:Victoria - Seattle
DESCRIPTION:Fares starting at $191
URL:https://www.clippervacations.com/sailing/victoria-seattle-2026-07-04/
LOCATION:Victoria Steamship Terminal\, Steamship Terminal\, Victoria\, British Columbia\, V8V 1W9\, Canada
CATEGORIES:Sailings
END:VEVENT
BEGIN:VEVENT
DTSTART;TZID=America/Los_Angeles:20260705T170000
DTEND;TZID=America/Los_Angeles:20260705T194500
DTSTAMP:20260420T164843
CREATED:20251014T203640Z
LAST-MODIFIED:20251124T201528Z
UID:10001140-1783270800-1783280700@www.clippervacations.com
SUMMARY:Victoria - Seattle
DESCRIPTION:Fares starting at $201
URL:https://www.clippervacations.com/sailing/victoria-seattle-2026-07-05/
LOCATION:Victoria Steamship Terminal\, Steamship Terminal\, Victoria\, British Columbia\, V8V 1W9\, Canada
CATEGORIES:Sailings
END:VEVENT
BEGIN:VEVENT
DTSTART;TZID=America/Los_Angeles:20260706T170000
DTEND;TZID=America/Los_Angeles:20260706T194500
DTSTAMP:20260420T164843
CREATED:20251014T203640Z
LAST-MODIFIED:20251124T201528Z
UID:10001141-1783357200-1783367100@www.clippervacations.com
SUMMARY:Victoria - Seattle
DESCRIPTION:Fares starting at $201
URL:https://www.clippervacations.com/sailing/victoria-seattle-2026-07-06/
LOCATION:Victoria Steamship Terminal\, Steamship Terminal\, Victoria\, British Columbia\, V8V 1W9\, Canada
CATEGORIES:Sailings
END:VEVENT
BEGIN:VEVENT
DTSTART;TZID=America/Los_Angeles:20260707T170000
DTEND;TZID=America/Los_Angeles:20260707T194500
DTSTAMP:20260420T164843
CREATED:20251014T203641Z
LAST-MODIFIED:20251124T201528Z
UID:10001142-1783443600-1783453500@www.clippervacations.com
SUMMARY:Victoria - Seattle
DESCRIPTION:Fares starting at $191
URL:https://www.clippervacations.com/sailing/victoria-seattle-2026-07-07/
LOCATION:Victoria Steamship Terminal\, Steamship Terminal\, Victoria\, British Columbia\, V8V 1W9\, Canada
CATEGORIES:Sailings
END:VEVENT
BEGIN:VEVENT
DTSTART;TZID=America/Los_Angeles:20260708T170000
DTEND;TZID=America/Los_Angeles:20260708T194500
DTSTAMP:20260420T164843
CREATED:20251014T203641Z
LAST-MODIFIED:20251124T201528Z
UID:10001143-1783530000-1783539900@www.clippervacations.com
SUMMARY:Victoria - Seattle
DESCRIPTION:Fares starting at $191
URL:https://www.clippervacations.com/sailing/victoria-seattle-2026-07-08/
LOCATION:Victoria Steamship Terminal\, Steamship Terminal\, Victoria\, British Columbia\, V8V 1W9\, Canada
CATEGORIES:Sailings
END:VEVENT
BEGIN:VEVENT
DTSTART;TZID=America/Los_Angeles:20260709T170000
DTEND;TZID=America/Los_Angeles:20260709T194500
DTSTAMP:20260420T164843
CREATED:20251014T203641Z
LAST-MODIFIED:20260114T202837Z
UID:10001144-1783616400-1783626300@www.clippervacations.com
SUMMARY:Victoria - Seattle
DESCRIPTION:Fares starting at $191
URL:https://www.clippervacations.com/sailing/victoria-seattle-2026-07-09/
LOCATION:Victoria Steamship Terminal\, Steamship Terminal\, Victoria\, British Columbia\, V8V 1W9\, Canada
CATEGORIES:Sailings
END:VEVENT
BEGIN:VEVENT
DTSTART;TZID=America/Los_Angeles:20260710T120000
DTEND;TZID=America/Los_Angeles:20260710T144500
DTSTAMP:20260420T164843
CREATED:20251014T203641Z
LAST-MODIFIED:20260114T202906Z
UID:10001145-1783684800-1783694700@www.clippervacations.com
SUMMARY:Victoria - Seattle
DESCRIPTION:Fares starting at $191
URL:https://www.clippervacations.com/sailing/victoria-seattle-2026-07-10/
LOCATION:Victoria Steamship Terminal\, Steamship Terminal\, Victoria\, British Columbia\, V8V 1W9\, Canada
CATEGORIES:Sailings
END:VEVENT
BEGIN:VEVENT
DTSTART;TZID=America/Los_Angeles:20260711T180000
DTEND;TZID=America/Los_Angeles:20260711T204500
DTSTAMP:20260420T164843
CREATED:20251014T203641Z
LAST-MODIFIED:20251124T201529Z
UID:10001146-1783792800-1783802700@www.clippervacations.com
SUMMARY:Victoria - Seattle
DESCRIPTION:Fares starting at $191
URL:https://www.clippervacations.com/sailing/victoria-seattle-2026-07-11/
LOCATION:Victoria Steamship Terminal\, Steamship Terminal\, Victoria\, British Columbia\, V8V 1W9\, Canada
CATEGORIES:Sailings
END:VEVENT
BEGIN:VEVENT
DTSTART;TZID=America/Los_Angeles:20260712T170000
DTEND;TZID=America/Los_Angeles:20260712T194500
DTSTAMP:20260420T164843
CREATED:20251014T203641Z
LAST-MODIFIED:20251124T201529Z
UID:10001147-1783875600-1783885500@www.clippervacations.com
SUMMARY:Victoria - Seattle
DESCRIPTION:Fares starting at $201
URL:https://www.clippervacations.com/sailing/victoria-seattle-2026-07-12/
LOCATION:Victoria Steamship Terminal\, Steamship Terminal\, Victoria\, British Columbia\, V8V 1W9\, Canada
CATEGORIES:Sailings
END:VEVENT
BEGIN:VEVENT
DTSTART;TZID=America/Los_Angeles:20260713T170000
DTEND;TZID=America/Los_Angeles:20260713T194500
DTSTAMP:20260420T164843
CREATED:20251014T203641Z
LAST-MODIFIED:20251124T201529Z
UID:10001148-1783962000-1783971900@www.clippervacations.com
SUMMARY:Victoria - Seattle
DESCRIPTION:Fares starting at $201
URL:https://www.clippervacations.com/sailing/victoria-seattle-2026-07-13/
LOCATION:Victoria Steamship Terminal\, Steamship Terminal\, Victoria\, British Columbia\, V8V 1W9\, Canada
CATEGORIES:Sailings
END:VEVENT
BEGIN:VEVENT
DTSTART;TZID=America/Los_Angeles:20260714T170000
DTEND;TZID=America/Los_Angeles:20260714T194500
DTSTAMP:20260420T164843
CREATED:20251014T203641Z
LAST-MODIFIED:20251124T201529Z
UID:10001149-1784048400-1784058300@www.clippervacations.com
SUMMARY:Victoria - Seattle
DESCRIPTION:Fares starting at $191
URL:https://www.clippervacations.com/sailing/victoria-seattle-2026-07-14/
LOCATION:Victoria Steamship Terminal\, Steamship Terminal\, Victoria\, British Columbia\, V8V 1W9\, Canada
CATEGORIES:Sailings
END:VEVENT
BEGIN:VEVENT
DTSTART;TZID=America/Los_Angeles:20260715T170000
DTEND;TZID=America/Los_Angeles:20260715T194500
DTSTAMP:20260420T164843
CREATED:20251014T203641Z
LAST-MODIFIED:20251124T201529Z
UID:10001150-1784134800-1784144700@www.clippervacations.com
SUMMARY:Victoria - Seattle
DESCRIPTION:Fares starting at $191
URL:https://www.clippervacations.com/sailing/victoria-seattle-2026-07-15/
LOCATION:Victoria Steamship Terminal\, Steamship Terminal\, Victoria\, British Columbia\, V8V 1W9\, Canada
CATEGORIES:Sailings
END:VEVENT
BEGIN:VEVENT
DTSTART;TZID=America/Los_Angeles:20260716T170000
DTEND;TZID=America/Los_Angeles:20260716T194500
DTSTAMP:20260420T164843
CREATED:20251014T203641Z
LAST-MODIFIED:20260114T203001Z
UID:10001151-1784221200-1784231100@www.clippervacations.com
SUMMARY:Victoria - Seattle
DESCRIPTION:Fares starting at $191
URL:https://www.clippervacations.com/sailing/victoria-seattle-2026-07-16/
LOCATION:Victoria Steamship Terminal\, Steamship Terminal\, Victoria\, British Columbia\, V8V 1W9\, Canada
CATEGORIES:Sailings
END:VEVENT
BEGIN:VEVENT
DTSTART;TZID=America/Los_Angeles:20260717T120000
DTEND;TZID=America/Los_Angeles:20260717T144500
DTSTAMP:20260420T164843
CREATED:20251014T203641Z
LAST-MODIFIED:20260114T203053Z
UID:10001152-1784289600-1784299500@www.clippervacations.com
SUMMARY:Victoria - Seattle
DESCRIPTION:Fares starting at $191
URL:https://www.clippervacations.com/sailing/victoria-seattle-2026-07-17/
LOCATION:Victoria Steamship Terminal\, Steamship Terminal\, Victoria\, British Columbia\, V8V 1W9\, Canada
CATEGORIES:Sailings
END:VEVENT
BEGIN:VEVENT
DTSTART;TZID=America/Los_Angeles:20260718T180000
DTEND;TZID=America/Los_Angeles:20260718T204500
DTSTAMP:20260420T164843
CREATED:20251014T203641Z
LAST-MODIFIED:20251124T201529Z
UID:10001153-1784397600-1784407500@www.clippervacations.com
SUMMARY:Victoria - Seattle
DESCRIPTION:Fares starting at $191
URL:https://www.clippervacations.com/sailing/victoria-seattle-2026-07-18/
LOCATION:Victoria Steamship Terminal\, Steamship Terminal\, Victoria\, British Columbia\, V8V 1W9\, Canada
CATEGORIES:Sailings
END:VEVENT
BEGIN:VEVENT
DTSTART;TZID=America/Los_Angeles:20260719T170000
DTEND;TZID=America/Los_Angeles:20260719T194500
DTSTAMP:20260420T164843
CREATED:20251014T203642Z
LAST-MODIFIED:20251124T201529Z
UID:10001154-1784480400-1784490300@www.clippervacations.com
SUMMARY:Victoria - Seattle
DESCRIPTION:Fares starting at $201
URL:https://www.clippervacations.com/sailing/victoria-seattle-2026-07-19/
LOCATION:Victoria Steamship Terminal\, Steamship Terminal\, Victoria\, British Columbia\, V8V 1W9\, Canada
CATEGORIES:Sailings
END:VEVENT
BEGIN:VEVENT
DTSTART;TZID=America/Los_Angeles:20260720T170000
DTEND;TZID=America/Los_Angeles:20260720T194500
DTSTAMP:20260420T164843
CREATED:20251014T203642Z
LAST-MODIFIED:20251124T201529Z
UID:10001155-1784566800-1784576700@www.clippervacations.com
SUMMARY:Victoria - Seattle
DESCRIPTION:Fares starting at $201
URL:https://www.clippervacations.com/sailing/victoria-seattle-2026-07-20/
LOCATION:Victoria Steamship Terminal\, Steamship Terminal\, Victoria\, British Columbia\, V8V 1W9\, Canada
CATEGORIES:Sailings
END:VEVENT
BEGIN:VEVENT
DTSTART;TZID=America/Los_Angeles:20260721T170000
DTEND;TZID=America/Los_Angeles:20260721T194500
DTSTAMP:20260420T164843
CREATED:20251014T203642Z
LAST-MODIFIED:20251124T201529Z
UID:10001156-1784653200-1784663100@www.clippervacations.com
SUMMARY:Victoria - Seattle
DESCRIPTION:Fares starting at $191
URL:https://www.clippervacations.com/sailing/victoria-seattle-2026-07-21/
LOCATION:Victoria Steamship Terminal\, Steamship Terminal\, Victoria\, British Columbia\, V8V 1W9\, Canada
CATEGORIES:Sailings
END:VEVENT
BEGIN:VEVENT
DTSTART;TZID=America/Los_Angeles:20260722T170000
DTEND;TZID=America/Los_Angeles:20260722T194500
DTSTAMP:20260420T164843
CREATED:20251014T203642Z
LAST-MODIFIED:20251124T201529Z
UID:10001157-1784739600-1784749500@www.clippervacations.com
SUMMARY:Victoria - Seattle
DESCRIPTION:Fares starting at $191
URL:https://www.clippervacations.com/sailing/victoria-seattle-2026-07-22/
LOCATION:Victoria Steamship Terminal\, Steamship Terminal\, Victoria\, British Columbia\, V8V 1W9\, Canada
CATEGORIES:Sailings
END:VEVENT
BEGIN:VEVENT
DTSTART;TZID=America/Los_Angeles:20260723T170000
DTEND;TZID=America/Los_Angeles:20260723T194500
DTSTAMP:20260420T164843
CREATED:20251014T203642Z
LAST-MODIFIED:20260114T203124Z
UID:10001158-1784826000-1784835900@www.clippervacations.com
SUMMARY:Victoria - Seattle
DESCRIPTION:Fares starting at $191
URL:https://www.clippervacations.com/sailing/victoria-seattle-2026-07-23/
LOCATION:Victoria Steamship Terminal\, Steamship Terminal\, Victoria\, British Columbia\, V8V 1W9\, Canada
CATEGORIES:Sailings
END:VEVENT
BEGIN:VEVENT
DTSTART;TZID=America/Los_Angeles:20260724T120000
DTEND;TZID=America/Los_Angeles:20260724T144500
DTSTAMP:20260420T164843
CREATED:20251014T203642Z
LAST-MODIFIED:20260114T203150Z
UID:10001159-1784894400-1784904300@www.clippervacations.com
SUMMARY:Victoria - Seattle
DESCRIPTION:Fares starting at $191
URL:https://www.clippervacations.com/sailing/victoria-seattle-2026-07-24/
LOCATION:Victoria Steamship Terminal\, Steamship Terminal\, Victoria\, British Columbia\, V8V 1W9\, Canada
CATEGORIES:Sailings
END:VEVENT
END:VCALENDAR