BEGIN:VCALENDAR
VERSION:2.0
PRODID:-//Clipper Vacations - ECPv6.10.1.1//NONSGML v1.0//EN
CALSCALE:GREGORIAN
METHOD:PUBLISH
X-ORIGINAL-URL:https://www.clippervacations.com
X-WR-CALDESC:Events for Clipper Vacations
REFRESH-INTERVAL;VALUE=DURATION:PT1H
X-Robots-Tag:noindex
X-PUBLISHED-TTL:PT1H
BEGIN:VTIMEZONE
TZID:America/Los_Angeles
BEGIN:DAYLIGHT
TZOFFSETFROM:-0800
TZOFFSETTO:-0700
TZNAME:PDT
DTSTART:20260308T100000
END:DAYLIGHT
BEGIN:STANDARD
TZOFFSETFROM:-0700
TZOFFSETTO:-0800
TZNAME:PST
DTSTART:20261101T090000
END:STANDARD
END:VTIMEZONE
BEGIN:VEVENT
DTSTART;TZID=America/Los_Angeles:20260508T120000
DTEND;TZID=America/Los_Angeles:20260508T144500
DTSTAMP:20260420T093330
CREATED:20251014T203635Z
LAST-MODIFIED:20260114T194517Z
UID:10001082-1778241600-1778251500@www.clippervacations.com
SUMMARY:Victoria - Seattle
DESCRIPTION:Fares starting at $180
URL:https://www.clippervacations.com/sailing/victoria-seattle-2026-05-08/
LOCATION:Victoria Steamship Terminal\, Steamship Terminal\, Victoria\, British Columbia\, V8V 1W9\, Canada
CATEGORIES:Sailings
END:VEVENT
BEGIN:VEVENT
DTSTART;TZID=America/Los_Angeles:20260509T170000
DTEND;TZID=America/Los_Angeles:20260509T194500
DTSTAMP:20260420T093330
CREATED:20251014T203635Z
LAST-MODIFIED:20251124T201524Z
UID:10001083-1778346000-1778355900@www.clippervacations.com
SUMMARY:Victoria - Seattle
DESCRIPTION:Fares starting at $180
URL:https://www.clippervacations.com/sailing/victoria-seattle-2026-05-09/
LOCATION:Victoria Steamship Terminal\, Steamship Terminal\, Victoria\, British Columbia\, V8V 1W9\, Canada
CATEGORIES:Sailings
END:VEVENT
BEGIN:VEVENT
DTSTART;TZID=America/Los_Angeles:20260510T170000
DTEND;TZID=America/Los_Angeles:20260510T194500
DTSTAMP:20260420T093330
CREATED:20251014T203635Z
LAST-MODIFIED:20251124T201524Z
UID:10001084-1778432400-1778442300@www.clippervacations.com
SUMMARY:Victoria - Seattle
DESCRIPTION:Fares starting at $190
URL:https://www.clippervacations.com/sailing/victoria-seattle-2026-05-10/
LOCATION:Victoria Steamship Terminal\, Steamship Terminal\, Victoria\, British Columbia\, V8V 1W9\, Canada
CATEGORIES:Sailings
END:VEVENT
BEGIN:VEVENT
DTSTART;TZID=America/Los_Angeles:20260511T170000
DTEND;TZID=America/Los_Angeles:20260511T194500
DTSTAMP:20260420T093330
CREATED:20251014T203635Z
LAST-MODIFIED:20251124T201524Z
UID:10001085-1778518800-1778528700@www.clippervacations.com
SUMMARY:Victoria - Seattle
DESCRIPTION:Fares starting at $190
URL:https://www.clippervacations.com/sailing/victoria-seattle-2026-05-11/
LOCATION:Victoria Steamship Terminal\, Steamship Terminal\, Victoria\, British Columbia\, V8V 1W9\, Canada
CATEGORIES:Sailings
END:VEVENT
BEGIN:VEVENT
DTSTART;TZID=America/Los_Angeles:20260512T170000
DTEND;TZID=America/Los_Angeles:20260512T194500
DTSTAMP:20260420T093330
CREATED:20251014T203635Z
LAST-MODIFIED:20251124T201524Z
UID:10001086-1778605200-1778615100@www.clippervacations.com
SUMMARY:Victoria - Seattle
DESCRIPTION:Fares starting at $180
URL:https://www.clippervacations.com/sailing/victoria-seattle-2026-05-12/
LOCATION:Victoria Steamship Terminal\, Steamship Terminal\, Victoria\, British Columbia\, V8V 1W9\, Canada
CATEGORIES:Sailings
END:VEVENT
BEGIN:VEVENT
DTSTART;TZID=America/Los_Angeles:20260513T170000
DTEND;TZID=America/Los_Angeles:20260513T194500
DTSTAMP:20260420T093330
CREATED:20251014T203635Z
LAST-MODIFIED:20251124T201524Z
UID:10001087-1778691600-1778701500@www.clippervacations.com
SUMMARY:Victoria - Seattle
DESCRIPTION:Fares starting at $180
URL:https://www.clippervacations.com/sailing/victoria-seattle-2026-05-13/
LOCATION:Victoria Steamship Terminal\, Steamship Terminal\, Victoria\, British Columbia\, V8V 1W9\, Canada
CATEGORIES:Sailings
END:VEVENT
BEGIN:VEVENT
DTSTART;TZID=America/Los_Angeles:20260514T170000
DTEND;TZID=America/Los_Angeles:20260514T194500
DTSTAMP:20260420T093330
CREATED:20251014T203635Z
LAST-MODIFIED:20260114T194306Z
UID:10001088-1778778000-1778787900@www.clippervacations.com
SUMMARY:Victoria - Seattle
DESCRIPTION:Fares starting at $180
URL:https://www.clippervacations.com/sailing/victoria-seattle-2026-05-14/
LOCATION:Victoria Steamship Terminal\, Steamship Terminal\, Victoria\, British Columbia\, V8V 1W9\, Canada
CATEGORIES:Sailings
END:VEVENT
BEGIN:VEVENT
DTSTART;TZID=America/Los_Angeles:20260515T120000
DTEND;TZID=America/Los_Angeles:20260515T144500
DTSTAMP:20260420T093330
CREATED:20251014T203635Z
LAST-MODIFIED:20260114T194524Z
UID:10001089-1778846400-1778856300@www.clippervacations.com
SUMMARY:Victoria - Seattle
DESCRIPTION:Fares starting at $180
URL:https://www.clippervacations.com/sailing/victoria-seattle-2026-05-15/
LOCATION:Victoria Steamship Terminal\, Steamship Terminal\, Victoria\, British Columbia\, V8V 1W9\, Canada
CATEGORIES:Sailings
END:VEVENT
BEGIN:VEVENT
DTSTART;TZID=America/Los_Angeles:20260516T170000
DTEND;TZID=America/Los_Angeles:20260516T194500
DTSTAMP:20260420T093330
CREATED:20251014T203636Z
LAST-MODIFIED:20251124T201525Z
UID:10001090-1778950800-1778960700@www.clippervacations.com
SUMMARY:Victoria - Seattle
DESCRIPTION:Fares starting at $180
URL:https://www.clippervacations.com/sailing/victoria-seattle-2026-05-16/
LOCATION:Victoria Steamship Terminal\, Steamship Terminal\, Victoria\, British Columbia\, V8V 1W9\, Canada
CATEGORIES:Sailings
END:VEVENT
BEGIN:VEVENT
DTSTART;TZID=America/Los_Angeles:20260517T170000
DTEND;TZID=America/Los_Angeles:20260517T194500
DTSTAMP:20260420T093330
CREATED:20251014T203636Z
LAST-MODIFIED:20251124T201525Z
UID:10001091-1779037200-1779047100@www.clippervacations.com
SUMMARY:Victoria - Seattle
DESCRIPTION:Fares starting at $190
URL:https://www.clippervacations.com/sailing/victoria-seattle-2026-05-17/
LOCATION:Victoria Steamship Terminal\, Steamship Terminal\, Victoria\, British Columbia\, V8V 1W9\, Canada
CATEGORIES:Sailings
END:VEVENT
BEGIN:VEVENT
DTSTART;TZID=America/Los_Angeles:20260518T170000
DTEND;TZID=America/Los_Angeles:20260518T194500
DTSTAMP:20260420T093330
CREATED:20251014T203636Z
LAST-MODIFIED:20251124T201525Z
UID:10001092-1779123600-1779133500@www.clippervacations.com
SUMMARY:Victoria - Seattle
DESCRIPTION:Fares starting at $190
URL:https://www.clippervacations.com/sailing/victoria-seattle-2026-05-18/
LOCATION:Victoria Steamship Terminal\, Steamship Terminal\, Victoria\, British Columbia\, V8V 1W9\, Canada
CATEGORIES:Sailings
END:VEVENT
BEGIN:VEVENT
DTSTART;TZID=America/Los_Angeles:20260519T170000
DTEND;TZID=America/Los_Angeles:20260519T194500
DTSTAMP:20260420T093330
CREATED:20251014T203636Z
LAST-MODIFIED:20251124T201525Z
UID:10001093-1779210000-1779219900@www.clippervacations.com
SUMMARY:Victoria - Seattle
DESCRIPTION:Fares starting at $180
URL:https://www.clippervacations.com/sailing/victoria-seattle-2026-05-19/
LOCATION:Victoria Steamship Terminal\, Steamship Terminal\, Victoria\, British Columbia\, V8V 1W9\, Canada
CATEGORIES:Sailings
END:VEVENT
BEGIN:VEVENT
DTSTART;TZID=America/Los_Angeles:20260520T170000
DTEND;TZID=America/Los_Angeles:20260520T194500
DTSTAMP:20260420T093330
CREATED:20251014T203636Z
LAST-MODIFIED:20251124T201525Z
UID:10001094-1779296400-1779306300@www.clippervacations.com
SUMMARY:Victoria - Seattle
DESCRIPTION:Fares starting at $180
URL:https://www.clippervacations.com/sailing/victoria-seattle-2026-05-20/
LOCATION:Victoria Steamship Terminal\, Steamship Terminal\, Victoria\, British Columbia\, V8V 1W9\, Canada
CATEGORIES:Sailings
END:VEVENT
BEGIN:VEVENT
DTSTART;TZID=America/Los_Angeles:20260521T170000
DTEND;TZID=America/Los_Angeles:20260521T194500
DTSTAMP:20260420T093330
CREATED:20251014T203636Z
LAST-MODIFIED:20260114T194316Z
UID:10001095-1779382800-1779392700@www.clippervacations.com
SUMMARY:Victoria - Seattle
DESCRIPTION:Fares starting at $180
URL:https://www.clippervacations.com/sailing/victoria-seattle-2026-05-21/
LOCATION:Victoria Steamship Terminal\, Steamship Terminal\, Victoria\, British Columbia\, V8V 1W9\, Canada
CATEGORIES:Sailings
END:VEVENT
BEGIN:VEVENT
DTSTART;TZID=America/Los_Angeles:20260522T120000
DTEND;TZID=America/Los_Angeles:20260522T144500
DTSTAMP:20260420T093330
CREATED:20251014T203636Z
LAST-MODIFIED:20260114T194530Z
UID:10001096-1779451200-1779461100@www.clippervacations.com
SUMMARY:Victoria - Seattle
DESCRIPTION:Fares starting at $180
URL:https://www.clippervacations.com/sailing/victoria-seattle-2026-05-22/
LOCATION:Victoria Steamship Terminal\, Steamship Terminal\, Victoria\, British Columbia\, V8V 1W9\, Canada
CATEGORIES:Sailings
END:VEVENT
BEGIN:VEVENT
DTSTART;TZID=America/Los_Angeles:20260523T170000
DTEND;TZID=America/Los_Angeles:20260523T194500
DTSTAMP:20260420T093330
CREATED:20251014T203636Z
LAST-MODIFIED:20251124T201525Z
UID:10001097-1779555600-1779565500@www.clippervacations.com
SUMMARY:Victoria - Seattle
DESCRIPTION:Fares starting at $180
URL:https://www.clippervacations.com/sailing/victoria-seattle-2026-05-23/
LOCATION:Victoria Steamship Terminal\, Steamship Terminal\, Victoria\, British Columbia\, V8V 1W9\, Canada
CATEGORIES:Sailings
END:VEVENT
BEGIN:VEVENT
DTSTART;TZID=America/Los_Angeles:20260524T170000
DTEND;TZID=America/Los_Angeles:20260524T194500
DTSTAMP:20260420T093330
CREATED:20251014T203636Z
LAST-MODIFIED:20251124T201525Z
UID:10001098-1779642000-1779651900@www.clippervacations.com
SUMMARY:Victoria - Seattle
DESCRIPTION:Fares starting at $190
URL:https://www.clippervacations.com/sailing/victoria-seattle-2026-05-24/
LOCATION:Victoria Steamship Terminal\, Steamship Terminal\, Victoria\, British Columbia\, V8V 1W9\, Canada
CATEGORIES:Sailings
END:VEVENT
BEGIN:VEVENT
DTSTART;TZID=America/Los_Angeles:20260525T170000
DTEND;TZID=America/Los_Angeles:20260525T194500
DTSTAMP:20260420T093330
CREATED:20251014T203636Z
LAST-MODIFIED:20251124T201525Z
UID:10001099-1779728400-1779738300@www.clippervacations.com
SUMMARY:Victoria - Seattle
DESCRIPTION:Fares starting at $190
URL:https://www.clippervacations.com/sailing/victoria-seattle-2026-05-25/
LOCATION:Victoria Steamship Terminal\, Steamship Terminal\, Victoria\, British Columbia\, V8V 1W9\, Canada
CATEGORIES:Sailings
END:VEVENT
BEGIN:VEVENT
DTSTART;TZID=America/Los_Angeles:20260526T170000
DTEND;TZID=America/Los_Angeles:20260526T194500
DTSTAMP:20260420T093330
CREATED:20251014T203637Z
LAST-MODIFIED:20251124T201525Z
UID:10001100-1779814800-1779824700@www.clippervacations.com
SUMMARY:Victoria - Seattle
DESCRIPTION:Fares starting at $180
URL:https://www.clippervacations.com/sailing/victoria-seattle-2026-05-26/
LOCATION:Victoria Steamship Terminal\, Steamship Terminal\, Victoria\, British Columbia\, V8V 1W9\, Canada
CATEGORIES:Sailings
END:VEVENT
BEGIN:VEVENT
DTSTART;TZID=America/Los_Angeles:20260527T170000
DTEND;TZID=America/Los_Angeles:20260527T194500
DTSTAMP:20260420T093330
CREATED:20251014T203637Z
LAST-MODIFIED:20251124T201525Z
UID:10001101-1779901200-1779911100@www.clippervacations.com
SUMMARY:Victoria - Seattle
DESCRIPTION:Fares starting at $180
URL:https://www.clippervacations.com/sailing/victoria-seattle-2026-05-27/
LOCATION:Victoria Steamship Terminal\, Steamship Terminal\, Victoria\, British Columbia\, V8V 1W9\, Canada
CATEGORIES:Sailings
END:VEVENT
BEGIN:VEVENT
DTSTART;TZID=America/Los_Angeles:20260528T170000
DTEND;TZID=America/Los_Angeles:20260528T194500
DTSTAMP:20260420T093330
CREATED:20251014T203637Z
LAST-MODIFIED:20260114T194652Z
UID:10001102-1779987600-1779997500@www.clippervacations.com
SUMMARY:Victoria - Seattle
DESCRIPTION:Fares starting at $180
URL:https://www.clippervacations.com/sailing/victoria-seattle-2026-05-28/
LOCATION:Victoria Steamship Terminal\, Steamship Terminal\, Victoria\, British Columbia\, V8V 1W9\, Canada
CATEGORIES:Sailings
END:VEVENT
BEGIN:VEVENT
DTSTART;TZID=America/Los_Angeles:20260529T120000
DTEND;TZID=America/Los_Angeles:20260529T144500
DTSTAMP:20260420T093330
CREATED:20251014T203637Z
LAST-MODIFIED:20260114T194536Z
UID:10001103-1780056000-1780065900@www.clippervacations.com
SUMMARY:Victoria - Seattle
DESCRIPTION:Fares starting at $180
URL:https://www.clippervacations.com/sailing/victoria-seattle-2026-05-29/
LOCATION:Victoria Steamship Terminal\, Steamship Terminal\, Victoria\, British Columbia\, V8V 1W9\, Canada
CATEGORIES:Sailings
END:VEVENT
BEGIN:VEVENT
DTSTART;TZID=America/Los_Angeles:20260530T170000
DTEND;TZID=America/Los_Angeles:20260530T194500
DTSTAMP:20260420T093330
CREATED:20251014T203637Z
LAST-MODIFIED:20251124T201526Z
UID:10001104-1780160400-1780170300@www.clippervacations.com
SUMMARY:Victoria - Seattle
DESCRIPTION:Fares starting at $180
URL:https://www.clippervacations.com/sailing/victoria-seattle-2026-05-30/
LOCATION:Victoria Steamship Terminal\, Steamship Terminal\, Victoria\, British Columbia\, V8V 1W9\, Canada
CATEGORIES:Sailings
END:VEVENT
BEGIN:VEVENT
DTSTART;TZID=America/Los_Angeles:20260531T170000
DTEND;TZID=America/Los_Angeles:20260531T194500
DTSTAMP:20260420T093330
CREATED:20251014T203637Z
LAST-MODIFIED:20251124T201526Z
UID:10001105-1780246800-1780256700@www.clippervacations.com
SUMMARY:Victoria - Seattle
DESCRIPTION:Fares starting at $190
URL:https://www.clippervacations.com/sailing/victoria-seattle-2026-05-31/
LOCATION:Victoria Steamship Terminal\, Steamship Terminal\, Victoria\, British Columbia\, V8V 1W9\, Canada
CATEGORIES:Sailings
END:VEVENT
BEGIN:VEVENT
DTSTART;TZID=America/Los_Angeles:20260601T170000
DTEND;TZID=America/Los_Angeles:20260601T194500
DTSTAMP:20260420T093330
CREATED:20251014T203637Z
LAST-MODIFIED:20251124T201526Z
UID:10001106-1780333200-1780343100@www.clippervacations.com
SUMMARY:Victoria - Seattle
DESCRIPTION:Fares starting at $190
URL:https://www.clippervacations.com/sailing/victoria-seattle-2026-06-01/
LOCATION:Victoria Steamship Terminal\, Steamship Terminal\, Victoria\, British Columbia\, V8V 1W9\, Canada
CATEGORIES:Sailings
END:VEVENT
BEGIN:VEVENT
DTSTART;TZID=America/Los_Angeles:20260602T170000
DTEND;TZID=America/Los_Angeles:20260602T194500
DTSTAMP:20260420T093330
CREATED:20251014T203637Z
LAST-MODIFIED:20251124T201526Z
UID:10001107-1780419600-1780429500@www.clippervacations.com
SUMMARY:Victoria - Seattle
DESCRIPTION:Fares starting at $180
URL:https://www.clippervacations.com/sailing/victoria-seattle-2026-06-02/
LOCATION:Victoria Steamship Terminal\, Steamship Terminal\, Victoria\, British Columbia\, V8V 1W9\, Canada
CATEGORIES:Sailings
END:VEVENT
BEGIN:VEVENT
DTSTART;TZID=America/Los_Angeles:20260603T170000
DTEND;TZID=America/Los_Angeles:20260603T194500
DTSTAMP:20260420T093330
CREATED:20251014T203637Z
LAST-MODIFIED:20251124T201526Z
UID:10001108-1780506000-1780515900@www.clippervacations.com
SUMMARY:Victoria - Seattle
DESCRIPTION:Fares starting at $180
URL:https://www.clippervacations.com/sailing/victoria-seattle-2026-06-03/
LOCATION:Victoria Steamship Terminal\, Steamship Terminal\, Victoria\, British Columbia\, V8V 1W9\, Canada
CATEGORIES:Sailings
END:VEVENT
BEGIN:VEVENT
DTSTART;TZID=America/Los_Angeles:20260604T170000
DTEND;TZID=America/Los_Angeles:20260604T194500
DTSTAMP:20260420T093330
CREATED:20251014T203637Z
LAST-MODIFIED:20260114T194741Z
UID:10001109-1780592400-1780602300@www.clippervacations.com
SUMMARY:Victoria - Seattle
DESCRIPTION:Fares starting at $180
URL:https://www.clippervacations.com/sailing/victoria-seattle-2026-06-04/
LOCATION:Victoria Steamship Terminal\, Steamship Terminal\, Victoria\, British Columbia\, V8V 1W9\, Canada
CATEGORIES:Sailings
END:VEVENT
BEGIN:VEVENT
DTSTART;TZID=America/Los_Angeles:20260605T120000
DTEND;TZID=America/Los_Angeles:20260605T144500
DTSTAMP:20260420T093330
CREATED:20251014T203638Z
LAST-MODIFIED:20260114T194543Z
UID:10001110-1780660800-1780670700@www.clippervacations.com
SUMMARY:Victoria - Seattle
DESCRIPTION:Fares starting at $191
URL:https://www.clippervacations.com/sailing/victoria-seattle-2026-06-05/
LOCATION:Victoria Steamship Terminal\, Steamship Terminal\, Victoria\, British Columbia\, V8V 1W9\, Canada
CATEGORIES:Sailings
END:VEVENT
BEGIN:VEVENT
DTSTART;TZID=America/Los_Angeles:20260606T180000
DTEND;TZID=America/Los_Angeles:20260606T204500
DTSTAMP:20260420T093330
CREATED:20251014T203638Z
LAST-MODIFIED:20251124T201526Z
UID:10001111-1780768800-1780778700@www.clippervacations.com
SUMMARY:Victoria - Seattle
DESCRIPTION:Fares starting at $191
URL:https://www.clippervacations.com/sailing/victoria-seattle-2026-06-06/
LOCATION:Victoria Steamship Terminal\, Steamship Terminal\, Victoria\, British Columbia\, V8V 1W9\, Canada
CATEGORIES:Sailings
END:VEVENT
END:VCALENDAR