BEGIN:VCALENDAR
VERSION:2.0
PRODID:-//Clipper Vacations - ECPv6.10.1.1//NONSGML v1.0//EN
CALSCALE:GREGORIAN
METHOD:PUBLISH
X-WR-CALNAME:Clipper Vacations
X-ORIGINAL-URL:https://www.clippervacations.com
X-WR-CALDESC:Events for Clipper Vacations
REFRESH-INTERVAL;VALUE=DURATION:PT1H
X-Robots-Tag:noindex
X-PUBLISHED-TTL:PT1H
BEGIN:VTIMEZONE
TZID:America/Los_Angeles
BEGIN:DAYLIGHT
TZOFFSETFROM:-0800
TZOFFSETTO:-0700
TZNAME:PDT
DTSTART:20260308T100000
END:DAYLIGHT
BEGIN:STANDARD
TZOFFSETFROM:-0700
TZOFFSETTO:-0800
TZNAME:PST
DTSTART:20261101T090000
END:STANDARD
END:VTIMEZONE
BEGIN:VEVENT
DTSTART;TZID=America/Los_Angeles:20260827T170000
DTEND;TZID=America/Los_Angeles:20260827T194500
DTSTAMP:20260425T115810
CREATED:20251014T203718Z
LAST-MODIFIED:20251124T201532Z
UID:10001193-1787850000-1787859900@www.clippervacations.com
SUMMARY:Victoria - Seattle
DESCRIPTION:Fares starting at $191
URL:https://www.clippervacations.com/sailing/victoria-seattle-2026-08-27/
LOCATION:Victoria Steamship Terminal\, Steamship Terminal\, Victoria\, British Columbia\, V8V 1W9\, Canada
CATEGORIES:Sailings
END:VEVENT
BEGIN:VEVENT
DTSTART;TZID=America/Los_Angeles:20260828T120000
DTEND;TZID=America/Los_Angeles:20260828T144500
DTSTAMP:20260425T115811
CREATED:20251014T203718Z
LAST-MODIFIED:20260114T203953Z
UID:10001194-1787918400-1787928300@www.clippervacations.com
SUMMARY:Victoria - Seattle
DESCRIPTION:Fares starting at $191
URL:https://www.clippervacations.com/sailing/victoria-seattle-2026-08-28/
LOCATION:Victoria Steamship Terminal\, Steamship Terminal\, Victoria\, British Columbia\, V8V 1W9\, Canada
CATEGORIES:Sailings
END:VEVENT
BEGIN:VEVENT
DTSTART;TZID=America/Los_Angeles:20260829T180000
DTEND;TZID=America/Los_Angeles:20260829T204500
DTSTAMP:20260425T115811
CREATED:20251014T203718Z
LAST-MODIFIED:20251124T201532Z
UID:10001195-1788026400-1788036300@www.clippervacations.com
SUMMARY:Victoria - Seattle
DESCRIPTION:Fares starting at $191
URL:https://www.clippervacations.com/sailing/victoria-seattle-2026-08-29/
LOCATION:Victoria Steamship Terminal\, Steamship Terminal\, Victoria\, British Columbia\, V8V 1W9\, Canada
CATEGORIES:Sailings
END:VEVENT
BEGIN:VEVENT
DTSTART;TZID=America/Los_Angeles:20260830T170000
DTEND;TZID=America/Los_Angeles:20260830T194500
DTSTAMP:20260425T115811
CREATED:20251014T203718Z
LAST-MODIFIED:20251124T201532Z
UID:10001196-1788109200-1788119100@www.clippervacations.com
SUMMARY:Victoria - Seattle
DESCRIPTION:Fares starting at $201
URL:https://www.clippervacations.com/sailing/victoria-seattle-2026-08-30/
LOCATION:Victoria Steamship Terminal\, Steamship Terminal\, Victoria\, British Columbia\, V8V 1W9\, Canada
CATEGORIES:Sailings
END:VEVENT
BEGIN:VEVENT
DTSTART;TZID=America/Los_Angeles:20260831T170000
DTEND;TZID=America/Los_Angeles:20260831T194500
DTSTAMP:20260425T115811
CREATED:20251014T203718Z
LAST-MODIFIED:20251124T201532Z
UID:10001197-1788195600-1788205500@www.clippervacations.com
SUMMARY:Victoria - Seattle
DESCRIPTION:Fares starting at $201
URL:https://www.clippervacations.com/sailing/victoria-seattle-2026-08-31/
LOCATION:Victoria Steamship Terminal\, Steamship Terminal\, Victoria\, British Columbia\, V8V 1W9\, Canada
CATEGORIES:Sailings
END:VEVENT
BEGIN:VEVENT
DTSTART;TZID=America/Los_Angeles:20260901T170000
DTEND;TZID=America/Los_Angeles:20260901T194500
DTSTAMP:20260425T115811
CREATED:20251014T203718Z
LAST-MODIFIED:20251124T201532Z
UID:10001198-1788282000-1788291900@www.clippervacations.com
SUMMARY:Victoria - Seattle
DESCRIPTION:Fares starting at $191
URL:https://www.clippervacations.com/sailing/victoria-seattle-2026-09-01/
LOCATION:Victoria Steamship Terminal\, Steamship Terminal\, Victoria\, British Columbia\, V8V 1W9\, Canada
CATEGORIES:Sailings
END:VEVENT
BEGIN:VEVENT
DTSTART;TZID=America/Los_Angeles:20260902T170000
DTEND;TZID=America/Los_Angeles:20260902T194500
DTSTAMP:20260425T115811
CREATED:20251014T203718Z
LAST-MODIFIED:20251124T201532Z
UID:10001199-1788368400-1788378300@www.clippervacations.com
SUMMARY:Victoria - Seattle
DESCRIPTION:Fares starting at $191
URL:https://www.clippervacations.com/sailing/victoria-seattle-2026-09-02/
LOCATION:Victoria Steamship Terminal\, Steamship Terminal\, Victoria\, British Columbia\, V8V 1W9\, Canada
CATEGORIES:Sailings
END:VEVENT
BEGIN:VEVENT
DTSTART;TZID=America/Los_Angeles:20260903T170000
DTEND;TZID=America/Los_Angeles:20260903T194500
DTSTAMP:20260425T115811
CREATED:20251014T203718Z
LAST-MODIFIED:20260114T204130Z
UID:10001200-1788454800-1788464700@www.clippervacations.com
SUMMARY:Victoria - Seattle
DESCRIPTION:Fares starting at $191
URL:https://www.clippervacations.com/sailing/victoria-seattle-2026-09-03/
LOCATION:Victoria Steamship Terminal\, Steamship Terminal\, Victoria\, British Columbia\, V8V 1W9\, Canada
CATEGORIES:Sailings
END:VEVENT
BEGIN:VEVENT
DTSTART;TZID=America/Los_Angeles:20260904T120000
DTEND;TZID=America/Los_Angeles:20260904T144500
DTSTAMP:20260425T115811
CREATED:20251014T203718Z
LAST-MODIFIED:20260114T204229Z
UID:10001201-1788523200-1788533100@www.clippervacations.com
SUMMARY:Victoria - Seattle
DESCRIPTION:Fares starting at $201
URL:https://www.clippervacations.com/sailing/victoria-seattle-2026-09-04/
LOCATION:Victoria Steamship Terminal\, Steamship Terminal\, Victoria\, British Columbia\, V8V 1W9\, Canada
CATEGORIES:Sailings
END:VEVENT
BEGIN:VEVENT
DTSTART;TZID=America/Los_Angeles:20260905T170000
DTEND;TZID=America/Los_Angeles:20260905T194500
DTSTAMP:20260425T115811
CREATED:20251014T203718Z
LAST-MODIFIED:20251124T201533Z
UID:10001202-1788627600-1788637500@www.clippervacations.com
SUMMARY:Victoria - Seattle
DESCRIPTION:Fares starting at $201
URL:https://www.clippervacations.com/sailing/victoria-seattle-2026-09-05/
LOCATION:Victoria Steamship Terminal\, Steamship Terminal\, Victoria\, British Columbia\, V8V 1W9\, Canada
CATEGORIES:Sailings
END:VEVENT
BEGIN:VEVENT
DTSTART;TZID=America/Los_Angeles:20260906T170000
DTEND;TZID=America/Los_Angeles:20260906T194500
DTSTAMP:20260425T115811
CREATED:20251014T203719Z
LAST-MODIFIED:20251124T201533Z
UID:10001203-1788714000-1788723900@www.clippervacations.com
SUMMARY:Victoria - Seattle
DESCRIPTION:Fares starting at $201
URL:https://www.clippervacations.com/sailing/victoria-seattle-2026-09-06/
LOCATION:Victoria Steamship Terminal\, Steamship Terminal\, Victoria\, British Columbia\, V8V 1W9\, Canada
CATEGORIES:Sailings
END:VEVENT
BEGIN:VEVENT
DTSTART;TZID=America/Los_Angeles:20260907T170000
DTEND;TZID=America/Los_Angeles:20260907T194500
DTSTAMP:20260425T115811
CREATED:20251014T203719Z
LAST-MODIFIED:20251124T201352Z
UID:10001204-1788800400-1788810300@www.clippervacations.com
SUMMARY:Victoria - Seattle
DESCRIPTION:Fares starting at $201
URL:https://www.clippervacations.com/sailing/victoria-seattle-2026-09-07/
LOCATION:Victoria Steamship Terminal\, Steamship Terminal\, Victoria\, British Columbia\, V8V 1W9\, Canada
CATEGORIES:Sailings
END:VEVENT
BEGIN:VEVENT
DTSTART;TZID=America/Los_Angeles:20260908T170000
DTEND;TZID=America/Los_Angeles:20260908T194500
DTSTAMP:20260425T115811
CREATED:20251014T203719Z
LAST-MODIFIED:20251124T201352Z
UID:10001205-1788886800-1788896700@www.clippervacations.com
SUMMARY:Victoria - Seattle
DESCRIPTION:Fares starting at $191
URL:https://www.clippervacations.com/sailing/victoria-seattle-2026-09-08/
LOCATION:Victoria Steamship Terminal\, Steamship Terminal\, Victoria\, British Columbia\, V8V 1W9\, Canada
CATEGORIES:Sailings
END:VEVENT
BEGIN:VEVENT
DTSTART;TZID=America/Los_Angeles:20260909T170000
DTEND;TZID=America/Los_Angeles:20260909T194500
DTSTAMP:20260425T115811
CREATED:20251014T203719Z
LAST-MODIFIED:20251124T201353Z
UID:10001206-1788973200-1788983100@www.clippervacations.com
SUMMARY:Victoria - Seattle
DESCRIPTION:Fares starting at $191
URL:https://www.clippervacations.com/sailing/victoria-seattle-2026-09-09/
LOCATION:Victoria Steamship Terminal\, Steamship Terminal\, Victoria\, British Columbia\, V8V 1W9\, Canada
CATEGORIES:Sailings
END:VEVENT
BEGIN:VEVENT
DTSTART;TZID=America/Los_Angeles:20260910T170000
DTEND;TZID=America/Los_Angeles:20260910T194500
DTSTAMP:20260425T115811
CREATED:20251014T203719Z
LAST-MODIFIED:20260114T204128Z
UID:10001207-1789059600-1789069500@www.clippervacations.com
SUMMARY:Victoria - Seattle
DESCRIPTION:Fares starting at $191
URL:https://www.clippervacations.com/sailing/victoria-seattle-2026-09-10/
LOCATION:Victoria Steamship Terminal\, Steamship Terminal\, Victoria\, British Columbia\, V8V 1W9\, Canada
CATEGORIES:Sailings
END:VEVENT
BEGIN:VEVENT
DTSTART;TZID=America/Los_Angeles:20260911T120000
DTEND;TZID=America/Los_Angeles:20260911T144500
DTSTAMP:20260425T115811
CREATED:20251014T203719Z
LAST-MODIFIED:20260114T204226Z
UID:10001208-1789128000-1789137900@www.clippervacations.com
SUMMARY:Victoria - Seattle
DESCRIPTION:Fares starting at $191
URL:https://www.clippervacations.com/sailing/victoria-seattle-2026-09-11/
LOCATION:Victoria Steamship Terminal\, Steamship Terminal\, Victoria\, British Columbia\, V8V 1W9\, Canada
CATEGORIES:Sailings
END:VEVENT
BEGIN:VEVENT
DTSTART;TZID=America/Los_Angeles:20260912T170000
DTEND;TZID=America/Los_Angeles:20260912T194500
DTSTAMP:20260425T115811
CREATED:20251014T203719Z
LAST-MODIFIED:20251124T201353Z
UID:10001209-1789232400-1789242300@www.clippervacations.com
SUMMARY:Victoria - Seattle
DESCRIPTION:Fares starting at $191
URL:https://www.clippervacations.com/sailing/victoria-seattle-2026-09-12/
LOCATION:Victoria Steamship Terminal\, Steamship Terminal\, Victoria\, British Columbia\, V8V 1W9\, Canada
CATEGORIES:Sailings
END:VEVENT
BEGIN:VEVENT
DTSTART;TZID=America/Los_Angeles:20260913T170000
DTEND;TZID=America/Los_Angeles:20260913T194500
DTSTAMP:20260425T115811
CREATED:20251014T203719Z
LAST-MODIFIED:20251124T201353Z
UID:10001210-1789318800-1789328700@www.clippervacations.com
SUMMARY:Victoria - Seattle
DESCRIPTION:Fares starting at $201
URL:https://www.clippervacations.com/sailing/victoria-seattle-2026-09-13/
LOCATION:Victoria Steamship Terminal\, Steamship Terminal\, Victoria\, British Columbia\, V8V 1W9\, Canada
CATEGORIES:Sailings
END:VEVENT
BEGIN:VEVENT
DTSTART;TZID=America/Los_Angeles:20260914T170000
DTEND;TZID=America/Los_Angeles:20260914T194500
DTSTAMP:20260425T115811
CREATED:20251014T203719Z
LAST-MODIFIED:20251124T201353Z
UID:10001211-1789405200-1789415100@www.clippervacations.com
SUMMARY:Victoria - Seattle
DESCRIPTION:Fares starting at $201
URL:https://www.clippervacations.com/sailing/victoria-seattle-2026-09-14/
LOCATION:Victoria Steamship Terminal\, Steamship Terminal\, Victoria\, British Columbia\, V8V 1W9\, Canada
CATEGORIES:Sailings
END:VEVENT
BEGIN:VEVENT
DTSTART;TZID=America/Los_Angeles:20260915T170000
DTEND;TZID=America/Los_Angeles:20260915T194500
DTSTAMP:20260425T115811
CREATED:20251014T203719Z
LAST-MODIFIED:20251124T201353Z
UID:10001212-1789491600-1789501500@www.clippervacations.com
SUMMARY:Victoria - Seattle
DESCRIPTION:Fares starting at $160
URL:https://www.clippervacations.com/sailing/victoria-seattle-2026-09-15/
LOCATION:Victoria Steamship Terminal\, Steamship Terminal\, Victoria\, British Columbia\, V8V 1W9\, Canada
CATEGORIES:Sailings
END:VEVENT
BEGIN:VEVENT
DTSTART;TZID=America/Los_Angeles:20260916T170000
DTEND;TZID=America/Los_Angeles:20260916T194500
DTSTAMP:20260425T115811
CREATED:20251014T203720Z
LAST-MODIFIED:20251124T201353Z
UID:10001213-1789578000-1789587900@www.clippervacations.com
SUMMARY:Victoria - Seattle
DESCRIPTION:Fares starting at $160
URL:https://www.clippervacations.com/sailing/victoria-seattle-2026-09-16/
LOCATION:Victoria Steamship Terminal\, Steamship Terminal\, Victoria\, British Columbia\, V8V 1W9\, Canada
CATEGORIES:Sailings
END:VEVENT
BEGIN:VEVENT
DTSTART;TZID=America/Los_Angeles:20260917T170000
DTEND;TZID=America/Los_Angeles:20260917T194500
DTSTAMP:20260425T115811
CREATED:20251014T203720Z
LAST-MODIFIED:20260114T204126Z
UID:10001214-1789664400-1789674300@www.clippervacations.com
SUMMARY:Victoria - Seattle
DESCRIPTION:Fares starting at $160
URL:https://www.clippervacations.com/sailing/victoria-seattle-2026-09-17/
LOCATION:Victoria Steamship Terminal\, Steamship Terminal\, Victoria\, British Columbia\, V8V 1W9\, Canada
CATEGORIES:Sailings
END:VEVENT
BEGIN:VEVENT
DTSTART;TZID=America/Los_Angeles:20260918T120000
DTEND;TZID=America/Los_Angeles:20260918T144500
DTSTAMP:20260425T115811
CREATED:20251014T203720Z
LAST-MODIFIED:20260114T204224Z
UID:10001215-1789732800-1789742700@www.clippervacations.com
SUMMARY:Victoria - Seattle
DESCRIPTION:Fares starting at $160
URL:https://www.clippervacations.com/sailing/victoria-seattle-2026-09-18/
LOCATION:Victoria Steamship Terminal\, Steamship Terminal\, Victoria\, British Columbia\, V8V 1W9\, Canada
CATEGORIES:Sailings
END:VEVENT
BEGIN:VEVENT
DTSTART;TZID=America/Los_Angeles:20260919T170000
DTEND;TZID=America/Los_Angeles:20260919T194500
DTSTAMP:20260425T115811
CREATED:20251014T203720Z
LAST-MODIFIED:20251124T201353Z
UID:10001216-1789837200-1789847100@www.clippervacations.com
SUMMARY:Victoria - Seattle
DESCRIPTION:Fares starting at $160
URL:https://www.clippervacations.com/sailing/victoria-seattle-2026-09-19/
LOCATION:Victoria Steamship Terminal\, Steamship Terminal\, Victoria\, British Columbia\, V8V 1W9\, Canada
CATEGORIES:Sailings
END:VEVENT
BEGIN:VEVENT
DTSTART;TZID=America/Los_Angeles:20260920T170000
DTEND;TZID=America/Los_Angeles:20260920T194500
DTSTAMP:20260425T115811
CREATED:20251014T203720Z
LAST-MODIFIED:20251124T201353Z
UID:10001217-1789923600-1789933500@www.clippervacations.com
SUMMARY:Victoria - Seattle
DESCRIPTION:Fares starting at $180
URL:https://www.clippervacations.com/sailing/victoria-seattle-2026-09-20/
LOCATION:Victoria Steamship Terminal\, Steamship Terminal\, Victoria\, British Columbia\, V8V 1W9\, Canada
CATEGORIES:Sailings
END:VEVENT
BEGIN:VEVENT
DTSTART;TZID=America/Los_Angeles:20260921T170000
DTEND;TZID=America/Los_Angeles:20260921T194500
DTSTAMP:20260425T115811
CREATED:20251014T203720Z
LAST-MODIFIED:20251124T201353Z
UID:10001218-1790010000-1790019900@www.clippervacations.com
SUMMARY:Victoria - Seattle
DESCRIPTION:Fares starting at $180
URL:https://www.clippervacations.com/sailing/victoria-seattle-2026-09-21/
LOCATION:Victoria Steamship Terminal\, Steamship Terminal\, Victoria\, British Columbia\, V8V 1W9\, Canada
CATEGORIES:Sailings
END:VEVENT
BEGIN:VEVENT
DTSTART;TZID=America/Los_Angeles:20260922T170000
DTEND;TZID=America/Los_Angeles:20260922T194500
DTSTAMP:20260425T115811
CREATED:20251014T203720Z
LAST-MODIFIED:20251124T201353Z
UID:10001219-1790096400-1790106300@www.clippervacations.com
SUMMARY:Victoria - Seattle
DESCRIPTION:Fares starting at $160
URL:https://www.clippervacations.com/sailing/victoria-seattle-2026-09-22/
LOCATION:Victoria Steamship Terminal\, Steamship Terminal\, Victoria\, British Columbia\, V8V 1W9\, Canada
CATEGORIES:Sailings
END:VEVENT
BEGIN:VEVENT
DTSTART;TZID=America/Los_Angeles:20260923T170000
DTEND;TZID=America/Los_Angeles:20260923T194500
DTSTAMP:20260425T115811
CREATED:20251014T203720Z
LAST-MODIFIED:20251124T201353Z
UID:10001220-1790182800-1790192700@www.clippervacations.com
SUMMARY:Victoria - Seattle
DESCRIPTION:Fares starting at $160
URL:https://www.clippervacations.com/sailing/victoria-seattle-2026-09-23/
LOCATION:Victoria Steamship Terminal\, Steamship Terminal\, Victoria\, British Columbia\, V8V 1W9\, Canada
CATEGORIES:Sailings
END:VEVENT
BEGIN:VEVENT
DTSTART;TZID=America/Los_Angeles:20260924T170000
DTEND;TZID=America/Los_Angeles:20260924T194500
DTSTAMP:20260425T115811
CREATED:20251014T203720Z
LAST-MODIFIED:20260114T204124Z
UID:10001221-1790269200-1790279100@www.clippervacations.com
SUMMARY:Victoria - Seattle
DESCRIPTION:Fares starting at $160
URL:https://www.clippervacations.com/sailing/victoria-seattle-2026-09-24/
LOCATION:Victoria Steamship Terminal\, Steamship Terminal\, Victoria\, British Columbia\, V8V 1W9\, Canada
CATEGORIES:Sailings
END:VEVENT
BEGIN:VEVENT
DTSTART;TZID=America/Los_Angeles:20260925T120000
DTEND;TZID=America/Los_Angeles:20260925T144500
DTSTAMP:20260425T115811
CREATED:20251014T203720Z
LAST-MODIFIED:20260114T204222Z
UID:10001222-1790337600-1790347500@www.clippervacations.com
SUMMARY:Victoria - Seattle
DESCRIPTION:Fares starting at $160
URL:https://www.clippervacations.com/sailing/victoria-seattle-2026-09-25/
LOCATION:Victoria Steamship Terminal\, Steamship Terminal\, Victoria\, British Columbia\, V8V 1W9\, Canada
CATEGORIES:Sailings
END:VEVENT
END:VCALENDAR