BEGIN:VCALENDAR
VERSION:2.0
PRODID:-//Clipper Vacations - ECPv6.10.1.1//NONSGML v1.0//EN
CALSCALE:GREGORIAN
METHOD:PUBLISH
X-WR-CALNAME:Clipper Vacations
X-ORIGINAL-URL:https://www.clippervacations.com
X-WR-CALDESC:Events for Clipper Vacations
REFRESH-INTERVAL;VALUE=DURATION:PT1H
X-Robots-Tag:noindex
X-PUBLISHED-TTL:PT1H
BEGIN:VTIMEZONE
TZID:America/Los_Angeles
BEGIN:DAYLIGHT
TZOFFSETFROM:-0800
TZOFFSETTO:-0700
TZNAME:PDT
DTSTART:20250309T100000
END:DAYLIGHT
BEGIN:STANDARD
TZOFFSETFROM:-0700
TZOFFSETTO:-0800
TZNAME:PST
DTSTART:20251102T090000
END:STANDARD
END:VTIMEZONE
BEGIN:VEVENT
DTSTART;TZID=America/Los_Angeles:20251002T133000
DTEND;TZID=America/Los_Angeles:20251002T161500
DTSTAMP:20260425T064554
CREATED:20250405T011303Z
LAST-MODIFIED:20251124T201621Z
UID:10000555-1759411800-1759421700@www.clippervacations.com
SUMMARY:Victoria - Seattle
DESCRIPTION:Fares starting at $155.00
URL:https://www.clippervacations.com/sailing/victoria-seattle-2025-10-02/
LOCATION:Victoria Steamship Terminal\, Steamship Terminal\, Victoria\, British Columbia\, V8V 1W9\, Canada
CATEGORIES:Sailings,Soundbound
END:VEVENT
BEGIN:VEVENT
DTSTART;TZID=America/Los_Angeles:20251003T170000
DTEND;TZID=America/Los_Angeles:20251003T194500
DTSTAMP:20260425T064554
CREATED:20250405T011133Z
LAST-MODIFIED:20251124T201621Z
UID:10000524-1759510800-1759520700@www.clippervacations.com
SUMMARY:Victoria - Seattle
DESCRIPTION:Fares starting at $155.00
URL:https://www.clippervacations.com/sailing/victoria-seattle-2025-10-03/
LOCATION:Victoria Steamship Terminal\, Steamship Terminal\, Victoria\, British Columbia\, V8V 1W9\, Canada
CATEGORIES:Sailings,Soundbound
END:VEVENT
BEGIN:VEVENT
DTSTART;TZID=America/Los_Angeles:20251004T170000
DTEND;TZID=America/Los_Angeles:20251004T194500
DTSTAMP:20260425T064554
CREATED:20250405T011135Z
LAST-MODIFIED:20251124T201621Z
UID:10000525-1759597200-1759607100@www.clippervacations.com
SUMMARY:Victoria - Seattle
DESCRIPTION:Fares starting at $155.00
URL:https://www.clippervacations.com/sailing/victoria-seattle-2025-10-04/
LOCATION:Victoria Steamship Terminal\, Steamship Terminal\, Victoria\, British Columbia\, V8V 1W9\, Canada
CATEGORIES:Sailings,Soundbound
END:VEVENT
BEGIN:VEVENT
DTSTART;TZID=America/Los_Angeles:20251005T170000
DTEND;TZID=America/Los_Angeles:20251005T194500
DTSTAMP:20260425T064554
CREATED:20250405T011138Z
LAST-MODIFIED:20251124T201621Z
UID:10000526-1759683600-1759693500@www.clippervacations.com
SUMMARY:Victoria - Seattle
DESCRIPTION:Fares starting at $175.00
URL:https://www.clippervacations.com/sailing/victoria-seattle-2025-10-05/
LOCATION:Victoria Steamship Terminal\, Steamship Terminal\, Victoria\, British Columbia\, V8V 1W9\, Canada
CATEGORIES:Sailings,Soundbound
END:VEVENT
BEGIN:VEVENT
DTSTART;TZID=America/Los_Angeles:20251006T170000
DTEND;TZID=America/Los_Angeles:20251006T194500
DTSTAMP:20260425T064554
CREATED:20250405T011140Z
LAST-MODIFIED:20251124T201621Z
UID:10000527-1759770000-1759779900@www.clippervacations.com
SUMMARY:Victoria - Seattle
DESCRIPTION:Fares starting at $155.00
URL:https://www.clippervacations.com/sailing/victoria-seattle-2025-10-06/
LOCATION:Victoria Steamship Terminal\, Steamship Terminal\, Victoria\, British Columbia\, V8V 1W9\, Canada
CATEGORIES:Sailings,Soundbound
END:VEVENT
BEGIN:VEVENT
DTSTART;TZID=America/Los_Angeles:20251009T133000
DTEND;TZID=America/Los_Angeles:20251009T161500
DTSTAMP:20260425T064554
CREATED:20250405T011305Z
LAST-MODIFIED:20251124T201621Z
UID:10000556-1760016600-1760026500@www.clippervacations.com
SUMMARY:Victoria - Seattle
DESCRIPTION:Fares starting at $155.00
URL:https://www.clippervacations.com/sailing/victoria-seattle-2025-10-09/
LOCATION:Victoria Steamship Terminal\, Steamship Terminal\, Victoria\, British Columbia\, V8V 1W9\, Canada
CATEGORIES:Sailings,Soundbound
END:VEVENT
BEGIN:VEVENT
DTSTART;TZID=America/Los_Angeles:20251010T170000
DTEND;TZID=America/Los_Angeles:20251010T194500
DTSTAMP:20260425T064554
CREATED:20250405T011147Z
LAST-MODIFIED:20251124T201621Z
UID:10000530-1760115600-1760125500@www.clippervacations.com
SUMMARY:Victoria - Seattle
DESCRIPTION:Fares starting at $155.00
URL:https://www.clippervacations.com/sailing/victoria-seattle-2025-10-10/
LOCATION:Victoria Steamship Terminal\, Steamship Terminal\, Victoria\, British Columbia\, V8V 1W9\, Canada
CATEGORIES:Sailings,Soundbound
END:VEVENT
BEGIN:VEVENT
DTSTART;TZID=America/Los_Angeles:20251011T080000
DTEND;TZID=America/Los_Angeles:20251011T110000
DTSTAMP:20260425T064554
CREATED:20251014T203629Z
LAST-MODIFIED:20251124T201719Z
UID:10000783-1760169600-1760180400@www.clippervacations.com
SUMMARY:Seattle – Victoria
DESCRIPTION:
URL:https://www.clippervacations.com/sailing/seattle-victoria-6/
LOCATION:Seattle Clipper Terminal\, 2701 Alaskan Way\, Pier 69\, Seattle\, WA\, 98121\, United States
CATEGORIES:Northbound,Sailings
END:VEVENT
END:VCALENDAR