BEGIN:VCALENDAR
VERSION:2.0
PRODID:-//Clipper Vacations - ECPv6.10.1.1//NONSGML v1.0//EN
CALSCALE:GREGORIAN
METHOD:PUBLISH
X-ORIGINAL-URL:https://www.clippervacations.com
X-WR-CALDESC:Events for Clipper Vacations
REFRESH-INTERVAL;VALUE=DURATION:PT1H
X-Robots-Tag:noindex
X-PUBLISHED-TTL:PT1H
BEGIN:VTIMEZONE
TZID:America/Los_Angeles
BEGIN:DAYLIGHT
TZOFFSETFROM:-0800
TZOFFSETTO:-0700
TZNAME:PDT
DTSTART:20260308T100000
END:DAYLIGHT
BEGIN:STANDARD
TZOFFSETFROM:-0700
TZOFFSETTO:-0800
TZNAME:PST
DTSTART:20261101T090000
END:STANDARD
END:VTIMEZONE
BEGIN:VEVENT
DTSTART;TZID=America/Los_Angeles:20260927T121000
DTEND;TZID=America/Los_Angeles:20260927T151000
DTSTAMP:20260419T175056
CREATED:20251230T224345Z
LAST-MODIFIED:20251231T001117Z
UID:10001380-1790511000-1790521800@www.clippervacations.com
SUMMARY:Seattle Mariners vs Los Angeles Angels
DESCRIPTION:Purchase tickets
URL:https://www.clippervacations.com/sailing/seattle-mariners-vs-los-angeles-angels-2026-09-27/
LOCATION:WA
CATEGORIES:Seattle,Seattle Mariners
END:VEVENT
BEGIN:VEVENT
DTSTART;TZID=America/Los_Angeles:20260927T170000
DTEND;TZID=America/Los_Angeles:20260927T194500
DTSTAMP:20260419T175056
CREATED:20251014T203721Z
LAST-MODIFIED:20251124T201354Z
UID:10001224-1790528400-1790538300@www.clippervacations.com
SUMMARY:Victoria - Seattle
DESCRIPTION:Fares starting at $180
URL:https://www.clippervacations.com/sailing/victoria-seattle-2026-09-27/
LOCATION:Victoria Steamship Terminal\, Steamship Terminal\, Victoria\, British Columbia\, V8V 1W9\, Canada
CATEGORIES:Sailings
END:VEVENT
BEGIN:VEVENT
DTSTART;TZID=America/Los_Angeles:20260928T080000
DTEND;TZID=America/Los_Angeles:20260928T110000
DTSTAMP:20260419T175056
CREATED:20251014T203452Z
LAST-MODIFIED:20251124T201714Z
UID:10000973-1790582400-1790593200@www.clippervacations.com
SUMMARY:Seattle - Victoria
DESCRIPTION:Fares starting at $179
URL:https://www.clippervacations.com/sailing/seattle-victoria-2026-09-28/
LOCATION:Seattle Clipper Terminal\, 2701 Alaskan Way\, Pier 69\, Seattle\, WA\, 98121\, United States
CATEGORIES:Sailings
END:VEVENT
BEGIN:VEVENT
DTSTART;TZID=America/Los_Angeles:20260928T170000
DTEND;TZID=America/Los_Angeles:20260928T194500
DTSTAMP:20260419T175056
CREATED:20251014T203721Z
LAST-MODIFIED:20251124T201354Z
UID:10001225-1790614800-1790624700@www.clippervacations.com
SUMMARY:Victoria - Seattle
DESCRIPTION:Fares starting at $180
URL:https://www.clippervacations.com/sailing/victoria-seattle-2026-09-28/
LOCATION:Victoria Steamship Terminal\, Steamship Terminal\, Victoria\, British Columbia\, V8V 1W9\, Canada
CATEGORIES:Sailings
END:VEVENT
BEGIN:VEVENT
DTSTART;TZID=America/Los_Angeles:20260929T080000
DTEND;TZID=America/Los_Angeles:20260929T110000
DTSTAMP:20260419T175056
CREATED:20251014T203452Z
LAST-MODIFIED:20251124T201714Z
UID:10000974-1790668800-1790679600@www.clippervacations.com
SUMMARY:Seattle - Victoria
DESCRIPTION:Fares starting at $179
URL:https://www.clippervacations.com/sailing/seattle-victoria-2026-09-29/
LOCATION:Seattle Clipper Terminal\, 2701 Alaskan Way\, Pier 69\, Seattle\, WA\, 98121\, United States
CATEGORIES:Sailings
END:VEVENT
BEGIN:VEVENT
DTSTART;TZID=America/Los_Angeles:20260929T170000
DTEND;TZID=America/Los_Angeles:20260929T194500
DTSTAMP:20260419T175056
CREATED:20251014T203721Z
LAST-MODIFIED:20251124T201354Z
UID:10001226-1790701200-1790711100@www.clippervacations.com
SUMMARY:Victoria - Seattle
DESCRIPTION:Fares starting at $160
URL:https://www.clippervacations.com/sailing/victoria-seattle-2026-09-29/
LOCATION:Victoria Steamship Terminal\, Steamship Terminal\, Victoria\, British Columbia\, V8V 1W9\, Canada
CATEGORIES:Sailings
END:VEVENT
BEGIN:VEVENT
DTSTART;TZID=America/Los_Angeles:20260930T080000
DTEND;TZID=America/Los_Angeles:20260930T110000
DTSTAMP:20260419T175056
CREATED:20251014T203452Z
LAST-MODIFIED:20251124T201714Z
UID:10000975-1790755200-1790766000@www.clippervacations.com
SUMMARY:Seattle - Victoria
DESCRIPTION:Fares starting at $179
URL:https://www.clippervacations.com/sailing/seattle-victoria-2026-09-30/
LOCATION:Seattle Clipper Terminal\, 2701 Alaskan Way\, Pier 69\, Seattle\, WA\, 98121\, United States
CATEGORIES:Sailings
END:VEVENT
BEGIN:VEVENT
DTSTART;TZID=America/Los_Angeles:20260930T170000
DTEND;TZID=America/Los_Angeles:20260930T194500
DTSTAMP:20260419T175056
CREATED:20251014T203721Z
LAST-MODIFIED:20251124T201354Z
UID:10001227-1790787600-1790797500@www.clippervacations.com
SUMMARY:Victoria - Seattle
DESCRIPTION:Fares starting at $160
URL:https://www.clippervacations.com/sailing/victoria-seattle-2026-09-30/
LOCATION:Victoria Steamship Terminal\, Steamship Terminal\, Victoria\, British Columbia\, V8V 1W9\, Canada
CATEGORIES:Sailings
END:VEVENT
BEGIN:VEVENT
DTSTART;TZID=America/Los_Angeles:20261001T080000
DTEND;TZID=America/Los_Angeles:20261001T110000
DTSTAMP:20260419T175056
CREATED:20251014T203452Z
LAST-MODIFIED:20251124T201714Z
UID:10000976-1790841600-1790852400@www.clippervacations.com
SUMMARY:Seattle - Victoria
DESCRIPTION:Fares starting at $179
URL:https://www.clippervacations.com/sailing/seattle-victoria-2026-10-01/
LOCATION:Seattle Clipper Terminal\, 2701 Alaskan Way\, Pier 69\, Seattle\, WA\, 98121\, United States
CATEGORIES:Sailings
END:VEVENT
BEGIN:VEVENT
DTSTART;TZID=America/Los_Angeles:20261001T170000
DTEND;TZID=America/Los_Angeles:20261001T194500
DTSTAMP:20260419T175056
CREATED:20251014T203721Z
LAST-MODIFIED:20260114T204455Z
UID:10001228-1790874000-1790883900@www.clippervacations.com
SUMMARY:Victoria - Seattle
DESCRIPTION:Fares starting at $160
URL:https://www.clippervacations.com/sailing/victoria-seattle-2026-10-01/
LOCATION:Victoria Steamship Terminal\, Steamship Terminal\, Victoria\, British Columbia\, V8V 1W9\, Canada
CATEGORIES:Sailings
END:VEVENT
BEGIN:VEVENT
DTSTART;TZID=America/Los_Angeles:20261002T080000
DTEND;TZID=America/Los_Angeles:20261002T110000
DTSTAMP:20260419T175056
CREATED:20251014T203452Z
LAST-MODIFIED:20251124T201714Z
UID:10000977-1790928000-1790938800@www.clippervacations.com
SUMMARY:Seattle - Victoria
DESCRIPTION:Fares starting at $189
URL:https://www.clippervacations.com/sailing/seattle-victoria-2026-10-02/
LOCATION:Seattle Clipper Terminal\, 2701 Alaskan Way\, Pier 69\, Seattle\, WA\, 98121\, United States
CATEGORIES:Sailings
END:VEVENT
BEGIN:VEVENT
DTSTART;TZID=America/Los_Angeles:20261002T120000
DTEND;TZID=America/Los_Angeles:20261002T144500
DTSTAMP:20260419T175056
CREATED:20251014T203721Z
LAST-MODIFIED:20260114T204406Z
UID:10001229-1790942400-1790952300@www.clippervacations.com
SUMMARY:Victoria - Seattle
DESCRIPTION:Fares starting at $160
URL:https://www.clippervacations.com/sailing/victoria-seattle-2026-10-02/
LOCATION:Victoria Steamship Terminal\, Steamship Terminal\, Victoria\, British Columbia\, V8V 1W9\, Canada
CATEGORIES:Sailings
END:VEVENT
BEGIN:VEVENT
DTSTART;TZID=America/Los_Angeles:20261002T183000
DTEND;TZID=America/Los_Angeles:20261002T223000
DTSTAMP:20260419T175056
CREATED:20260122T073703Z
LAST-MODIFIED:20260122T073703Z
UID:10001434-1790965800-1790980200@www.clippervacations.com
SUMMARY:Tyler Childers - Snipe Hunt
DESCRIPTION:Purchase Tickets
URL:https://www.clippervacations.com/sailing/tyler-childers-snipe-hunt/
LOCATION:Climate Pledge Arena\, 334 1st Ave N\, Seattle\, WA\, 98109\, United States
CATEGORIES:Events,Seattle,Seattle Concerts
END:VEVENT
BEGIN:VEVENT
DTSTART;TZID=America/Los_Angeles:20261003T080000
DTEND;TZID=America/Los_Angeles:20261003T110000
DTSTAMP:20260419T175056
CREATED:20251014T203452Z
LAST-MODIFIED:20251124T201714Z
UID:10000978-1791014400-1791025200@www.clippervacations.com
SUMMARY:Seattle - Victoria
DESCRIPTION:Fares starting at $189
URL:https://www.clippervacations.com/sailing/seattle-victoria-2026-10-03/
LOCATION:Seattle Clipper Terminal\, 2701 Alaskan Way\, Pier 69\, Seattle\, WA\, 98121\, United States
CATEGORIES:Sailings
END:VEVENT
BEGIN:VEVENT
DTSTART;TZID=America/Los_Angeles:20261003T170000
DTEND;TZID=America/Los_Angeles:20261003T194500
DTSTAMP:20260419T175056
CREATED:20251014T203721Z
LAST-MODIFIED:20251124T201354Z
UID:10001230-1791046800-1791056700@www.clippervacations.com
SUMMARY:Victoria - Seattle
DESCRIPTION:Fares starting at $160
URL:https://www.clippervacations.com/sailing/victoria-seattle-2026-10-03/
LOCATION:Victoria Steamship Terminal\, Steamship Terminal\, Victoria\, British Columbia\, V8V 1W9\, Canada
CATEGORIES:Sailings
END:VEVENT
BEGIN:VEVENT
DTSTART;TZID=America/Los_Angeles:20261003T193000
DTEND;TZID=America/Los_Angeles:20261003T223000
DTSTAMP:20260419T175056
CREATED:20260122T073916Z
LAST-MODIFIED:20260122T073916Z
UID:10001435-1791055800-1791066600@www.clippervacations.com
SUMMARY:The Neighbourhood: THE WOURLD TOUR
DESCRIPTION:Purchase Tickets
URL:https://www.clippervacations.com/sailing/the-neighbourhood-the-wourld-tour/
LOCATION:WAMU Theater\, 800 Occidental Ave S\, Seattle\, WA\, 98134\, United States
CATEGORIES:Events,Seattle,Seattle Concerts
END:VEVENT
BEGIN:VEVENT
DTSTART;TZID=America/Los_Angeles:20261004T080000
DTEND;TZID=America/Los_Angeles:20261004T110000
DTSTAMP:20260419T175056
CREATED:20251014T203452Z
LAST-MODIFIED:20251124T201714Z
UID:10000979-1791100800-1791111600@www.clippervacations.com
SUMMARY:Seattle - Victoria
DESCRIPTION:Fares starting at $179
URL:https://www.clippervacations.com/sailing/seattle-victoria-2026-10-04/
LOCATION:Seattle Clipper Terminal\, 2701 Alaskan Way\, Pier 69\, Seattle\, WA\, 98121\, United States
CATEGORIES:Sailings
END:VEVENT
BEGIN:VEVENT
DTSTART;TZID=America/Los_Angeles:20261004T170000
DTEND;TZID=America/Los_Angeles:20261004T194500
DTSTAMP:20260419T175056
CREATED:20251014T203721Z
LAST-MODIFIED:20251124T201354Z
UID:10001231-1791133200-1791143100@www.clippervacations.com
SUMMARY:Victoria - Seattle
DESCRIPTION:Fares starting at $180
URL:https://www.clippervacations.com/sailing/victoria-seattle-2026-10-04/
LOCATION:Victoria Steamship Terminal\, Steamship Terminal\, Victoria\, British Columbia\, V8V 1W9\, Canada
CATEGORIES:Sailings
END:VEVENT
BEGIN:VEVENT
DTSTART;TZID=America/Los_Angeles:20261005T080000
DTEND;TZID=America/Los_Angeles:20261005T110000
DTSTAMP:20260419T175056
CREATED:20251014T203452Z
LAST-MODIFIED:20251124T201714Z
UID:10000980-1791187200-1791198000@www.clippervacations.com
SUMMARY:Seattle - Victoria
DESCRIPTION:Fares starting at $179
URL:https://www.clippervacations.com/sailing/seattle-victoria-2026-10-05/
LOCATION:Seattle Clipper Terminal\, 2701 Alaskan Way\, Pier 69\, Seattle\, WA\, 98121\, United States
CATEGORIES:Sailings
END:VEVENT
BEGIN:VEVENT
DTSTART;TZID=America/Los_Angeles:20261005T170000
DTEND;TZID=America/Los_Angeles:20261005T194500
DTSTAMP:20260419T175056
CREATED:20251014T203721Z
LAST-MODIFIED:20251124T201354Z
UID:10001232-1791219600-1791229500@www.clippervacations.com
SUMMARY:Victoria - Seattle
DESCRIPTION:Fares starting at $180
URL:https://www.clippervacations.com/sailing/victoria-seattle-2026-10-05/
LOCATION:Victoria Steamship Terminal\, Steamship Terminal\, Victoria\, British Columbia\, V8V 1W9\, Canada
CATEGORIES:Sailings
END:VEVENT
BEGIN:VEVENT
DTSTART;TZID=America/Los_Angeles:20261008T080000
DTEND;TZID=America/Los_Angeles:20261008T110000
DTSTAMP:20260419T175056
CREATED:20251014T203453Z
LAST-MODIFIED:20251124T201714Z
UID:10000981-1791446400-1791457200@www.clippervacations.com
SUMMARY:Seattle - Victoria
DESCRIPTION:Fares starting at $179
URL:https://www.clippervacations.com/sailing/seattle-victoria-2026-10-08/
LOCATION:Seattle Clipper Terminal\, 2701 Alaskan Way\, Pier 69\, Seattle\, WA\, 98121\, United States
CATEGORIES:Sailings
END:VEVENT
BEGIN:VEVENT
DTSTART;TZID=America/Los_Angeles:20261008T170000
DTEND;TZID=America/Los_Angeles:20261008T194500
DTSTAMP:20260419T175056
CREATED:20251014T203721Z
LAST-MODIFIED:20260114T204508Z
UID:10001233-1791478800-1791488700@www.clippervacations.com
SUMMARY:Victoria - Seattle
DESCRIPTION:Fares starting at $160
URL:https://www.clippervacations.com/sailing/victoria-seattle-2026-10-08/
LOCATION:Victoria Steamship Terminal\, Steamship Terminal\, Victoria\, British Columbia\, V8V 1W9\, Canada
CATEGORIES:Sailings
END:VEVENT
BEGIN:VEVENT
DTSTART;TZID=America/Los_Angeles:20261009T080000
DTEND;TZID=America/Los_Angeles:20261009T110000
DTSTAMP:20260419T175056
CREATED:20251014T203453Z
LAST-MODIFIED:20251124T201714Z
UID:10000982-1791532800-1791543600@www.clippervacations.com
SUMMARY:Seattle - Victoria
DESCRIPTION:Fares starting at $189
URL:https://www.clippervacations.com/sailing/seattle-victoria-2026-10-09/
LOCATION:Seattle Clipper Terminal\, 2701 Alaskan Way\, Pier 69\, Seattle\, WA\, 98121\, United States
CATEGORIES:Sailings
END:VEVENT
BEGIN:VEVENT
DTSTART;TZID=America/Los_Angeles:20261009T120000
DTEND;TZID=America/Los_Angeles:20261009T144500
DTSTAMP:20260419T175056
CREATED:20251014T203722Z
LAST-MODIFIED:20260114T204403Z
UID:10001234-1791547200-1791557100@www.clippervacations.com
SUMMARY:Victoria - Seattle
DESCRIPTION:Fares starting at $160
URL:https://www.clippervacations.com/sailing/victoria-seattle-2026-10-09/
LOCATION:Victoria Steamship Terminal\, Steamship Terminal\, Victoria\, British Columbia\, V8V 1W9\, Canada
CATEGORIES:Sailings
END:VEVENT
BEGIN:VEVENT
DTSTART;TZID=America/Los_Angeles:20261010T080000
DTEND;TZID=America/Los_Angeles:20261010T110000
DTSTAMP:20260419T175056
CREATED:20251014T203453Z
LAST-MODIFIED:20251124T201714Z
UID:10000983-1791619200-1791630000@www.clippervacations.com
SUMMARY:Seattle - Victoria
DESCRIPTION:Fares starting at $189
URL:https://www.clippervacations.com/sailing/seattle-victoria-2026-10-10/
LOCATION:Seattle Clipper Terminal\, 2701 Alaskan Way\, Pier 69\, Seattle\, WA\, 98121\, United States
CATEGORIES:Sailings
END:VEVENT
BEGIN:VEVENT
DTSTART;TZID=America/Los_Angeles:20261010T170000
DTEND;TZID=America/Los_Angeles:20261010T194500
DTSTAMP:20260419T175056
CREATED:20251014T203722Z
LAST-MODIFIED:20251124T201354Z
UID:10001235-1791651600-1791661500@www.clippervacations.com
SUMMARY:Victoria - Seattle
DESCRIPTION:Fares starting at $160
URL:https://www.clippervacations.com/sailing/victoria-seattle-2026-10-10/
LOCATION:Victoria Steamship Terminal\, Steamship Terminal\, Victoria\, British Columbia\, V8V 1W9\, Canada
CATEGORIES:Sailings
END:VEVENT
BEGIN:VEVENT
DTSTART;TZID=America/Los_Angeles:20261010T193000
DTEND;TZID=America/Los_Angeles:20261010T223000
DTSTAMP:20260419T175056
CREATED:20260122T074024Z
LAST-MODIFIED:20260122T074024Z
UID:10001436-1791660600-1791671400@www.clippervacations.com
SUMMARY:RUSH: Fifty Something
DESCRIPTION:Purchase Tickets
URL:https://www.clippervacations.com/sailing/rush-fifty-something/
LOCATION:Climate Pledge Arena\, 334 1st Ave N\, Seattle\, WA\, 98109\, United States
CATEGORIES:Events,Seattle,Seattle Concerts
END:VEVENT
BEGIN:VEVENT
DTSTART;TZID=America/Los_Angeles:20261011T080000
DTEND;TZID=America/Los_Angeles:20261011T110000
DTSTAMP:20260419T175056
CREATED:20251014T203624Z
LAST-MODIFIED:20251124T201714Z
UID:10000984-1791705600-1791716400@www.clippervacations.com
SUMMARY:Seattle - Victoria
DESCRIPTION:Fares starting at $179
URL:https://www.clippervacations.com/sailing/seattle-victoria-2026-10-11/
LOCATION:Seattle Clipper Terminal\, 2701 Alaskan Way\, Pier 69\, Seattle\, WA\, 98121\, United States
CATEGORIES:Sailings
END:VEVENT
BEGIN:VEVENT
DTSTART;TZID=America/Los_Angeles:20261011T170000
DTEND;TZID=America/Los_Angeles:20261011T194500
DTSTAMP:20260419T175056
CREATED:20251014T203722Z
LAST-MODIFIED:20251124T201354Z
UID:10001236-1791738000-1791747900@www.clippervacations.com
SUMMARY:Victoria - Seattle
DESCRIPTION:Fares starting at $180
URL:https://www.clippervacations.com/sailing/victoria-seattle-2026-10-11/
LOCATION:Victoria Steamship Terminal\, Steamship Terminal\, Victoria\, British Columbia\, V8V 1W9\, Canada
CATEGORIES:Sailings
END:VEVENT
BEGIN:VEVENT
DTSTART;TZID=America/Los_Angeles:20261012T080000
DTEND;TZID=America/Los_Angeles:20261012T110000
DTSTAMP:20260419T175056
CREATED:20251014T203624Z
LAST-MODIFIED:20251124T201715Z
UID:10000985-1791792000-1791802800@www.clippervacations.com
SUMMARY:Seattle - Victoria
DESCRIPTION:Fares starting at $189
URL:https://www.clippervacations.com/sailing/seattle-victoria-2026-10-12/
LOCATION:Seattle Clipper Terminal\, 2701 Alaskan Way\, Pier 69\, Seattle\, WA\, 98121\, United States
CATEGORIES:Sailings
END:VEVENT
END:VCALENDAR