BEGIN:VCALENDAR
VERSION:2.0
PRODID:-//Clipper Vacations - ECPv6.10.1.1//NONSGML v1.0//EN
CALSCALE:GREGORIAN
METHOD:PUBLISH
X-WR-CALNAME:Clipper Vacations
X-ORIGINAL-URL:https://www.clippervacations.com
X-WR-CALDESC:Events for Clipper Vacations
REFRESH-INTERVAL;VALUE=DURATION:PT1H
X-Robots-Tag:noindex
X-PUBLISHED-TTL:PT1H
BEGIN:VTIMEZONE
TZID:America/Los_Angeles
BEGIN:DAYLIGHT
TZOFFSETFROM:-0800
TZOFFSETTO:-0700
TZNAME:PDT
DTSTART:20260308T100000
END:DAYLIGHT
BEGIN:STANDARD
TZOFFSETFROM:-0700
TZOFFSETTO:-0800
TZNAME:PST
DTSTART:20261101T090000
END:STANDARD
END:VTIMEZONE
BEGIN:VEVENT
DTSTART;TZID=America/Los_Angeles:20260529T191000
DTEND;TZID=America/Los_Angeles:20260529T221000
DTSTAMP:20260420T005220
CREATED:20251230T224339Z
LAST-MODIFIED:20251231T001113Z
UID:10001330-1780081800-1780092600@www.clippervacations.com
SUMMARY:Seattle Mariners vs Arizona Diamondbacks
DESCRIPTION:Purchase tickets
URL:https://www.clippervacations.com/sailing/seattle-mariners-vs-arizona-diamondbacks-2026-05-29/
CATEGORIES:Seattle,Seattle Mariners
END:VEVENT
BEGIN:VEVENT
DTSTART;TZID=America/Los_Angeles:20260530T191000
DTEND;TZID=America/Los_Angeles:20260530T221000
DTSTAMP:20260420T005220
CREATED:20251230T224339Z
LAST-MODIFIED:20251231T001113Z
UID:10001331-1780168200-1780179000@www.clippervacations.com
SUMMARY:Seattle Mariners vs Arizona Diamondbacks
DESCRIPTION:Purchase tickets
URL:https://www.clippervacations.com/sailing/seattle-mariners-vs-arizona-diamondbacks-2026-05-30/
CATEGORIES:Seattle,Seattle Mariners
END:VEVENT
BEGIN:VEVENT
DTSTART;TZID=America/Los_Angeles:20260531T131000
DTEND;TZID=America/Los_Angeles:20260531T161000
DTSTAMP:20260420T005220
CREATED:20251230T224339Z
LAST-MODIFIED:20251231T001113Z
UID:10001332-1780233000-1780243800@www.clippervacations.com
SUMMARY:Seattle Mariners vs Arizona Diamondbacks
DESCRIPTION:Purchase tickets
URL:https://www.clippervacations.com/sailing/seattle-mariners-vs-arizona-diamondbacks-2026-05-31/
CATEGORIES:Seattle,Seattle Mariners
END:VEVENT
BEGIN:VEVENT
DTSTART;TZID=America/Los_Angeles:20260601T184000
DTEND;TZID=America/Los_Angeles:20260601T214000
DTSTAMP:20260420T005220
CREATED:20251230T224339Z
LAST-MODIFIED:20251231T001117Z
UID:10001333-1780339200-1780350000@www.clippervacations.com
SUMMARY:Seattle Mariners vs New York Mets
DESCRIPTION:Purchase tickets
URL:https://www.clippervacations.com/sailing/seattle-mariners-vs-new-york-mets-2026-06-01/
CATEGORIES:Seattle,Seattle Mariners
END:VEVENT
BEGIN:VEVENT
DTSTART;TZID=America/Los_Angeles:20260602T184000
DTEND;TZID=America/Los_Angeles:20260602T214000
DTSTAMP:20260420T005220
CREATED:20251230T224339Z
LAST-MODIFIED:20251231T001117Z
UID:10001334-1780425600-1780436400@www.clippervacations.com
SUMMARY:Seattle Mariners vs New York Mets
DESCRIPTION:Purchase tickets
URL:https://www.clippervacations.com/sailing/seattle-mariners-vs-new-york-mets-2026-06-02/
CATEGORIES:Seattle,Seattle Mariners
END:VEVENT
BEGIN:VEVENT
DTSTART;TZID=America/Los_Angeles:20260603T124000
DTEND;TZID=America/Los_Angeles:20260603T154000
DTSTAMP:20260420T005220
CREATED:20251230T224340Z
LAST-MODIFIED:20251231T001118Z
UID:10001335-1780490400-1780501200@www.clippervacations.com
SUMMARY:Seattle Mariners vs New York Mets
DESCRIPTION:Purchase tickets
URL:https://www.clippervacations.com/sailing/seattle-mariners-vs-new-york-mets-2026-06-03/
CATEGORIES:Seattle,Seattle Mariners
END:VEVENT
BEGIN:VEVENT
DTSTART;TZID=America/Los_Angeles:20260603T190000
DTEND;TZID=America/Los_Angeles:20260603T220000
DTSTAMP:20260420T005220
CREATED:20260402T155759Z
LAST-MODIFIED:20260402T155759Z
UID:10001446-1780513200-1780524000@www.clippervacations.com
SUMMARY:Seattle Storm vs Phoenix Mercury
DESCRIPTION:
URL:https://www.clippervacations.com/sailing/seattle-storm-vs-phoenix-mercury-2026-06-03/
CATEGORIES:Seattle Storm
END:VEVENT
BEGIN:VEVENT
DTSTART;TZID=America/Los_Angeles:20260610T190000
DTEND;TZID=America/Los_Angeles:20260610T220000
DTSTAMP:20260420T005220
CREATED:20260402T155759Z
LAST-MODIFIED:20260402T155759Z
UID:10001447-1781118000-1781128800@www.clippervacations.com
SUMMARY:Seattle Storm vs Los Angeles Sparks
DESCRIPTION:
URL:https://www.clippervacations.com/sailing/seattle-storm-vs-los-angeles-sparks-2026-06-10/
CATEGORIES:Seattle Storm
END:VEVENT
BEGIN:VEVENT
DTSTART;TZID=America/Los_Angeles:20260612T190000
DTEND;TZID=America/Los_Angeles:20260612T220000
DTSTAMP:20260420T005220
CREATED:20260402T155759Z
LAST-MODIFIED:20260402T155759Z
UID:10001448-1781290800-1781301600@www.clippervacations.com
SUMMARY:Seattle Storm vs Golden State Valkyries
DESCRIPTION:
URL:https://www.clippervacations.com/sailing/seattle-storm-vs-golden-state-valkyries-2026-06-12/
CATEGORIES:Seattle Storm
END:VEVENT
BEGIN:VEVENT
DTSTART;TZID=America/Los_Angeles:20260613T193000
DTEND;TZID=America/Los_Angeles:20260613T233000
DTSTAMP:20260420T005220
CREATED:20260122T072753Z
LAST-MODIFIED:20260122T072753Z
UID:10001428-1781379000-1781393400@www.clippervacations.com
SUMMARY:Alex Warren Presents: Little Orphan Alex Live
DESCRIPTION:Purchase Tickets
URL:https://www.clippervacations.com/sailing/alex-warren-presents-little-orphan-alex-live/
LOCATION:Seattle Clipper Terminal\, 2701 Alaskan Way\, Pier 69\, Seattle\, WA\, 98121\, United States
CATEGORIES:Events,Seattle,Seattle Concerts
END:VEVENT
BEGIN:VEVENT
DTSTART;TZID=America/Los_Angeles:20260615T120000
DTEND;TZID=America/Los_Angeles:20260615T134500
DTSTAMP:20260420T005220
CREATED:20251211T042327Z
LAST-MODIFIED:20251231T001232Z
UID:10001294-1781524800-1781531100@www.clippervacations.com
SUMMARY:FIFA: Belgium vs Egypt
DESCRIPTION:Belgium vs Egypt @ 12:00pm
URL:https://www.clippervacations.com/sailing/fifa-belgium-vs-egypt/
LOCATION:Lumen Field\, 800 Occidental Ave S\, Seattle\, WA\, 98134\, United States
CATEGORIES:Fifa World Cup,Seattle
END:VEVENT
BEGIN:VEVENT
DTSTART;TZID=America/Los_Angeles:20260616T184000
DTEND;TZID=America/Los_Angeles:20260616T214000
DTSTAMP:20260420T005220
CREATED:20251230T224340Z
LAST-MODIFIED:20251231T001114Z
UID:10001336-1781635200-1781646000@www.clippervacations.com
SUMMARY:Seattle Mariners vs Baltimore Orioles
DESCRIPTION:Purchase tickets
URL:https://www.clippervacations.com/sailing/seattle-mariners-vs-baltimore-orioles-2026-06-16/
CATEGORIES:Seattle,Seattle Mariners
END:VEVENT
BEGIN:VEVENT
DTSTART;TZID=America/Los_Angeles:20260617T184000
DTEND;TZID=America/Los_Angeles:20260617T214000
DTSTAMP:20260420T005220
CREATED:20251230T224340Z
LAST-MODIFIED:20251231T001114Z
UID:10001337-1781721600-1781732400@www.clippervacations.com
SUMMARY:Seattle Mariners vs Baltimore Orioles
DESCRIPTION:Purchase tickets
URL:https://www.clippervacations.com/sailing/seattle-mariners-vs-baltimore-orioles-2026-06-17/
CATEGORIES:Seattle,Seattle Mariners
END:VEVENT
BEGIN:VEVENT
DTSTART;TZID=America/Los_Angeles:20260618T131000
DTEND;TZID=America/Los_Angeles:20260618T161000
DTSTAMP:20260420T005220
CREATED:20251230T224340Z
LAST-MODIFIED:20251231T001114Z
UID:10001338-1781788200-1781799000@www.clippervacations.com
SUMMARY:Seattle Mariners vs Baltimore Orioles
DESCRIPTION:Purchase tickets
URL:https://www.clippervacations.com/sailing/seattle-mariners-vs-baltimore-orioles-2026-06-18/
CATEGORIES:Seattle,Seattle Mariners
END:VEVENT
BEGIN:VEVENT
DTSTART;TZID=America/Los_Angeles:20260619T120000
DTEND;TZID=America/Los_Angeles:20260619T140000
DTSTAMP:20260420T005220
CREATED:20251211T042714Z
LAST-MODIFIED:20251231T001232Z
UID:10001295-1781870400-1781877600@www.clippervacations.com
SUMMARY:FIFA: United States vs Australia
DESCRIPTION:United States vs Australia @ 12:00pm
URL:https://www.clippervacations.com/sailing/fifa-united-states-vs-australia/
LOCATION:Lumen Field\, 800 Occidental Ave S\, Seattle\, WA\, 98134\, United States
CATEGORIES:Fifa World Cup,Seattle
END:VEVENT
BEGIN:VEVENT
DTSTART;TZID=America/Los_Angeles:20260620T184000
DTEND;TZID=America/Los_Angeles:20260620T214000
DTSTAMP:20260420T005220
CREATED:20251230T224340Z
LAST-MODIFIED:20251231T001113Z
UID:10001339-1781980800-1781991600@www.clippervacations.com
SUMMARY:Seattle Mariners Game
DESCRIPTION:Purchase tickets
URL:https://www.clippervacations.com/sailing/seattle-mariners-game-2026-06-20/
CATEGORIES:Seattle,Seattle Mariners
END:VEVENT
BEGIN:VEVENT
DTSTART;TZID=America/Los_Angeles:20260621T131000
DTEND;TZID=America/Los_Angeles:20260621T161000
DTSTAMP:20260420T005220
CREATED:20251230T224340Z
LAST-MODIFIED:20251231T001114Z
UID:10001340-1782047400-1782058200@www.clippervacations.com
SUMMARY:Seattle Mariners vs Boston Red Sox
DESCRIPTION:Purchase tickets
URL:https://www.clippervacations.com/sailing/seattle-mariners-vs-boston-red-sox-2026-06-21/
CATEGORIES:Seattle,Seattle Mariners
END:VEVENT
BEGIN:VEVENT
DTSTART;TZID=America/Los_Angeles:20260622T190000
DTEND;TZID=America/Los_Angeles:20260622T220000
DTSTAMP:20260420T005220
CREATED:20260402T155759Z
LAST-MODIFIED:20260402T155759Z
UID:10001449-1782154800-1782165600@www.clippervacations.com
SUMMARY:Seattle Storm vs Dallas Wings
DESCRIPTION:
URL:https://www.clippervacations.com/sailing/seattle-storm-vs-dallas-wings-2026-06-22/
CATEGORIES:Seattle Storm
END:VEVENT
BEGIN:VEVENT
DTSTART;TZID=America/Los_Angeles:20260624T120000
DTEND;TZID=America/Los_Angeles:20260624T140000
DTSTAMP:20260420T005220
CREATED:20251211T043257Z
LAST-MODIFIED:20251231T001232Z
UID:10001296-1782302400-1782309600@www.clippervacations.com
SUMMARY:FIFA: Qatar vs TBD
DESCRIPTION:
URL:https://www.clippervacations.com/sailing/fifa-qatar-vs-tbd/
LOCATION:Lumen Field\, 800 Occidental Ave S\, Seattle\, WA\, 98134\, United States
CATEGORIES:Fifa World Cup,Seattle
END:VEVENT
BEGIN:VEVENT
DTSTART;TZID=America/Los_Angeles:20260625T190000
DTEND;TZID=America/Los_Angeles:20260625T220000
DTSTAMP:20260420T005220
CREATED:20260402T155759Z
LAST-MODIFIED:20260402T155759Z
UID:10001450-1782414000-1782424800@www.clippervacations.com
SUMMARY:Seattle Storm vs New York Liberty
DESCRIPTION:
URL:https://www.clippervacations.com/sailing/seattle-storm-vs-new-york-liberty-2026-06-25/
CATEGORIES:Seattle Storm
END:VEVENT
BEGIN:VEVENT
DTSTART;TZID=America/Los_Angeles:20260626T200000
DTEND;TZID=America/Los_Angeles:20260626T220000
DTSTAMP:20260420T005220
CREATED:20251211T043353Z
LAST-MODIFIED:20251231T001232Z
UID:10001297-1782504000-1782511200@www.clippervacations.com
SUMMARY:FIFA: Egypt vs Iran
DESCRIPTION:
URL:https://www.clippervacations.com/sailing/fifa-egypt-vs-iran/
LOCATION:Lumen Field\, 800 Occidental Ave S\, Seattle\, WA\, 98134\, United States
CATEGORIES:Fifa World Cup,Seattle
END:VEVENT
BEGIN:VEVENT
DTSTART;TZID=America/Los_Angeles:20260627T190000
DTEND;TZID=America/Los_Angeles:20260627T220000
DTSTAMP:20260420T005220
CREATED:20260402T155759Z
LAST-MODIFIED:20260402T155759Z
UID:10001451-1782586800-1782597600@www.clippervacations.com
SUMMARY:Seattle Storm vs Atlanta Dream
DESCRIPTION:
URL:https://www.clippervacations.com/sailing/seattle-storm-vs-atlanta-dream-2026-06-27/
CATEGORIES:Seattle Storm
END:VEVENT
BEGIN:VEVENT
DTSTART;TZID=America/Los_Angeles:20260629T184000
DTEND;TZID=America/Los_Angeles:20260629T214000
DTSTAMP:20260420T005220
CREATED:20251230T224340Z
LAST-MODIFIED:20251231T001117Z
UID:10001341-1782758400-1782769200@www.clippervacations.com
SUMMARY:Seattle Mariners vs Los Angeles Angels
DESCRIPTION:Purchase tickets
URL:https://www.clippervacations.com/sailing/seattle-mariners-vs-los-angeles-angels-2026-06-29/
CATEGORIES:Seattle,Seattle Mariners
END:VEVENT
BEGIN:VEVENT
DTSTART;TZID=America/Los_Angeles:20260630T184000
DTEND;TZID=America/Los_Angeles:20260630T214000
DTSTAMP:20260420T005220
CREATED:20251230T224340Z
LAST-MODIFIED:20251231T001117Z
UID:10001342-1782844800-1782855600@www.clippervacations.com
SUMMARY:Seattle Mariners vs Los Angeles Angels
DESCRIPTION:Purchase tickets
URL:https://www.clippervacations.com/sailing/seattle-mariners-vs-los-angeles-angels-2026-06-30/
CATEGORIES:Seattle,Seattle Mariners
END:VEVENT
BEGIN:VEVENT
DTSTART;TZID=America/Los_Angeles:20260701T130000
DTEND;TZID=America/Los_Angeles:20260701T150000
DTSTAMP:20260420T005220
CREATED:20251211T043539Z
LAST-MODIFIED:20251231T001232Z
UID:10001298-1782910800-1782918000@www.clippervacations.com
SUMMARY:FIFA: Round of 32 match
DESCRIPTION:
URL:https://www.clippervacations.com/sailing/fifa-round-of-32-match-100pm/
LOCATION:Lumen Field\, 800 Occidental Ave S\, Seattle\, WA\, 98134\, United States
CATEGORIES:Fifa World Cup,Seattle
END:VEVENT
BEGIN:VEVENT
DTSTART;TZID=America/Los_Angeles:20260702T184000
DTEND;TZID=America/Los_Angeles:20260702T214000
DTSTAMP:20260420T005220
CREATED:20251230T224341Z
LAST-MODIFIED:20251231T001117Z
UID:10001343-1783017600-1783028400@www.clippervacations.com
SUMMARY:Seattle Mariners vs Los Angeles Angels
DESCRIPTION:Purchase tickets
URL:https://www.clippervacations.com/sailing/seattle-mariners-vs-los-angeles-angels-2026-07-02/
CATEGORIES:Seattle,Seattle Mariners
END:VEVENT
BEGIN:VEVENT
DTSTART;TZID=America/Los_Angeles:20260703T191000
DTEND;TZID=America/Los_Angeles:20260703T221000
DTSTAMP:20260420T005220
CREATED:20251230T224341Z
LAST-MODIFIED:20251231T001119Z
UID:10001344-1783105800-1783116600@www.clippervacations.com
SUMMARY:Seattle Mariners vs Toronto Blue Jays
DESCRIPTION:Purchase tickets
URL:https://www.clippervacations.com/sailing/seattle-mariners-vs-toronto-blue-jays-2026-07-03/
CATEGORIES:Seattle,Seattle Mariners
END:VEVENT
BEGIN:VEVENT
DTSTART;TZID=America/Los_Angeles:20260704T131000
DTEND;TZID=America/Los_Angeles:20260704T161000
DTSTAMP:20260420T005220
CREATED:20251230T224341Z
LAST-MODIFIED:20251231T001119Z
UID:10001345-1783170600-1783181400@www.clippervacations.com
SUMMARY:Seattle Mariners vs Toronto Blue Jays
DESCRIPTION:Purchase tickets
URL:https://www.clippervacations.com/sailing/seattle-mariners-vs-toronto-blue-jays-2026-07-04/
CATEGORIES:Seattle,Seattle Mariners
END:VEVENT
BEGIN:VEVENT
DTSTART;TZID=America/Los_Angeles:20260704T180000
DTEND;TZID=America/Los_Angeles:20260704T210000
DTSTAMP:20260420T005220
CREATED:20260402T155759Z
LAST-MODIFIED:20260402T155759Z
UID:10001452-1783188000-1783198800@www.clippervacations.com
SUMMARY:Seattle Storm vs Portland Fire
DESCRIPTION:
URL:https://www.clippervacations.com/sailing/seattle-storm-vs-portland-fire-2026-07-04/
CATEGORIES:Seattle Storm
END:VEVENT
BEGIN:VEVENT
DTSTART;TZID=America/Los_Angeles:20260705T131000
DTEND;TZID=America/Los_Angeles:20260705T161000
DTSTAMP:20260420T005220
CREATED:20251230T224341Z
LAST-MODIFIED:20251231T001119Z
UID:10001346-1783257000-1783267800@www.clippervacations.com
SUMMARY:Seattle Mariners vs Toronto Blue Jays
DESCRIPTION:Purchase tickets
URL:https://www.clippervacations.com/sailing/seattle-mariners-vs-toronto-blue-jays-2026-07-05/
CATEGORIES:Seattle,Seattle Mariners
END:VEVENT
END:VCALENDAR