BEGIN:VCALENDAR
VERSION:2.0
PRODID:-//Clipper Vacations - ECPv6.10.1.1//NONSGML v1.0//EN
CALSCALE:GREGORIAN
METHOD:PUBLISH
X-WR-CALNAME:Clipper Vacations
X-ORIGINAL-URL:https://www.clippervacations.com
X-WR-CALDESC:Events for Clipper Vacations
REFRESH-INTERVAL;VALUE=DURATION:PT1H
X-Robots-Tag:noindex
X-PUBLISHED-TTL:PT1H
BEGIN:VTIMEZONE
TZID:America/Los_Angeles
BEGIN:DAYLIGHT
TZOFFSETFROM:-0800
TZOFFSETTO:-0700
TZNAME:PDT
DTSTART:20260308T100000
END:DAYLIGHT
BEGIN:STANDARD
TZOFFSETFROM:-0700
TZOFFSETTO:-0800
TZNAME:PST
DTSTART:20261101T090000
END:STANDARD
END:VTIMEZONE
BEGIN:VEVENT
DTSTART;TZID=America/Los_Angeles:20260627T190000
DTEND;TZID=America/Los_Angeles:20260627T220000
DTSTAMP:20260419T233928
CREATED:20260402T155759Z
LAST-MODIFIED:20260402T155759Z
UID:10001451-1782586800-1782597600@www.clippervacations.com
SUMMARY:Seattle Storm vs Atlanta Dream
DESCRIPTION:
URL:https://www.clippervacations.com/sailing/seattle-storm-vs-atlanta-dream-2026-06-27/
LOCATION:WA
CATEGORIES:Seattle Storm
END:VEVENT
BEGIN:VEVENT
DTSTART;TZID=America/Los_Angeles:20260629T184000
DTEND;TZID=America/Los_Angeles:20260629T214000
DTSTAMP:20260419T233928
CREATED:20251230T224340Z
LAST-MODIFIED:20251231T001117Z
UID:10001341-1782758400-1782769200@www.clippervacations.com
SUMMARY:Seattle Mariners vs Los Angeles Angels
DESCRIPTION:Purchase tickets
URL:https://www.clippervacations.com/sailing/seattle-mariners-vs-los-angeles-angels-2026-06-29/
LOCATION:WA
CATEGORIES:Seattle,Seattle Mariners
END:VEVENT
BEGIN:VEVENT
DTSTART;TZID=America/Los_Angeles:20260630T184000
DTEND;TZID=America/Los_Angeles:20260630T214000
DTSTAMP:20260419T233928
CREATED:20251230T224340Z
LAST-MODIFIED:20251231T001117Z
UID:10001342-1782844800-1782855600@www.clippervacations.com
SUMMARY:Seattle Mariners vs Los Angeles Angels
DESCRIPTION:Purchase tickets
URL:https://www.clippervacations.com/sailing/seattle-mariners-vs-los-angeles-angels-2026-06-30/
LOCATION:WA
CATEGORIES:Seattle,Seattle Mariners
END:VEVENT
BEGIN:VEVENT
DTSTART;TZID=America/Los_Angeles:20260701T130000
DTEND;TZID=America/Los_Angeles:20260701T150000
DTSTAMP:20260419T233928
CREATED:20251211T043539Z
LAST-MODIFIED:20251231T001232Z
UID:10001298-1782910800-1782918000@www.clippervacations.com
SUMMARY:FIFA: Round of 32 match
DESCRIPTION:
URL:https://www.clippervacations.com/sailing/fifa-round-of-32-match-100pm/
LOCATION:Lumen Field\, 800 Occidental Ave S\, Seattle\, WA\, 98134\, United States
CATEGORIES:Fifa World Cup,Seattle
END:VEVENT
BEGIN:VEVENT
DTSTART;TZID=America/Los_Angeles:20260702T184000
DTEND;TZID=America/Los_Angeles:20260702T214000
DTSTAMP:20260419T233928
CREATED:20251230T224341Z
LAST-MODIFIED:20251231T001117Z
UID:10001343-1783017600-1783028400@www.clippervacations.com
SUMMARY:Seattle Mariners vs Los Angeles Angels
DESCRIPTION:Purchase tickets
URL:https://www.clippervacations.com/sailing/seattle-mariners-vs-los-angeles-angels-2026-07-02/
LOCATION:WA
CATEGORIES:Seattle,Seattle Mariners
END:VEVENT
BEGIN:VEVENT
DTSTART;TZID=America/Los_Angeles:20260703T191000
DTEND;TZID=America/Los_Angeles:20260703T221000
DTSTAMP:20260419T233928
CREATED:20251230T224341Z
LAST-MODIFIED:20251231T001119Z
UID:10001344-1783105800-1783116600@www.clippervacations.com
SUMMARY:Seattle Mariners vs Toronto Blue Jays
DESCRIPTION:Purchase tickets
URL:https://www.clippervacations.com/sailing/seattle-mariners-vs-toronto-blue-jays-2026-07-03/
LOCATION:WA
CATEGORIES:Seattle,Seattle Mariners
END:VEVENT
BEGIN:VEVENT
DTSTART;TZID=America/Los_Angeles:20260704T131000
DTEND;TZID=America/Los_Angeles:20260704T161000
DTSTAMP:20260419T233928
CREATED:20251230T224341Z
LAST-MODIFIED:20251231T001119Z
UID:10001345-1783170600-1783181400@www.clippervacations.com
SUMMARY:Seattle Mariners vs Toronto Blue Jays
DESCRIPTION:Purchase tickets
URL:https://www.clippervacations.com/sailing/seattle-mariners-vs-toronto-blue-jays-2026-07-04/
LOCATION:WA
CATEGORIES:Seattle,Seattle Mariners
END:VEVENT
BEGIN:VEVENT
DTSTART;TZID=America/Los_Angeles:20260704T180000
DTEND;TZID=America/Los_Angeles:20260704T210000
DTSTAMP:20260419T233928
CREATED:20260402T155759Z
LAST-MODIFIED:20260402T155759Z
UID:10001452-1783188000-1783198800@www.clippervacations.com
SUMMARY:Seattle Storm vs Portland Fire
DESCRIPTION:
URL:https://www.clippervacations.com/sailing/seattle-storm-vs-portland-fire-2026-07-04/
LOCATION:WA
CATEGORIES:Seattle Storm
END:VEVENT
BEGIN:VEVENT
DTSTART;TZID=America/Los_Angeles:20260705T131000
DTEND;TZID=America/Los_Angeles:20260705T161000
DTSTAMP:20260419T233928
CREATED:20251230T224341Z
LAST-MODIFIED:20251231T001119Z
UID:10001346-1783257000-1783267800@www.clippervacations.com
SUMMARY:Seattle Mariners vs Toronto Blue Jays
DESCRIPTION:Purchase tickets
URL:https://www.clippervacations.com/sailing/seattle-mariners-vs-toronto-blue-jays-2026-07-05/
LOCATION:WA
CATEGORIES:Seattle,Seattle Mariners
END:VEVENT
BEGIN:VEVENT
DTSTART;TZID=America/Los_Angeles:20260705T200000
DTEND;TZID=America/Los_Angeles:20260705T233000
DTSTAMP:20260419T233928
CREATED:20260122T072922Z
LAST-MODIFIED:20260122T072922Z
UID:10001429-1783281600-1783294200@www.clippervacations.com
SUMMARY:Wolfmother (21 and Over)
DESCRIPTION:Purchase Tickets
URL:https://www.clippervacations.com/sailing/wolfmother-21-and-over/
LOCATION:The Showbox\, 1426 1st Ave\, Seattle\, WA\, 98101\, United States
CATEGORIES:Events,Seattle,Seattle Concerts
END:VEVENT
BEGIN:VEVENT
DTSTART;TZID=America/Los_Angeles:20260706T170000
DTEND;TZID=America/Los_Angeles:20260706T190000
DTSTAMP:20260419T233928
CREATED:20251211T043702Z
LAST-MODIFIED:20251231T001232Z
UID:10001299-1783357200-1783364400@www.clippervacations.com
SUMMARY:FIFA: Round of 16 match @ 5:00pm
DESCRIPTION:
URL:https://www.clippervacations.com/sailing/fifa-round-of-16-match-500pm/
LOCATION:Lumen Field\, 800 Occidental Ave S\, Seattle\, WA\, 98134\, United States
CATEGORIES:Fifa World Cup,Seattle
END:VEVENT
BEGIN:VEVENT
DTSTART;TZID=America/Los_Angeles:20260716T193000
DTEND;TZID=America/Los_Angeles:20260716T223000
DTSTAMP:20260419T233928
CREATED:20251230T224936Z
LAST-MODIFIED:20251231T001011Z
UID:10001404-1784230200-1784241000@www.clippervacations.com
SUMMARY:Seattle Sounders vs Portland Timbers
DESCRIPTION:
URL:https://www.clippervacations.com/sailing/seattle-sounders-vs-portland-timbers-2026-07-16/
LOCATION:WA
CATEGORIES:Seattle,Seattle Sounders
END:VEVENT
BEGIN:VEVENT
DTSTART;TZID=America/Los_Angeles:20260717T191000
DTEND;TZID=America/Los_Angeles:20260717T221000
DTSTAMP:20260419T233928
CREATED:20251230T224341Z
LAST-MODIFIED:20251231T001118Z
UID:10001347-1784315400-1784326200@www.clippervacations.com
SUMMARY:Seattle Mariners vs San Francisco Giants
DESCRIPTION:Purchase tickets
URL:https://www.clippervacations.com/sailing/seattle-mariners-vs-san-francisco-giants-2026-07-17/
LOCATION:WA
CATEGORIES:Seattle,Seattle Mariners
END:VEVENT
BEGIN:VEVENT
DTSTART;TZID=America/Los_Angeles:20260718T191000
DTEND;TZID=America/Los_Angeles:20260718T221000
DTSTAMP:20260419T233928
CREATED:20251230T224341Z
LAST-MODIFIED:20251231T001118Z
UID:10001348-1784401800-1784412600@www.clippervacations.com
SUMMARY:Seattle Mariners vs San Francisco Giants
DESCRIPTION:Purchase tickets
URL:https://www.clippervacations.com/sailing/seattle-mariners-vs-san-francisco-giants-2026-07-18/
LOCATION:WA
CATEGORIES:Seattle,Seattle Mariners
END:VEVENT
BEGIN:VEVENT
DTSTART;TZID=America/Los_Angeles:20260719T131000
DTEND;TZID=America/Los_Angeles:20260719T161000
DTSTAMP:20260419T233928
CREATED:20251230T224341Z
LAST-MODIFIED:20251231T001118Z
UID:10001349-1784466600-1784477400@www.clippervacations.com
SUMMARY:Seattle Mariners vs San Francisco Giants
DESCRIPTION:Purchase tickets
URL:https://www.clippervacations.com/sailing/seattle-mariners-vs-san-francisco-giants-2026-07-19/
LOCATION:WA
CATEGORIES:Seattle,Seattle Mariners
END:VEVENT
BEGIN:VEVENT
DTSTART;TZID=America/Los_Angeles:20260720T184000
DTEND;TZID=America/Los_Angeles:20260720T214000
DTSTAMP:20260419T233928
CREATED:20251230T224341Z
LAST-MODIFIED:20251231T001115Z
UID:10001350-1784572800-1784583600@www.clippervacations.com
SUMMARY:Seattle Mariners vs Cincinnati Reds
DESCRIPTION:Purchase tickets
URL:https://www.clippervacations.com/sailing/seattle-mariners-vs-cincinnati-reds-2026-07-20/
LOCATION:WA
CATEGORIES:Seattle,Seattle Mariners
END:VEVENT
BEGIN:VEVENT
DTSTART;TZID=America/Los_Angeles:20260720T190000
DTEND;TZID=America/Los_Angeles:20260720T220000
DTSTAMP:20260419T233928
CREATED:20260402T155759Z
LAST-MODIFIED:20260402T155759Z
UID:10001453-1784574000-1784584800@www.clippervacations.com
SUMMARY:Seattle Storm vs Minnesota Lynx
DESCRIPTION:
URL:https://www.clippervacations.com/sailing/seattle-storm-vs-minnesota-lynx-2026-07-20/
LOCATION:WA
CATEGORIES:Seattle Storm
END:VEVENT
BEGIN:VEVENT
DTSTART;TZID=America/Los_Angeles:20260721T184000
DTEND;TZID=America/Los_Angeles:20260721T214000
DTSTAMP:20260419T233928
CREATED:20251230T224342Z
LAST-MODIFIED:20251231T001115Z
UID:10001351-1784659200-1784670000@www.clippervacations.com
SUMMARY:Seattle Mariners vs Cincinnati Reds
DESCRIPTION:Purchase tickets
URL:https://www.clippervacations.com/sailing/seattle-mariners-vs-cincinnati-reds-2026-07-21/
LOCATION:WA
CATEGORIES:Seattle,Seattle Mariners
END:VEVENT
BEGIN:VEVENT
DTSTART;TZID=America/Los_Angeles:20260722T120000
DTEND;TZID=America/Los_Angeles:20260722T150000
DTSTAMP:20260419T233928
CREATED:20260402T155800Z
LAST-MODIFIED:20260402T155800Z
UID:10001454-1784721600-1784732400@www.clippervacations.com
SUMMARY:Seattle Storm vs Minnesota Lynx
DESCRIPTION:
URL:https://www.clippervacations.com/sailing/seattle-storm-vs-minnesota-lynx-2026-07-22/
LOCATION:WA
CATEGORIES:Seattle Storm
END:VEVENT
BEGIN:VEVENT
DTSTART;TZID=America/Los_Angeles:20260722T124000
DTEND;TZID=America/Los_Angeles:20260722T154000
DTSTAMP:20260419T233928
CREATED:20251230T224342Z
LAST-MODIFIED:20251231T001115Z
UID:10001352-1784724000-1784734800@www.clippervacations.com
SUMMARY:Seattle Mariners vs Cincinnati Reds
DESCRIPTION:Purchase tickets
URL:https://www.clippervacations.com/sailing/seattle-mariners-vs-cincinnati-reds-2026-07-22/
LOCATION:WA
CATEGORIES:Seattle,Seattle Mariners
END:VEVENT
BEGIN:VEVENT
DTSTART;TZID=America/Los_Angeles:20260723T200000
DTEND;TZID=America/Los_Angeles:20260723T230000
DTSTAMP:20260419T233928
CREATED:20260122T073015Z
LAST-MODIFIED:20260122T074824Z
UID:10001430-1784836800-1784847600@www.clippervacations.com
SUMMARY:Benjamin Tod (21+)
DESCRIPTION:Purchase Tickets
URL:https://www.clippervacations.com/sailing/benjamin-tod-21/
LOCATION:The Showbox\, 1426 1st Ave\, Seattle\, WA\, 98101\, United States
CATEGORIES:Events,Seattle,Seattle Concerts
END:VEVENT
BEGIN:VEVENT
DTSTART;TZID=America/Los_Angeles:20260728T183000
DTEND;TZID=America/Los_Angeles:20260728T213000
DTSTAMP:20260419T233928
CREATED:20260402T155800Z
LAST-MODIFIED:20260402T155800Z
UID:10001455-1785263400-1785274200@www.clippervacations.com
SUMMARY:Seattle Storm vs Indiana Fever
DESCRIPTION:
URL:https://www.clippervacations.com/sailing/seattle-storm-vs-indiana-fever-2026-07-28/
LOCATION:WA
CATEGORIES:Seattle Storm
END:VEVENT
BEGIN:VEVENT
DTSTART;TZID=America/Los_Angeles:20260731T191000
DTEND;TZID=America/Los_Angeles:20260731T221000
DTSTAMP:20260419T233928
CREATED:20251230T224342Z
LAST-MODIFIED:20251231T001117Z
UID:10001353-1785525000-1785535800@www.clippervacations.com
SUMMARY:Seattle Mariners vs Minnesota Twins
DESCRIPTION:Purchase tickets
URL:https://www.clippervacations.com/sailing/seattle-mariners-vs-minnesota-twins-2026-07-31/
LOCATION:WA
CATEGORIES:Seattle,Seattle Mariners
END:VEVENT
BEGIN:VEVENT
DTSTART;TZID=America/Los_Angeles:20260801T131000
DTEND;TZID=America/Los_Angeles:20260801T161000
DTSTAMP:20260419T233928
CREATED:20251230T224342Z
LAST-MODIFIED:20251231T001117Z
UID:10001354-1785589800-1785600600@www.clippervacations.com
SUMMARY:Seattle Mariners vs Minnesota Twins
DESCRIPTION:Purchase tickets
URL:https://www.clippervacations.com/sailing/seattle-mariners-vs-minnesota-twins-2026-08-01/
LOCATION:WA
CATEGORIES:Seattle,Seattle Mariners
END:VEVENT
BEGIN:VEVENT
DTSTART;TZID=America/Los_Angeles:20260801T173000
DTEND;TZID=America/Los_Angeles:20260801T220000
DTSTAMP:20260419T233928
CREATED:20260122T073201Z
LAST-MODIFIED:20260122T073201Z
UID:10001431-1785605400-1785621600@www.clippervacations.com
SUMMARY:Ed Sheeran: LOOP Tour
DESCRIPTION:Purchase Tickets
URL:https://www.clippervacations.com/sailing/ed-sheeran-loop-tour/
LOCATION:Lumen Field\, 800 Occidental Ave S\, Seattle\, WA\, 98134\, United States
CATEGORIES:Events,Seattle,Seattle Concerts
END:VEVENT
BEGIN:VEVENT
DTSTART;TZID=America/Los_Angeles:20260802T131000
DTEND;TZID=America/Los_Angeles:20260802T161000
DTSTAMP:20260419T233928
CREATED:20251230T224342Z
LAST-MODIFIED:20251231T001117Z
UID:10001355-1785676200-1785687000@www.clippervacations.com
SUMMARY:Seattle Mariners vs Minnesota Twins
DESCRIPTION:Purchase tickets
URL:https://www.clippervacations.com/sailing/seattle-mariners-vs-minnesota-twins-2026-08-02/
LOCATION:WA
CATEGORIES:Seattle,Seattle Mariners
END:VEVENT
BEGIN:VEVENT
DTSTART;TZID=America/Los_Angeles:20260802T190000
DTEND;TZID=America/Los_Angeles:20260802T220000
DTSTAMP:20260419T233928
CREATED:20260122T073309Z
LAST-MODIFIED:20260122T073309Z
UID:10001432-1785697200-1785708000@www.clippervacations.com
SUMMARY:Megan Moroney: The Cloud 9 Tour
DESCRIPTION:Purchase Tickets
URL:https://www.clippervacations.com/sailing/megan-moroney-the-cloud-9-tour/
LOCATION:Climate Pledge Arena\, 334 1st Ave N\, Seattle\, WA\, 98109\, United States
CATEGORIES:Events,Seattle,Seattle Concerts
END:VEVENT
BEGIN:VEVENT
DTSTART;TZID=America/Los_Angeles:20260804T184000
DTEND;TZID=America/Los_Angeles:20260804T214000
DTSTAMP:20260419T233928
CREATED:20251230T224342Z
LAST-MODIFIED:20251231T001116Z
UID:10001356-1785868800-1785879600@www.clippervacations.com
SUMMARY:Seattle Mariners vs Detroit Tigers
DESCRIPTION:Purchase tickets
URL:https://www.clippervacations.com/sailing/seattle-mariners-vs-detroit-tigers-2026-08-04/
LOCATION:WA
CATEGORIES:Seattle,Seattle Mariners
END:VEVENT
BEGIN:VEVENT
DTSTART;TZID=America/Los_Angeles:20260805T183000
DTEND;TZID=America/Los_Angeles:20260805T220000
DTSTAMP:20260419T233928
CREATED:20260122T073443Z
LAST-MODIFIED:20260122T073443Z
UID:10001433-1785954600-1785967200@www.clippervacations.com
SUMMARY:Meghan Trainor: The Get In Girl Tour
DESCRIPTION:Purchase Tickets
URL:https://www.clippervacations.com/sailing/meghan-trainor-the-get-in-girl-tour/
LOCATION:Climate Pledge Arena\, 334 1st Ave N\, Seattle\, WA\, 98109\, United States
CATEGORIES:Events,Seattle,Seattle Concerts
END:VEVENT
BEGIN:VEVENT
DTSTART;TZID=America/Los_Angeles:20260805T184000
DTEND;TZID=America/Los_Angeles:20260805T214000
DTSTAMP:20260419T233928
CREATED:20251230T224342Z
LAST-MODIFIED:20251231T001116Z
UID:10001357-1785955200-1785966000@www.clippervacations.com
SUMMARY:Seattle Mariners vs Detroit Tigers
DESCRIPTION:Purchase tickets
URL:https://www.clippervacations.com/sailing/seattle-mariners-vs-detroit-tigers-2026-08-05/
LOCATION:WA
CATEGORIES:Seattle,Seattle Mariners
END:VEVENT
END:VCALENDAR