BEGIN:VCALENDAR
VERSION:2.0
PRODID:-//Clipper Vacations - ECPv6.10.1.1//NONSGML v1.0//EN
CALSCALE:GREGORIAN
METHOD:PUBLISH
X-WR-CALNAME:Clipper Vacations
X-ORIGINAL-URL:https://www.clippervacations.com
X-WR-CALDESC:Events for Clipper Vacations
REFRESH-INTERVAL;VALUE=DURATION:PT1H
X-Robots-Tag:noindex
X-PUBLISHED-TTL:PT1H
BEGIN:VTIMEZONE
TZID:America/Los_Angeles
BEGIN:DAYLIGHT
TZOFFSETFROM:-0800
TZOFFSETTO:-0700
TZNAME:PDT
DTSTART:20260308T100000
END:DAYLIGHT
BEGIN:STANDARD
TZOFFSETFROM:-0700
TZOFFSETTO:-0800
TZNAME:PST
DTSTART:20261101T090000
END:STANDARD
END:VTIMEZONE
BEGIN:VEVENT
DTSTART;TZID=America/Los_Angeles:20260410T184000
DTEND;TZID=America/Los_Angeles:20260410T214000
DTSTAMP:20260419T190907
CREATED:20251230T224336Z
LAST-MODIFIED:20251231T001116Z
UID:10001308-1775846400-1775857200@www.clippervacations.com
SUMMARY:Seattle Mariners vs Houston Astros
DESCRIPTION:Purchase tickets
URL:https://www.clippervacations.com/sailing/seattle-mariners-vs-houston-astros-2026-04-10/
CATEGORIES:Seattle,Seattle Mariners
END:VEVENT
BEGIN:VEVENT
DTSTART;TZID=America/Los_Angeles:20260411T160000
DTEND;TZID=America/Los_Angeles:20260411T190000
DTSTAMP:20260419T190907
CREATED:20251230T224834Z
LAST-MODIFIED:20251231T000841Z
UID:10001390-1775923200-1775934000@www.clippervacations.com
SUMMARY:Seattle Kraken vs Calgary Flames
DESCRIPTION:Purchase tickets
URL:https://www.clippervacations.com/sailing/seattle-kraken-vs-calgary-flames-2026-04-11/
CATEGORIES:Seattle,Seattle Kraken
END:VEVENT
BEGIN:VEVENT
DTSTART;TZID=America/Los_Angeles:20260411T184000
DTEND;TZID=America/Los_Angeles:20260411T214000
DTSTAMP:20260419T190907
CREATED:20251230T224336Z
LAST-MODIFIED:20251231T001116Z
UID:10001309-1775932800-1775943600@www.clippervacations.com
SUMMARY:Seattle Mariners vs Houston Astros
DESCRIPTION:Purchase tickets
URL:https://www.clippervacations.com/sailing/seattle-mariners-vs-houston-astros-2026-04-11/
CATEGORIES:Seattle,Seattle Mariners
END:VEVENT
BEGIN:VEVENT
DTSTART;TZID=America/Los_Angeles:20260412T131000
DTEND;TZID=America/Los_Angeles:20260412T161000
DTSTAMP:20260419T190907
CREATED:20251230T224337Z
LAST-MODIFIED:20251231T001116Z
UID:10001310-1775999400-1776010200@www.clippervacations.com
SUMMARY:Seattle Mariners vs Houston Astros
DESCRIPTION:Purchase tickets
URL:https://www.clippervacations.com/sailing/seattle-mariners-vs-houston-astros-2026-04-12/
CATEGORIES:Seattle,Seattle Mariners
END:VEVENT
BEGIN:VEVENT
DTSTART;TZID=America/Los_Angeles:20260412T180000
DTEND;TZID=America/Los_Angeles:20260412T210000
DTSTAMP:20260419T190907
CREATED:20251230T224935Z
LAST-MODIFIED:20251231T001012Z
UID:10001398-1776016800-1776027600@www.clippervacations.com
SUMMARY:Seattle Sounders vs Real Salt Lake
DESCRIPTION:
URL:https://www.clippervacations.com/sailing/seattle-sounders-vs-real-salt-lake-2026-04-12/
CATEGORIES:Seattle,Seattle Sounders
END:VEVENT
BEGIN:VEVENT
DTSTART;TZID=America/Los_Angeles:20260413T131000
DTEND;TZID=America/Los_Angeles:20260413T161000
DTSTAMP:20260419T190907
CREATED:20251230T224337Z
LAST-MODIFIED:20251231T001116Z
UID:10001311-1776085800-1776096600@www.clippervacations.com
SUMMARY:Seattle Mariners vs Houston Astros
DESCRIPTION:Purchase tickets
URL:https://www.clippervacations.com/sailing/seattle-mariners-vs-houston-astros-2026-04-13/
CATEGORIES:Seattle,Seattle Mariners
END:VEVENT
BEGIN:VEVENT
DTSTART;TZID=America/Los_Angeles:20260413T183000
DTEND;TZID=America/Los_Angeles:20260413T213000
DTSTAMP:20260419T190907
CREATED:20251230T224834Z
LAST-MODIFIED:20251231T000842Z
UID:10001391-1776105000-1776115800@www.clippervacations.com
SUMMARY:Seattle Kraken vs Los Angeles Kings
DESCRIPTION:Purchase tickets
URL:https://www.clippervacations.com/sailing/seattle-kraken-vs-los-angeles-kings-2026-04-13/
CATEGORIES:Seattle,Seattle Kraken
END:VEVENT
BEGIN:VEVENT
DTSTART;TZID=America/Los_Angeles:20260417T184000
DTEND;TZID=America/Los_Angeles:20260417T214000
DTSTAMP:20260419T190907
CREATED:20251230T224337Z
LAST-MODIFIED:20251231T001119Z
UID:10001312-1776451200-1776462000@www.clippervacations.com
SUMMARY:Seattle Mariners vs Texas Rangers
DESCRIPTION:Purchase tickets
URL:https://www.clippervacations.com/sailing/seattle-mariners-vs-texas-rangers-2026-04-17/
CATEGORIES:Seattle,Seattle Mariners
END:VEVENT
BEGIN:VEVENT
DTSTART;TZID=America/Los_Angeles:20260417T193000
DTEND;TZID=America/Los_Angeles:20260417T233000
DTSTAMP:20260419T190907
CREATED:20260122T071815Z
LAST-MODIFIED:20260122T071815Z
UID:10001423-1776454200-1776468600@www.clippervacations.com
SUMMARY:Tommy Emmanuel CGP - Living In The Light Tour
DESCRIPTION:Purchase Tickets
URL:https://www.clippervacations.com/sailing/tommy-emmanuel-cgp-living-in-the-light-tour/
LOCATION:Moore Theatre\, 1932 2nd Ave\, Seattle\, WA\, 98101\, United States
CATEGORIES:Events,Seattle,Seattle Concerts
END:VEVENT
BEGIN:VEVENT
DTSTART;TZID=America/Los_Angeles:20260418T161500
DTEND;TZID=America/Los_Angeles:20260418T191500
DTSTAMP:20260419T190907
CREATED:20251230T224337Z
LAST-MODIFIED:20251231T001119Z
UID:10001313-1776528900-1776539700@www.clippervacations.com
SUMMARY:Seattle Mariners vs Texas Rangers
DESCRIPTION:Purchase tickets
URL:https://www.clippervacations.com/sailing/seattle-mariners-vs-texas-rangers-2026-04-18/
CATEGORIES:Seattle,Seattle Mariners
END:VEVENT
BEGIN:VEVENT
DTSTART;TZID=America/Los_Angeles:20260418T180000
DTEND;TZID=America/Los_Angeles:20260418T210000
DTSTAMP:20260419T190907
CREATED:20251230T224935Z
LAST-MODIFIED:20251231T001010Z
UID:10001399-1776535200-1776546000@www.clippervacations.com
SUMMARY:Seattle Sounders Game
DESCRIPTION:
URL:https://www.clippervacations.com/sailing/seattle-sounders-game-2026-04-18/
CATEGORIES:Seattle,Seattle Sounders
END:VEVENT
BEGIN:VEVENT
DTSTART;TZID=America/Los_Angeles:20260418T190000
DTEND;TZID=America/Los_Angeles:20260418T220000
DTSTAMP:20260419T190907
CREATED:20251230T224905Z
LAST-MODIFIED:20251231T001041Z
UID:10001394-1776538800-1776549600@www.clippervacations.com
SUMMARY:Seattle Torrent Game
DESCRIPTION:Purchase tickets
URL:https://www.clippervacations.com/sailing/seattle-torrent-game-2026-04-18/
CATEGORIES:Seattle,Seattle Torrent
END:VEVENT
BEGIN:VEVENT
DTSTART;TZID=America/Los_Angeles:20260419T131000
DTEND;TZID=America/Los_Angeles:20260419T161000
DTSTAMP:20260419T190907
CREATED:20251230T224337Z
LAST-MODIFIED:20251231T001119Z
UID:10001314-1776604200-1776615000@www.clippervacations.com
SUMMARY:Seattle Mariners vs Texas Rangers
DESCRIPTION:Purchase tickets
URL:https://www.clippervacations.com/sailing/seattle-mariners-vs-texas-rangers-2026-04-19/
CATEGORIES:Seattle,Seattle Mariners
END:VEVENT
BEGIN:VEVENT
DTSTART;TZID=America/Los_Angeles:20260420T184000
DTEND;TZID=America/Los_Angeles:20260420T214000
DTSTAMP:20260419T190907
CREATED:20251230T224337Z
LAST-MODIFIED:20251231T001113Z
UID:10001315-1776710400-1776721200@www.clippervacations.com
SUMMARY:Seattle Mariners vs Athletics
DESCRIPTION:Purchase tickets
URL:https://www.clippervacations.com/sailing/seattle-mariners-vs-athletics-2026-04-20/
CATEGORIES:Seattle,Seattle Mariners
END:VEVENT
BEGIN:VEVENT
DTSTART;TZID=America/Los_Angeles:20260421T184000
DTEND;TZID=America/Los_Angeles:20260421T214000
DTSTAMP:20260419T190907
CREATED:20251230T224337Z
LAST-MODIFIED:20251231T001113Z
UID:10001316-1776796800-1776807600@www.clippervacations.com
SUMMARY:Seattle Mariners vs Athletics
DESCRIPTION:Purchase tickets
URL:https://www.clippervacations.com/sailing/seattle-mariners-vs-athletics-2026-04-21/
CATEGORIES:Seattle,Seattle Mariners
END:VEVENT
BEGIN:VEVENT
DTSTART;TZID=America/Los_Angeles:20260422T131000
DTEND;TZID=America/Los_Angeles:20260422T161000
DTSTAMP:20260419T190907
CREATED:20251230T224337Z
LAST-MODIFIED:20251231T001114Z
UID:10001317-1776863400-1776874200@www.clippervacations.com
SUMMARY:Seattle Mariners vs Athletics
DESCRIPTION:Purchase tickets
URL:https://www.clippervacations.com/sailing/seattle-mariners-vs-athletics-2026-04-22/
CATEGORIES:Seattle,Seattle Mariners
END:VEVENT
BEGIN:VEVENT
DTSTART;TZID=America/Los_Angeles:20260422T190000
DTEND;TZID=America/Los_Angeles:20260422T220000
DTSTAMP:20260419T190907
CREATED:20251230T224905Z
LAST-MODIFIED:20251231T001041Z
UID:10001395-1776884400-1776895200@www.clippervacations.com
SUMMARY:Seattle Torrent vs Minnesota Frost
DESCRIPTION:Purchase tickets
URL:https://www.clippervacations.com/sailing/seattle-torrent-vs-minnesota-frost-2026-04-22/
CATEGORIES:Seattle,Seattle Torrent
END:VEVENT
BEGIN:VEVENT
DTSTART;TZID=America/Los_Angeles:20260425T190000
DTEND;TZID=America/Los_Angeles:20260425T220000
DTSTAMP:20260419T190907
CREATED:20251230T224905Z
LAST-MODIFIED:20251231T001041Z
UID:10001396-1777143600-1777154400@www.clippervacations.com
SUMMARY:Seattle Torrent Game
DESCRIPTION:Purchase tickets
URL:https://www.clippervacations.com/sailing/seattle-torrent-game-2026-04-25/
CATEGORIES:Seattle,Seattle Torrent
END:VEVENT
BEGIN:VEVENT
DTSTART;TZID=America/Los_Angeles:20260425T193000
DTEND;TZID=America/Los_Angeles:20260425T223000
DTSTAMP:20260419T190907
CREATED:20251230T224935Z
LAST-MODIFIED:20251231T001011Z
UID:10001400-1777145400-1777156200@www.clippervacations.com
SUMMARY:Seattle Sounders vs FC Dallas
DESCRIPTION:
URL:https://www.clippervacations.com/sailing/seattle-sounders-vs-fc-dallas-2026-04-25/
CATEGORIES:Seattle,Seattle Sounders
END:VEVENT
BEGIN:VEVENT
DTSTART;TZID=America/Los_Angeles:20260429T190000
DTEND;TZID=America/Los_Angeles:20260429T220000
DTSTAMP:20260419T190907
CREATED:20260402T155758Z
LAST-MODIFIED:20260402T155758Z
UID:10001440-1777489200-1777500000@www.clippervacations.com
SUMMARY:Seattle Storm vs Portland Fire
DESCRIPTION:
URL:https://www.clippervacations.com/sailing/seattle-storm-vs-portland-fire-2026-04-29/
CATEGORIES:Seattle Storm
END:VEVENT
BEGIN:VEVENT
DTSTART;TZID=America/Los_Angeles:20260501T184000
DTEND;TZID=America/Los_Angeles:20260501T214000
DTSTAMP:20260419T190907
CREATED:20251230T224338Z
LAST-MODIFIED:20251231T001116Z
UID:10001318-1777660800-1777671600@www.clippervacations.com
SUMMARY:Seattle Mariners vs Kansas City Royals
DESCRIPTION:Purchase tickets
URL:https://www.clippervacations.com/sailing/seattle-mariners-vs-kansas-city-royals-2026-05-01/
CATEGORIES:Seattle,Seattle Mariners
END:VEVENT
BEGIN:VEVENT
DTSTART;TZID=America/Los_Angeles:20260502T184000
DTEND;TZID=America/Los_Angeles:20260502T214000
DTSTAMP:20260419T190907
CREATED:20251230T224338Z
LAST-MODIFIED:20251231T001117Z
UID:10001319-1777747200-1777758000@www.clippervacations.com
SUMMARY:Seattle Mariners vs Kansas City Royals
DESCRIPTION:Purchase tickets
URL:https://www.clippervacations.com/sailing/seattle-mariners-vs-kansas-city-royals-2026-05-02/
CATEGORIES:Seattle,Seattle Mariners
END:VEVENT
BEGIN:VEVENT
DTSTART;TZID=America/Los_Angeles:20260502T193000
DTEND;TZID=America/Los_Angeles:20260502T213000
DTSTAMP:20260419T190907
CREATED:20260212T205606Z
LAST-MODIFIED:20260212T205710Z
UID:10001439-1777750200-1777757400@www.clippervacations.com
SUMMARY:Fifth Avenue Theatre Presents: Jesus Christ Superstar
DESCRIPTION:Directed by The 5th’s executive & artistic director Bill Berry and run in Seattle May 2-17\, 2026.
URL:https://www.clippervacations.com/sailing/jesus-christ-superstar/
LOCATION:5th Avenue Theatre\, 1308 5th Ave\, Seattle\, WA\, 98101\, United States
CATEGORIES:Seattle Concerts
END:VEVENT
BEGIN:VEVENT
DTSTART;TZID=America/Los_Angeles:20260503T131000
DTEND;TZID=America/Los_Angeles:20260503T161000
DTSTAMP:20260419T190907
CREATED:20251230T224338Z
LAST-MODIFIED:20251231T001117Z
UID:10001320-1777813800-1777824600@www.clippervacations.com
SUMMARY:Seattle Mariners vs Kansas City Royals
DESCRIPTION:Purchase tickets
URL:https://www.clippervacations.com/sailing/seattle-mariners-vs-kansas-city-royals-2026-05-03/
CATEGORIES:Seattle,Seattle Mariners
END:VEVENT
BEGIN:VEVENT
DTSTART;TZID=America/Los_Angeles:20260504T184000
DTEND;TZID=America/Los_Angeles:20260504T214000
DTSTAMP:20260419T190907
CREATED:20251230T224338Z
LAST-MODIFIED:20251231T001114Z
UID:10001321-1777920000-1777930800@www.clippervacations.com
SUMMARY:Seattle Mariners vs Atlanta Braves
DESCRIPTION:Purchase tickets
URL:https://www.clippervacations.com/sailing/seattle-mariners-vs-atlanta-braves-2026-05-04/
CATEGORIES:Seattle,Seattle Mariners
END:VEVENT
BEGIN:VEVENT
DTSTART;TZID=America/Los_Angeles:20260505T184000
DTEND;TZID=America/Los_Angeles:20260505T214000
DTSTAMP:20260419T190907
CREATED:20251230T224338Z
LAST-MODIFIED:20251231T001114Z
UID:10001322-1778006400-1778017200@www.clippervacations.com
SUMMARY:Seattle Mariners vs Atlanta Braves
DESCRIPTION:Purchase tickets
URL:https://www.clippervacations.com/sailing/seattle-mariners-vs-atlanta-braves-2026-05-05/
CATEGORIES:Seattle,Seattle Mariners
END:VEVENT
BEGIN:VEVENT
DTSTART;TZID=America/Los_Angeles:20260506T131000
DTEND;TZID=America/Los_Angeles:20260506T161000
DTSTAMP:20260419T190907
CREATED:20251230T224338Z
LAST-MODIFIED:20251231T001114Z
UID:10001323-1778073000-1778083800@www.clippervacations.com
SUMMARY:Seattle Mariners vs Atlanta Braves
DESCRIPTION:Purchase tickets
URL:https://www.clippervacations.com/sailing/seattle-mariners-vs-atlanta-braves-2026-05-06/
CATEGORIES:Seattle,Seattle Mariners
END:VEVENT
BEGIN:VEVENT
DTSTART;TZID=America/Los_Angeles:20260507T203000
DTEND;TZID=America/Los_Angeles:20260507T233000
DTSTAMP:20260419T190907
CREATED:20260122T072029Z
LAST-MODIFIED:20260122T074913Z
UID:10001424-1778185800-1778196600@www.clippervacations.com
SUMMARY:Chet Faker
DESCRIPTION:Purchase Tickets
URL:https://www.clippervacations.com/sailing/chet-faker/
LOCATION:The Showbox\, 1426 1st Ave\, Seattle\, WA\, 98101\, United States
CATEGORIES:Events,Seattle,Seattle Concerts
END:VEVENT
BEGIN:VEVENT
DTSTART;TZID=America/Los_Angeles:20260508T190000
DTEND;TZID=America/Los_Angeles:20260508T220000
DTSTAMP:20260419T190907
CREATED:20260402T155758Z
LAST-MODIFIED:20260402T155758Z
UID:10001441-1778266800-1778277600@www.clippervacations.com
SUMMARY:Seattle Storm vs Golden State Valkyries
DESCRIPTION:
URL:https://www.clippervacations.com/sailing/seattle-storm-vs-golden-state-valkyries-2026-05-08/
CATEGORIES:Seattle Storm
END:VEVENT
BEGIN:VEVENT
DTSTART;TZID=America/Los_Angeles:20260509T193000
DTEND;TZID=America/Los_Angeles:20260509T223000
DTSTAMP:20260419T190907
CREATED:20251230T224935Z
LAST-MODIFIED:20251231T001012Z
UID:10001401-1778355000-1778365800@www.clippervacations.com
SUMMARY:Seattle Sounders vs San Diego FC
DESCRIPTION:
URL:https://www.clippervacations.com/sailing/seattle-sounders-vs-san-diego-fc-2026-05-09/
CATEGORIES:Seattle,Seattle Sounders
END:VEVENT
END:VCALENDAR