BEGIN:VCALENDAR
VERSION:2.0
PRODID:-//Clipper Vacations - ECPv6.10.1.1//NONSGML v1.0//EN
CALSCALE:GREGORIAN
METHOD:PUBLISH
X-ORIGINAL-URL:https://www.clippervacations.com
X-WR-CALDESC:Events for Clipper Vacations
REFRESH-INTERVAL;VALUE=DURATION:PT1H
X-Robots-Tag:noindex
X-PUBLISHED-TTL:PT1H
BEGIN:VTIMEZONE
TZID:America/Los_Angeles
BEGIN:DAYLIGHT
TZOFFSETFROM:-0800
TZOFFSETTO:-0700
TZNAME:PDT
DTSTART:20260308T100000
END:DAYLIGHT
BEGIN:STANDARD
TZOFFSETFROM:-0700
TZOFFSETTO:-0800
TZNAME:PST
DTSTART:20261101T090000
END:STANDARD
END:VTIMEZONE
BEGIN:VEVENT
DTSTART;TZID=America/Los_Angeles:20260824T184000
DTEND;TZID=America/Los_Angeles:20260824T214000
DTSTAMP:20260419T155256
CREATED:20251230T224343Z
LAST-MODIFIED:20251231T001118Z
UID:10001365-1787596800-1787607600@www.clippervacations.com
SUMMARY:Seattle Mariners vs Philadephia Phillies
DESCRIPTION:Purchase tickets
URL:https://www.clippervacations.com/sailing/seattle-mariners-vs-philadephia-phillies-2026-08-24/
CATEGORIES:Seattle,Seattle Mariners
END:VEVENT
BEGIN:VEVENT
DTSTART;TZID=America/Los_Angeles:20260825T184000
DTEND;TZID=America/Los_Angeles:20260825T214000
DTSTAMP:20260419T155256
CREATED:20251230T224343Z
LAST-MODIFIED:20251231T001118Z
UID:10001366-1787683200-1787694000@www.clippervacations.com
SUMMARY:Seattle Mariners vs Philadephia Phillies
DESCRIPTION:Purchase tickets
URL:https://www.clippervacations.com/sailing/seattle-mariners-vs-philadephia-phillies-2026-08-25/
CATEGORIES:Seattle,Seattle Mariners
END:VEVENT
BEGIN:VEVENT
DTSTART;TZID=America/Los_Angeles:20260826T131000
DTEND;TZID=America/Los_Angeles:20260826T161000
DTSTAMP:20260419T155256
CREATED:20251230T224343Z
LAST-MODIFIED:20251231T001118Z
UID:10001367-1787749800-1787760600@www.clippervacations.com
SUMMARY:Seattle Mariners vs Philadephia Phillies
DESCRIPTION:Purchase tickets
URL:https://www.clippervacations.com/sailing/seattle-mariners-vs-philadephia-phillies-2026-08-26/
CATEGORIES:Seattle,Seattle Mariners
END:VEVENT
BEGIN:VEVENT
DTSTART;TZID=America/Los_Angeles:20260826T190000
DTEND;TZID=America/Los_Angeles:20260826T220000
DTSTAMP:20260419T155256
CREATED:20260402T155800Z
LAST-MODIFIED:20260402T155800Z
UID:10001459-1787770800-1787781600@www.clippervacations.com
SUMMARY:Seattle Storm vs Toronto Tempo
DESCRIPTION:
URL:https://www.clippervacations.com/sailing/seattle-storm-vs-toronto-tempo-2026-08-26/
CATEGORIES:Seattle Storm
END:VEVENT
BEGIN:VEVENT
DTSTART;TZID=America/Los_Angeles:20260829T133000
DTEND;TZID=America/Los_Angeles:20260829T163000
DTSTAMP:20260419T155256
CREATED:20251230T224936Z
LAST-MODIFIED:20251231T001011Z
UID:10001407-1788010200-1788021000@www.clippervacations.com
SUMMARY:Seattle Sounders vs Chicago Fire FC
DESCRIPTION:
URL:https://www.clippervacations.com/sailing/seattle-sounders-vs-chicago-fire-fc-2026-08-29/
CATEGORIES:Seattle,Seattle Sounders
END:VEVENT
BEGIN:VEVENT
DTSTART;TZID=America/Los_Angeles:20260830T140000
DTEND;TZID=America/Los_Angeles:20260830T170000
DTSTAMP:20260419T155256
CREATED:20260402T155800Z
LAST-MODIFIED:20260402T155800Z
UID:10001460-1788098400-1788109200@www.clippervacations.com
SUMMARY:Seattle Storm vs Los Angeles Sparks
DESCRIPTION:
URL:https://www.clippervacations.com/sailing/seattle-storm-vs-los-angeles-sparks-2026-08-30/
CATEGORIES:Seattle Storm
END:VEVENT
BEGIN:VEVENT
DTSTART;TZID=America/Los_Angeles:20260903T184000
DTEND;TZID=America/Los_Angeles:20260903T214000
DTSTAMP:20260419T155256
CREATED:20251230T224344Z
LAST-MODIFIED:20251231T001114Z
UID:10001368-1788460800-1788471600@www.clippervacations.com
SUMMARY:Seattle Mariners vs Athletics
DESCRIPTION:Purchase tickets
URL:https://www.clippervacations.com/sailing/seattle-mariners-vs-athletics-2026-09-03/
CATEGORIES:Seattle,Seattle Mariners
END:VEVENT
BEGIN:VEVENT
DTSTART;TZID=America/Los_Angeles:20260904T191000
DTEND;TZID=America/Los_Angeles:20260904T221000
DTSTAMP:20260419T155256
CREATED:20251230T224344Z
LAST-MODIFIED:20251231T001114Z
UID:10001369-1788549000-1788559800@www.clippervacations.com
SUMMARY:Seattle Mariners vs Athletics
DESCRIPTION:Purchase tickets
URL:https://www.clippervacations.com/sailing/seattle-mariners-vs-athletics-2026-09-04/
CATEGORIES:Seattle,Seattle Mariners
END:VEVENT
BEGIN:VEVENT
DTSTART;TZID=America/Los_Angeles:20260905T173000
DTEND;TZID=America/Los_Angeles:20260905T203000
DTSTAMP:20260419T155256
CREATED:20251230T224936Z
LAST-MODIFIED:20251231T001011Z
UID:10001408-1788629400-1788640200@www.clippervacations.com
SUMMARY:Seattle Sounders vs New York Red Bulls
DESCRIPTION:
URL:https://www.clippervacations.com/sailing/seattle-sounders-vs-new-york-red-bulls-2026-09-05/
CATEGORIES:Seattle,Seattle Sounders
END:VEVENT
BEGIN:VEVENT
DTSTART;TZID=America/Los_Angeles:20260905T184000
DTEND;TZID=America/Los_Angeles:20260905T214000
DTSTAMP:20260419T155256
CREATED:20251230T224344Z
LAST-MODIFIED:20251231T001114Z
UID:10001370-1788633600-1788644400@www.clippervacations.com
SUMMARY:Seattle Mariners vs Athletics
DESCRIPTION:Purchase tickets
URL:https://www.clippervacations.com/sailing/seattle-mariners-vs-athletics-2026-09-05/
CATEGORIES:Seattle,Seattle Mariners
END:VEVENT
BEGIN:VEVENT
DTSTART;TZID=America/Los_Angeles:20260906T131000
DTEND;TZID=America/Los_Angeles:20260906T161000
DTSTAMP:20260419T155256
CREATED:20251230T224344Z
LAST-MODIFIED:20251231T001114Z
UID:10001371-1788700200-1788711000@www.clippervacations.com
SUMMARY:Seattle Mariners vs Athletics
DESCRIPTION:Purchase tickets
URL:https://www.clippervacations.com/sailing/seattle-mariners-vs-athletics-2026-09-06/
CATEGORIES:Seattle,Seattle Mariners
END:VEVENT
BEGIN:VEVENT
DTSTART;TZID=America/Los_Angeles:20260908T184000
DTEND;TZID=America/Los_Angeles:20260908T214000
DTSTAMP:20260419T155256
CREATED:20251230T224344Z
LAST-MODIFIED:20251231T001119Z
UID:10001372-1788892800-1788903600@www.clippervacations.com
SUMMARY:Seattle Mariners vs Texas Rangers
DESCRIPTION:Purchase tickets
URL:https://www.clippervacations.com/sailing/seattle-mariners-vs-texas-rangers-2026-09-08/
CATEGORIES:Seattle,Seattle Mariners
END:VEVENT
BEGIN:VEVENT
DTSTART;TZID=America/Los_Angeles:20260909T184000
DTEND;TZID=America/Los_Angeles:20260909T214000
DTSTAMP:20260419T155256
CREATED:20251230T224344Z
LAST-MODIFIED:20251231T001119Z
UID:10001373-1788979200-1788990000@www.clippervacations.com
SUMMARY:Seattle Mariners vs Texas Rangers
DESCRIPTION:Purchase tickets
URL:https://www.clippervacations.com/sailing/seattle-mariners-vs-texas-rangers-2026-09-09/
CATEGORIES:Seattle,Seattle Mariners
END:VEVENT
BEGIN:VEVENT
DTSTART;TZID=America/Los_Angeles:20260909T193000
DTEND;TZID=America/Los_Angeles:20260909T223000
DTSTAMP:20260419T155256
CREATED:20251230T224936Z
LAST-MODIFIED:20251231T001011Z
UID:10001409-1788982200-1788993000@www.clippervacations.com
SUMMARY:Seattle Sounders vs Kansas City Current
DESCRIPTION:
URL:https://www.clippervacations.com/sailing/seattle-sounders-vs-kansas-city-current-2026-09-09/
CATEGORIES:Seattle,Seattle Sounders
END:VEVENT
BEGIN:VEVENT
DTSTART;TZID=America/Los_Angeles:20260910T131000
DTEND;TZID=America/Los_Angeles:20260910T161000
DTSTAMP:20260419T155256
CREATED:20251230T224344Z
LAST-MODIFIED:20251231T001119Z
UID:10001374-1789045800-1789056600@www.clippervacations.com
SUMMARY:Seattle Mariners vs Texas Rangers
DESCRIPTION:Purchase tickets
URL:https://www.clippervacations.com/sailing/seattle-mariners-vs-texas-rangers-2026-09-10/
CATEGORIES:Seattle,Seattle Mariners
END:VEVENT
BEGIN:VEVENT
DTSTART;TZID=America/Los_Angeles:20260917T190000
DTEND;TZID=America/Los_Angeles:20260917T220000
DTSTAMP:20260419T155256
CREATED:20260402T155800Z
LAST-MODIFIED:20260402T155800Z
UID:10001461-1789671600-1789682400@www.clippervacations.com
SUMMARY:Seattle Storm vs Las Vegas Aces
DESCRIPTION:
URL:https://www.clippervacations.com/sailing/seattle-storm-vs-las-vegas-aces-2026-09-17/
CATEGORIES:Seattle Storm
END:VEVENT
BEGIN:VEVENT
DTSTART;TZID=America/Los_Angeles:20260922T184000
DTEND;TZID=America/Los_Angeles:20260922T214000
DTSTAMP:20260419T155256
CREATED:20251230T224344Z
LAST-MODIFIED:20251231T001116Z
UID:10001375-1790102400-1790113200@www.clippervacations.com
SUMMARY:Seattle Mariners vs Houston Astros
DESCRIPTION:Purchase tickets
URL:https://www.clippervacations.com/sailing/seattle-mariners-vs-houston-astros-2026-09-22/
CATEGORIES:Seattle,Seattle Mariners
END:VEVENT
BEGIN:VEVENT
DTSTART;TZID=America/Los_Angeles:20260923T184000
DTEND;TZID=America/Los_Angeles:20260923T214000
DTSTAMP:20260419T155256
CREATED:20251230T224345Z
LAST-MODIFIED:20251231T001116Z
UID:10001376-1790188800-1790199600@www.clippervacations.com
SUMMARY:Seattle Mariners vs Houston Astros
DESCRIPTION:Purchase tickets
URL:https://www.clippervacations.com/sailing/seattle-mariners-vs-houston-astros-2026-09-23/
CATEGORIES:Seattle,Seattle Mariners
END:VEVENT
BEGIN:VEVENT
DTSTART;TZID=America/Los_Angeles:20260923T190000
DTEND;TZID=America/Los_Angeles:20260923T220000
DTSTAMP:20260419T155256
CREATED:20260402T155801Z
LAST-MODIFIED:20260402T155801Z
UID:10001462-1790190000-1790200800@www.clippervacations.com
SUMMARY:Seattle Storm vs Dallas Wings
DESCRIPTION:
URL:https://www.clippervacations.com/sailing/seattle-storm-vs-dallas-wings-2026-09-23/
CATEGORIES:Seattle Storm
END:VEVENT
BEGIN:VEVENT
DTSTART;TZID=America/Los_Angeles:20260924T184000
DTEND;TZID=America/Los_Angeles:20260924T214000
DTSTAMP:20260419T155256
CREATED:20251230T224345Z
LAST-MODIFIED:20251231T001117Z
UID:10001377-1790275200-1790286000@www.clippervacations.com
SUMMARY:Seattle Mariners vs Los Angeles Angels
DESCRIPTION:Purchase tickets
URL:https://www.clippervacations.com/sailing/seattle-mariners-vs-los-angeles-angels-2026-09-24/
CATEGORIES:Seattle,Seattle Mariners
END:VEVENT
BEGIN:VEVENT
DTSTART;TZID=America/Los_Angeles:20260925T191000
DTEND;TZID=America/Los_Angeles:20260925T221000
DTSTAMP:20260419T155256
CREATED:20251230T224345Z
LAST-MODIFIED:20251231T001117Z
UID:10001378-1790363400-1790374200@www.clippervacations.com
SUMMARY:Seattle Mariners vs Los Angeles Angels
DESCRIPTION:Purchase tickets
URL:https://www.clippervacations.com/sailing/seattle-mariners-vs-los-angeles-angels-2026-09-25/
CATEGORIES:Seattle,Seattle Mariners
END:VEVENT
BEGIN:VEVENT
DTSTART;TZID=America/Los_Angeles:20260926T173000
DTEND;TZID=America/Los_Angeles:20260926T203000
DTSTAMP:20260419T155256
CREATED:20251230T224936Z
LAST-MODIFIED:20251231T001011Z
UID:10001410-1790443800-1790454600@www.clippervacations.com
SUMMARY:Seattle Sounders vs Minnesota
DESCRIPTION:
URL:https://www.clippervacations.com/sailing/seattle-sounders-vs-minnesota-2026-09-26/
CATEGORIES:Seattle,Seattle Sounders
END:VEVENT
BEGIN:VEVENT
DTSTART;TZID=America/Los_Angeles:20260926T184000
DTEND;TZID=America/Los_Angeles:20260926T214000
DTSTAMP:20260419T155256
CREATED:20251230T224345Z
LAST-MODIFIED:20251231T001117Z
UID:10001379-1790448000-1790458800@www.clippervacations.com
SUMMARY:Seattle Mariners vs Los Angeles Angels
DESCRIPTION:Purchase tickets
URL:https://www.clippervacations.com/sailing/seattle-mariners-vs-los-angeles-angels-2026-09-26/
CATEGORIES:Seattle,Seattle Mariners
END:VEVENT
BEGIN:VEVENT
DTSTART;TZID=America/Los_Angeles:20260927T121000
DTEND;TZID=America/Los_Angeles:20260927T151000
DTSTAMP:20260419T155256
CREATED:20251230T224345Z
LAST-MODIFIED:20251231T001117Z
UID:10001380-1790511000-1790521800@www.clippervacations.com
SUMMARY:Seattle Mariners vs Los Angeles Angels
DESCRIPTION:Purchase tickets
URL:https://www.clippervacations.com/sailing/seattle-mariners-vs-los-angeles-angels-2026-09-27/
CATEGORIES:Seattle,Seattle Mariners
END:VEVENT
BEGIN:VEVENT
DTSTART;TZID=America/Los_Angeles:20261002T183000
DTEND;TZID=America/Los_Angeles:20261002T223000
DTSTAMP:20260419T155256
CREATED:20260122T073703Z
LAST-MODIFIED:20260122T073703Z
UID:10001434-1790965800-1790980200@www.clippervacations.com
SUMMARY:Tyler Childers - Snipe Hunt
DESCRIPTION:Purchase Tickets
URL:https://www.clippervacations.com/sailing/tyler-childers-snipe-hunt/
LOCATION:Climate Pledge Arena\, 334 1st Ave N\, Seattle\, WA\, 98109\, United States
CATEGORIES:Events,Seattle,Seattle Concerts
END:VEVENT
BEGIN:VEVENT
DTSTART;TZID=America/Los_Angeles:20261003T193000
DTEND;TZID=America/Los_Angeles:20261003T223000
DTSTAMP:20260419T155256
CREATED:20260122T073916Z
LAST-MODIFIED:20260122T073916Z
UID:10001435-1791055800-1791066600@www.clippervacations.com
SUMMARY:The Neighbourhood: THE WOURLD TOUR
DESCRIPTION:Purchase Tickets
URL:https://www.clippervacations.com/sailing/the-neighbourhood-the-wourld-tour/
LOCATION:WAMU Theater\, 800 Occidental Ave S\, Seattle\, WA\, 98134\, United States
CATEGORIES:Events,Seattle,Seattle Concerts
END:VEVENT
BEGIN:VEVENT
DTSTART;TZID=America/Los_Angeles:20261010T193000
DTEND;TZID=America/Los_Angeles:20261010T223000
DTSTAMP:20260419T155256
CREATED:20260122T074024Z
LAST-MODIFIED:20260122T074024Z
UID:10001436-1791660600-1791671400@www.clippervacations.com
SUMMARY:RUSH: Fifty Something
DESCRIPTION:Purchase Tickets
URL:https://www.clippervacations.com/sailing/rush-fifty-something/
LOCATION:Climate Pledge Arena\, 334 1st Ave N\, Seattle\, WA\, 98109\, United States
CATEGORIES:Events,Seattle,Seattle Concerts
END:VEVENT
BEGIN:VEVENT
DTSTART;TZID=America/Los_Angeles:20261015T193000
DTEND;TZID=America/Los_Angeles:20261015T233000
DTSTAMP:20260419T155256
CREATED:20260122T074312Z
LAST-MODIFIED:20260122T074312Z
UID:10001437-1792092600-1792107000@www.clippervacations.com
SUMMARY:Doja Cat - Tour Ma Vie World Tour
DESCRIPTION:Purchase Tickets
URL:https://www.clippervacations.com/sailing/doja-cat-tour-ma-vie-world-tour/
LOCATION:Climate Pledge Arena\, 334 1st Ave N\, Seattle\, WA\, 98109\, United States
CATEGORIES:Events,Seattle,Seattle Concerts
END:VEVENT
BEGIN:VEVENT
DTSTART;TZID=America/Los_Angeles:20261017T193000
DTEND;TZID=America/Los_Angeles:20261017T223000
DTSTAMP:20260419T155256
CREATED:20251230T224937Z
LAST-MODIFIED:20251231T001011Z
UID:10001411-1792265400-1792276200@www.clippervacations.com
SUMMARY:Seattle Sounders vs Montreal Impact
DESCRIPTION:
URL:https://www.clippervacations.com/sailing/seattle-sounders-vs-montreal-impact-2026-10-17/
CATEGORIES:Seattle,Seattle Sounders
END:VEVENT
BEGIN:VEVENT
DTSTART;TZID=America/Los_Angeles:20261017T203000
DTEND;TZID=America/Los_Angeles:20261017T233000
DTSTAMP:20260419T155256
CREATED:20260122T074434Z
LAST-MODIFIED:20260122T074434Z
UID:10001438-1792269000-1792279800@www.clippervacations.com
SUMMARY:Maná: Vivir Sin Aire Tour
DESCRIPTION:Purchase Tickets
URL:https://www.clippervacations.com/sailing/mana-vivir-sin-aire-tour/
LOCATION:Climate Pledge Arena\, 334 1st Ave N\, Seattle\, WA\, 98109\, United States
CATEGORIES:Events,Seattle,Seattle Concerts
END:VEVENT
END:VCALENDAR