BEGIN:VCALENDAR
VERSION:2.0
PRODID:-//Clipper Vacations - ECPv6.10.1.1//NONSGML v1.0//EN
CALSCALE:GREGORIAN
METHOD:PUBLISH
X-ORIGINAL-URL:https://www.clippervacations.com
X-WR-CALDESC:Events for Clipper Vacations
REFRESH-INTERVAL;VALUE=DURATION:PT1H
X-Robots-Tag:noindex
X-PUBLISHED-TTL:PT1H
BEGIN:VTIMEZONE
TZID:America/Los_Angeles
BEGIN:DAYLIGHT
TZOFFSETFROM:-0800
TZOFFSETTO:-0700
TZNAME:PDT
DTSTART:20260308T100000
END:DAYLIGHT
BEGIN:STANDARD
TZOFFSETFROM:-0700
TZOFFSETTO:-0800
TZNAME:PST
DTSTART:20261101T090000
END:STANDARD
END:VTIMEZONE
BEGIN:VEVENT
DTSTART;TZID=America/Los_Angeles:20260418T190000
DTEND;TZID=America/Los_Angeles:20260418T220000
DTSTAMP:20260419T115642
CREATED:20251230T224905Z
LAST-MODIFIED:20251231T001041Z
UID:10001394-1776538800-1776549600@www.clippervacations.com
SUMMARY:Seattle Torrent Game
DESCRIPTION:Purchase tickets
URL:https://www.clippervacations.com/sailing/seattle-torrent-game-2026-04-18/
CATEGORIES:Seattle,Seattle Torrent
END:VEVENT
BEGIN:VEVENT
DTSTART;TZID=America/Los_Angeles:20260418T180000
DTEND;TZID=America/Los_Angeles:20260418T210000
DTSTAMP:20260419T115642
CREATED:20251230T224935Z
LAST-MODIFIED:20251231T001010Z
UID:10001399-1776535200-1776546000@www.clippervacations.com
SUMMARY:Seattle Sounders Game
DESCRIPTION:
URL:https://www.clippervacations.com/sailing/seattle-sounders-game-2026-04-18/
CATEGORIES:Seattle,Seattle Sounders
END:VEVENT
BEGIN:VEVENT
DTSTART;TZID=America/Los_Angeles:20260418T161500
DTEND;TZID=America/Los_Angeles:20260418T191500
DTSTAMP:20260419T115642
CREATED:20251230T224337Z
LAST-MODIFIED:20251231T001119Z
UID:10001313-1776528900-1776539700@www.clippervacations.com
SUMMARY:Seattle Mariners vs Texas Rangers
DESCRIPTION:Purchase tickets
URL:https://www.clippervacations.com/sailing/seattle-mariners-vs-texas-rangers-2026-04-18/
CATEGORIES:Seattle,Seattle Mariners
END:VEVENT
BEGIN:VEVENT
DTSTART;TZID=America/Los_Angeles:20260417T193000
DTEND;TZID=America/Los_Angeles:20260417T233000
DTSTAMP:20260419T115642
CREATED:20260122T071815Z
LAST-MODIFIED:20260122T071815Z
UID:10001423-1776454200-1776468600@www.clippervacations.com
SUMMARY:Tommy Emmanuel CGP - Living In The Light Tour
DESCRIPTION:Purchase Tickets
URL:https://www.clippervacations.com/sailing/tommy-emmanuel-cgp-living-in-the-light-tour/
LOCATION:Moore Theatre\, 1932 2nd Ave\, Seattle\, WA\, 98101\, United States
CATEGORIES:Events,Seattle,Seattle Concerts
END:VEVENT
BEGIN:VEVENT
DTSTART;TZID=America/Los_Angeles:20260417T184000
DTEND;TZID=America/Los_Angeles:20260417T214000
DTSTAMP:20260419T115642
CREATED:20251230T224337Z
LAST-MODIFIED:20251231T001119Z
UID:10001312-1776451200-1776462000@www.clippervacations.com
SUMMARY:Seattle Mariners vs Texas Rangers
DESCRIPTION:Purchase tickets
URL:https://www.clippervacations.com/sailing/seattle-mariners-vs-texas-rangers-2026-04-17/
CATEGORIES:Seattle,Seattle Mariners
END:VEVENT
BEGIN:VEVENT
DTSTART;TZID=America/Los_Angeles:20260413T183000
DTEND;TZID=America/Los_Angeles:20260413T213000
DTSTAMP:20260419T115642
CREATED:20251230T224834Z
LAST-MODIFIED:20251231T000842Z
UID:10001391-1776105000-1776115800@www.clippervacations.com
SUMMARY:Seattle Kraken vs Los Angeles Kings
DESCRIPTION:Purchase tickets
URL:https://www.clippervacations.com/sailing/seattle-kraken-vs-los-angeles-kings-2026-04-13/
CATEGORIES:Seattle,Seattle Kraken
END:VEVENT
BEGIN:VEVENT
DTSTART;TZID=America/Los_Angeles:20260413T131000
DTEND;TZID=America/Los_Angeles:20260413T161000
DTSTAMP:20260419T115642
CREATED:20251230T224337Z
LAST-MODIFIED:20251231T001116Z
UID:10001311-1776085800-1776096600@www.clippervacations.com
SUMMARY:Seattle Mariners vs Houston Astros
DESCRIPTION:Purchase tickets
URL:https://www.clippervacations.com/sailing/seattle-mariners-vs-houston-astros-2026-04-13/
CATEGORIES:Seattle,Seattle Mariners
END:VEVENT
BEGIN:VEVENT
DTSTART;TZID=America/Los_Angeles:20260412T180000
DTEND;TZID=America/Los_Angeles:20260412T210000
DTSTAMP:20260419T115642
CREATED:20251230T224935Z
LAST-MODIFIED:20251231T001012Z
UID:10001398-1776016800-1776027600@www.clippervacations.com
SUMMARY:Seattle Sounders vs Real Salt Lake
DESCRIPTION:
URL:https://www.clippervacations.com/sailing/seattle-sounders-vs-real-salt-lake-2026-04-12/
CATEGORIES:Seattle,Seattle Sounders
END:VEVENT
BEGIN:VEVENT
DTSTART;TZID=America/Los_Angeles:20260412T131000
DTEND;TZID=America/Los_Angeles:20260412T161000
DTSTAMP:20260419T115642
CREATED:20251230T224337Z
LAST-MODIFIED:20251231T001116Z
UID:10001310-1775999400-1776010200@www.clippervacations.com
SUMMARY:Seattle Mariners vs Houston Astros
DESCRIPTION:Purchase tickets
URL:https://www.clippervacations.com/sailing/seattle-mariners-vs-houston-astros-2026-04-12/
CATEGORIES:Seattle,Seattle Mariners
END:VEVENT
BEGIN:VEVENT
DTSTART;TZID=America/Los_Angeles:20260411T184000
DTEND;TZID=America/Los_Angeles:20260411T214000
DTSTAMP:20260419T115642
CREATED:20251230T224336Z
LAST-MODIFIED:20251231T001116Z
UID:10001309-1775932800-1775943600@www.clippervacations.com
SUMMARY:Seattle Mariners vs Houston Astros
DESCRIPTION:Purchase tickets
URL:https://www.clippervacations.com/sailing/seattle-mariners-vs-houston-astros-2026-04-11/
CATEGORIES:Seattle,Seattle Mariners
END:VEVENT
BEGIN:VEVENT
DTSTART;TZID=America/Los_Angeles:20260411T160000
DTEND;TZID=America/Los_Angeles:20260411T190000
DTSTAMP:20260419T115642
CREATED:20251230T224834Z
LAST-MODIFIED:20251231T000841Z
UID:10001390-1775923200-1775934000@www.clippervacations.com
SUMMARY:Seattle Kraken vs Calgary Flames
DESCRIPTION:Purchase tickets
URL:https://www.clippervacations.com/sailing/seattle-kraken-vs-calgary-flames-2026-04-11/
CATEGORIES:Seattle,Seattle Kraken
END:VEVENT
BEGIN:VEVENT
DTSTART;TZID=America/Los_Angeles:20260410T184000
DTEND;TZID=America/Los_Angeles:20260410T214000
DTSTAMP:20260419T115642
CREATED:20251230T224336Z
LAST-MODIFIED:20251231T001116Z
UID:10001308-1775846400-1775857200@www.clippervacations.com
SUMMARY:Seattle Mariners vs Houston Astros
DESCRIPTION:Purchase tickets
URL:https://www.clippervacations.com/sailing/seattle-mariners-vs-houston-astros-2026-04-10/
CATEGORIES:Seattle,Seattle Mariners
END:VEVENT
BEGIN:VEVENT
DTSTART;TZID=America/Los_Angeles:20260409T190000
DTEND;TZID=America/Los_Angeles:20260409T220000
DTSTAMP:20260419T115642
CREATED:20251230T224834Z
LAST-MODIFIED:20251231T000842Z
UID:10001389-1775761200-1775772000@www.clippervacations.com
SUMMARY:Seattle Kraken vs Vegas Golden Knights
DESCRIPTION:Purchase tickets
URL:https://www.clippervacations.com/sailing/seattle-kraken-vs-vegas-golden-knights-2026-04-09/
CATEGORIES:Seattle,Seattle Kraken
END:VEVENT
BEGIN:VEVENT
DTSTART;TZID=America/Los_Angeles:20260404T200000
DTEND;TZID=America/Los_Angeles:20260404T230000
DTSTAMP:20260419T115642
CREATED:20260122T071333Z
LAST-MODIFIED:20260122T071524Z
UID:10001422-1775332800-1775343600@www.clippervacations.com
SUMMARY:Father John Misty
DESCRIPTION:Purchase Tickets
URL:https://www.clippervacations.com/sailing/father-john-misty-2/
LOCATION:Paramount Theatre\, 911 Pine St\, Seattle\, WA\, 98101\, United States
CATEGORIES:Events,Seattle,Seattle Concerts
END:VEVENT
BEGIN:VEVENT
DTSTART;TZID=America/Los_Angeles:20260404T190000
DTEND;TZID=America/Los_Angeles:20260404T220000
DTSTAMP:20260419T115642
CREATED:20251230T224834Z
LAST-MODIFIED:20251231T000841Z
UID:10001388-1775329200-1775340000@www.clippervacations.com
SUMMARY:Seattle Kraken vs Chicago Blackhawks
DESCRIPTION:Purchase tickets
URL:https://www.clippervacations.com/sailing/seattle-kraken-vs-chicago-blackhawks-2026-04-04/
CATEGORIES:Seattle,Seattle Kraken
END:VEVENT
BEGIN:VEVENT
DTSTART;TZID=America/Los_Angeles:20260403T200000
DTEND;TZID=America/Los_Angeles:20260403T230000
DTSTAMP:20260419T115642
CREATED:20260122T071122Z
LAST-MODIFIED:20260122T071539Z
UID:10001421-1775246400-1775257200@www.clippervacations.com
SUMMARY:Father John Misty
DESCRIPTION:Purchase Tickets
URL:https://www.clippervacations.com/sailing/father-john-misty/
LOCATION:Paramount Theatre\, 911 Pine St\, Seattle\, WA\, 98101\, United States
CATEGORIES:Events,Seattle,Seattle Concerts
END:VEVENT
BEGIN:VEVENT
DTSTART;TZID=America/Los_Angeles:20260403T200000
DTEND;TZID=America/Los_Angeles:20260403T230000
DTSTAMP:20260419T115642
CREATED:20260105T185023Z
LAST-MODIFIED:20260122T074558Z
UID:10001415-1775246400-1775257200@www.clippervacations.com
SUMMARY:Raye - Live at WAMU Theater (Sold Out)
DESCRIPTION:
URL:https://www.clippervacations.com/sailing/raye-live-at-wamu-theater-sold-out/
LOCATION:WAMU Theater\, 800 Occidental Ave S\, Seattle\, WA\, 98134\, United States
CATEGORIES:Seattle,Seattle Concerts
END:VEVENT
BEGIN:VEVENT
DTSTART;TZID=America/Los_Angeles:20260402T200000
DTEND;TZID=America/Los_Angeles:20260402T230000
DTSTAMP:20260419T115642
CREATED:20260122T070950Z
LAST-MODIFIED:20260122T071540Z
UID:10001420-1775160000-1775170800@www.clippervacations.com
SUMMARY:Sticky Fingers - Live in North America
DESCRIPTION:Purchase Tickets
URL:https://www.clippervacations.com/sailing/sticky-fingers-live-in-north-america/
LOCATION:Paramount Theatre\, 911 Pine St\, Seattle\, WA\, 98101\, United States
CATEGORIES:Events,Seattle,Seattle Concerts
END:VEVENT
BEGIN:VEVENT
DTSTART;TZID=America/Los_Angeles:20260402T190000
DTEND;TZID=America/Los_Angeles:20260402T220000
DTSTAMP:20260419T115642
CREATED:20251230T224833Z
LAST-MODIFIED:20251231T000842Z
UID:10001387-1775156400-1775167200@www.clippervacations.com
SUMMARY:Seattle Kraken vs Utah Mammoth
DESCRIPTION:Purchase tickets
URL:https://www.clippervacations.com/sailing/seattle-kraken-vs-utah-mammoth-2026-04-02/
CATEGORIES:Seattle,Seattle Kraken
END:VEVENT
BEGIN:VEVENT
DTSTART;TZID=America/Los_Angeles:20260401T131000
DTEND;TZID=America/Los_Angeles:20260401T161000
DTSTAMP:20260419T115642
CREATED:20251230T224336Z
LAST-MODIFIED:20251231T001118Z
UID:10001307-1775049000-1775059800@www.clippervacations.com
SUMMARY:Seattle Mariners vs New York Yankees
DESCRIPTION:Purchase tickets
URL:https://www.clippervacations.com/sailing/seattle-mariners-vs-new-york-yankees-2026-04-01/
CATEGORIES:Seattle,Seattle Mariners
END:VEVENT
BEGIN:VEVENT
DTSTART;TZID=America/Los_Angeles:20260331T190000
DTEND;TZID=America/Los_Angeles:20260331T220000
DTSTAMP:20260419T115642
CREATED:20260122T070555Z
LAST-MODIFIED:20260122T071540Z
UID:10001419-1774983600-1774994400@www.clippervacations.com
SUMMARY:LAMB OF GOD: INTO THE OBLIVION TOUR
DESCRIPTION:Purchase tickets
URL:https://www.clippervacations.com/sailing/lamb-of-god-into-the-oblivion-tour/
LOCATION:WAMU Theater\, 800 Occidental Ave S\, Seattle\, WA\, 98134\, United States
CATEGORIES:Events,Seattle,Seattle Concerts
END:VEVENT
BEGIN:VEVENT
DTSTART;TZID=America/Los_Angeles:20260331T184000
DTEND;TZID=America/Los_Angeles:20260331T214000
DTSTAMP:20260419T115642
CREATED:20251230T224336Z
LAST-MODIFIED:20251231T001118Z
UID:10001306-1774982400-1774993200@www.clippervacations.com
SUMMARY:Seattle Mariners vs New York Yankees
DESCRIPTION:Purchase tickets
URL:https://www.clippervacations.com/sailing/seattle-mariners-vs-new-york-yankees-2026-03-31/
CATEGORIES:Seattle,Seattle Mariners
END:VEVENT
BEGIN:VEVENT
DTSTART;TZID=America/Los_Angeles:20260330T184000
DTEND;TZID=America/Los_Angeles:20260330T214000
DTSTAMP:20260419T115642
CREATED:20251230T224336Z
LAST-MODIFIED:20251231T001118Z
UID:10001305-1774896000-1774906800@www.clippervacations.com
SUMMARY:Seattle Mariners vs New York Yankees
DESCRIPTION:Purchase tickets
URL:https://www.clippervacations.com/sailing/seattle-mariners-vs-new-york-yankees-2026-03-30/
CATEGORIES:Seattle,Seattle Mariners
END:VEVENT
BEGIN:VEVENT
DTSTART;TZID=America/Los_Angeles:20260329T160000
DTEND;TZID=America/Los_Angeles:20260329T190000
DTSTAMP:20260419T115642
CREATED:20251230T224905Z
LAST-MODIFIED:20251231T001041Z
UID:10001393-1774800000-1774810800@www.clippervacations.com
SUMMARY:Seattle Torrent vs Ottawa Charge
DESCRIPTION:Purchase tickets
URL:https://www.clippervacations.com/sailing/seattle-torrent-vs-ottawa-charge-2026-03-29/
CATEGORIES:Seattle,Seattle Torrent
END:VEVENT
BEGIN:VEVENT
DTSTART;TZID=America/Los_Angeles:20260329T131000
DTEND;TZID=America/Los_Angeles:20260329T161000
DTSTAMP:20260419T115642
CREATED:20251230T224336Z
LAST-MODIFIED:20251231T001116Z
UID:10001304-1774789800-1774800600@www.clippervacations.com
SUMMARY:Seattle Mariners vs Cleveland Guardians
DESCRIPTION:Purchase tickets
URL:https://www.clippervacations.com/sailing/seattle-mariners-vs-cleveland-guardians-2026-03-29/
CATEGORIES:Seattle,Seattle Mariners
END:VEVENT
BEGIN:VEVENT
DTSTART;TZID=America/Los_Angeles:20260328T184000
DTEND;TZID=America/Los_Angeles:20260328T214000
DTSTAMP:20260419T115642
CREATED:20251230T224336Z
LAST-MODIFIED:20251231T001116Z
UID:10001303-1774723200-1774734000@www.clippervacations.com
SUMMARY:Seattle Mariners vs Cleveland Guardians
DESCRIPTION:Purchase tickets
URL:https://www.clippervacations.com/sailing/seattle-mariners-vs-cleveland-guardians-2026-03-28/
CATEGORIES:Seattle,Seattle Mariners
END:VEVENT
BEGIN:VEVENT
DTSTART;TZID=America/Los_Angeles:20260327T184000
DTEND;TZID=America/Los_Angeles:20260327T214000
DTSTAMP:20260419T115642
CREATED:20251230T224336Z
LAST-MODIFIED:20251231T001115Z
UID:10001302-1774636800-1774647600@www.clippervacations.com
SUMMARY:Seattle Mariners vs Cleveland Guardians
DESCRIPTION:Purchase tickets
URL:https://www.clippervacations.com/sailing/seattle-mariners-vs-cleveland-guardians-2026-03-27/
CATEGORIES:Seattle,Seattle Mariners
END:VEVENT
BEGIN:VEVENT
DTSTART;TZID=America/Los_Angeles:20260327T180000
DTEND;TZID=America/Los_Angeles:20260327T220000
DTSTAMP:20260419T115642
CREATED:20260122T070357Z
LAST-MODIFIED:20260122T071540Z
UID:10001418-1774634400-1774648800@www.clippervacations.com
SUMMARY:Corb Lund w/ Branson Anderson
DESCRIPTION:
URL:https://www.clippervacations.com/sailing/corb-lund-w-branson-anderson/
LOCATION:Tractor\, 5213 Ballard Avenue NW\, Seattle\, WA\, 98107\, United States
CATEGORIES:Events,Seattle,Seattle Concerts
END:VEVENT
BEGIN:VEVENT
DTSTART;TZID=America/Los_Angeles:20260326T191000
DTEND;TZID=America/Los_Angeles:20260326T221000
DTSTAMP:20260419T115642
CREATED:20251230T224335Z
LAST-MODIFIED:20251231T001115Z
UID:10001301-1774552200-1774563000@www.clippervacations.com
SUMMARY:Seattle Mariners vs Cleveland Guardians
DESCRIPTION:Purchase tickets
URL:https://www.clippervacations.com/sailing/seattle-mariners-vs-cleveland-guardians-2026-03-26/
CATEGORIES:Seattle,Seattle Mariners
END:VEVENT
BEGIN:VEVENT
DTSTART;TZID=America/Los_Angeles:20260317T190000
DTEND;TZID=America/Los_Angeles:20260317T220000
DTSTAMP:20260419T115642
CREATED:20251230T224833Z
LAST-MODIFIED:20251231T000842Z
UID:10001386-1773774000-1773784800@www.clippervacations.com
SUMMARY:Seattle Kraken vs Tampa Bay Lightning
DESCRIPTION:Purchase tickets
URL:https://www.clippervacations.com/sailing/seattle-kraken-vs-tampa-bay-lightning-2026-03-17/
CATEGORIES:Seattle,Seattle Kraken
END:VEVENT
END:VCALENDAR