BEGIN:VCALENDAR
VERSION:2.0
PRODID:-//Clipper Vacations - ECPv6.10.1.1//NONSGML v1.0//EN
CALSCALE:GREGORIAN
METHOD:PUBLISH
X-ORIGINAL-URL:https://www.clippervacations.com
X-WR-CALDESC:Events for Clipper Vacations
REFRESH-INTERVAL;VALUE=DURATION:PT1H
X-Robots-Tag:noindex
X-PUBLISHED-TTL:PT1H
BEGIN:VTIMEZONE
TZID:America/Los_Angeles
BEGIN:DAYLIGHT
TZOFFSETFROM:-0800
TZOFFSETTO:-0700
TZNAME:PDT
DTSTART:20260308T100000
END:DAYLIGHT
BEGIN:STANDARD
TZOFFSETFROM:-0700
TZOFFSETTO:-0800
TZNAME:PST
DTSTART:20261101T090000
END:STANDARD
END:VTIMEZONE
BEGIN:VEVENT
DTSTART;TZID=America/Los_Angeles:20260923T184000
DTEND;TZID=America/Los_Angeles:20260923T214000
DTSTAMP:20260419T101838
CREATED:20251230T224345Z
LAST-MODIFIED:20251231T001116Z
UID:10001376-1790188800-1790199600@www.clippervacations.com
SUMMARY:Seattle Mariners vs Houston Astros
DESCRIPTION:Purchase tickets
URL:https://www.clippervacations.com/sailing/seattle-mariners-vs-houston-astros-2026-09-23/
CATEGORIES:Seattle,Seattle Mariners
END:VEVENT
BEGIN:VEVENT
DTSTART;TZID=America/Los_Angeles:20260923T190000
DTEND;TZID=America/Los_Angeles:20260923T220000
DTSTAMP:20260419T101838
CREATED:20260402T155801Z
LAST-MODIFIED:20260402T155801Z
UID:10001462-1790190000-1790200800@www.clippervacations.com
SUMMARY:Seattle Storm vs Dallas Wings
DESCRIPTION:
URL:https://www.clippervacations.com/sailing/seattle-storm-vs-dallas-wings-2026-09-23/
CATEGORIES:Seattle Storm
END:VEVENT
END:VCALENDAR