BEGIN:VCALENDAR
VERSION:2.0
PRODID:-//Clipper Vacations - ECPv6.10.1.1//NONSGML v1.0//EN
CALSCALE:GREGORIAN
METHOD:PUBLISH
X-ORIGINAL-URL:https://www.clippervacations.com
X-WR-CALDESC:Events for Clipper Vacations
REFRESH-INTERVAL;VALUE=DURATION:PT1H
X-Robots-Tag:noindex
X-PUBLISHED-TTL:PT1H
BEGIN:VTIMEZONE
TZID:America/Los_Angeles
BEGIN:DAYLIGHT
TZOFFSETFROM:-0800
TZOFFSETTO:-0700
TZNAME:PDT
DTSTART:20260308T100000
END:DAYLIGHT
BEGIN:STANDARD
TZOFFSETFROM:-0700
TZOFFSETTO:-0800
TZNAME:PST
DTSTART:20261101T090000
END:STANDARD
END:VTIMEZONE
BEGIN:VEVENT
DTSTART;TZID=America/Los_Angeles:20260825T080000
DTEND;TZID=America/Los_Angeles:20260825T110000
DTSTAMP:20260419T053815
CREATED:20251014T203448Z
LAST-MODIFIED:20251124T201711Z
UID:10000939-1787644800-1787655600@www.clippervacations.com
SUMMARY:Seattle - Victoria
DESCRIPTION:Fares starting at $199
URL:https://www.clippervacations.com/sailing/seattle-victoria-2026-08-25/
LOCATION:Seattle Clipper Terminal\, 2701 Alaskan Way\, Pier 69\, Seattle\, WA\, 98121\, United States
CATEGORIES:Sailings
END:VEVENT
BEGIN:VEVENT
DTSTART;TZID=America/Los_Angeles:20260825T170000
DTEND;TZID=America/Los_Angeles:20260825T194500
DTSTAMP:20260419T053815
CREATED:20251014T203718Z
LAST-MODIFIED:20251124T201532Z
UID:10001191-1787677200-1787687100@www.clippervacations.com
SUMMARY:Victoria - Seattle
DESCRIPTION:Fares starting at $191
URL:https://www.clippervacations.com/sailing/victoria-seattle-2026-08-25/
LOCATION:Victoria Steamship Terminal\, Steamship Terminal\, Victoria\, British Columbia\, V8V 1W9\, Canada
CATEGORIES:Sailings
END:VEVENT
BEGIN:VEVENT
DTSTART;TZID=America/Los_Angeles:20260825T184000
DTEND;TZID=America/Los_Angeles:20260825T214000
DTSTAMP:20260419T053815
CREATED:20251230T224343Z
LAST-MODIFIED:20251231T001118Z
UID:10001366-1787683200-1787694000@www.clippervacations.com
SUMMARY:Seattle Mariners vs Philadephia Phillies
DESCRIPTION:Purchase tickets
URL:https://www.clippervacations.com/sailing/seattle-mariners-vs-philadephia-phillies-2026-08-25/
CATEGORIES:Seattle,Seattle Mariners
END:VEVENT
END:VCALENDAR