BEGIN:VCALENDAR
VERSION:2.0
PRODID:-//Clipper Vacations - ECPv6.10.1.1//NONSGML v1.0//EN
CALSCALE:GREGORIAN
METHOD:PUBLISH
X-WR-CALNAME:Clipper Vacations
X-ORIGINAL-URL:https://www.clippervacations.com
X-WR-CALDESC:Events for Clipper Vacations
REFRESH-INTERVAL;VALUE=DURATION:PT1H
X-Robots-Tag:noindex
X-PUBLISHED-TTL:PT1H
BEGIN:VTIMEZONE
TZID:America/Los_Angeles
BEGIN:DAYLIGHT
TZOFFSETFROM:-0800
TZOFFSETTO:-0700
TZNAME:PDT
DTSTART:20260308T100000
END:DAYLIGHT
BEGIN:STANDARD
TZOFFSETFROM:-0700
TZOFFSETTO:-0800
TZNAME:PST
DTSTART:20261101T090000
END:STANDARD
END:VTIMEZONE
BEGIN:VEVENT
DTSTART;TZID=America/Los_Angeles:20260718T080000
DTEND;TZID=America/Los_Angeles:20260718T110000
DTSTAMP:20260423T015837
CREATED:20251014T203444Z
LAST-MODIFIED:20251201T165748Z
UID:10000901-1784361600-1784372400@www.clippervacations.com
SUMMARY:Seattle - Victoria
DESCRIPTION:Fares starting at $209
URL:https://www.clippervacations.com/sailing/seattle-victoria-2026-07-18/
LOCATION:Seattle Clipper Terminal\, 2701 Alaskan Way\, Pier 69\, Seattle\, WA\, 98121\, United States
CATEGORIES:Sailings
END:VEVENT
BEGIN:VEVENT
DTSTART;TZID=America/Los_Angeles:20260718T180000
DTEND;TZID=America/Los_Angeles:20260718T204500
DTSTAMP:20260423T015837
CREATED:20251014T203641Z
LAST-MODIFIED:20251124T201529Z
UID:10001153-1784397600-1784407500@www.clippervacations.com
SUMMARY:Victoria - Seattle
DESCRIPTION:Fares starting at $191
URL:https://www.clippervacations.com/sailing/victoria-seattle-2026-07-18/
LOCATION:Victoria Steamship Terminal\, Steamship Terminal\, Victoria\, British Columbia\, V8V 1W9\, Canada
CATEGORIES:Sailings
END:VEVENT
BEGIN:VEVENT
DTSTART;TZID=America/Los_Angeles:20260718T191000
DTEND;TZID=America/Los_Angeles:20260718T221000
DTSTAMP:20260423T015837
CREATED:20251230T224341Z
LAST-MODIFIED:20251231T001118Z
UID:10001348-1784401800-1784412600@www.clippervacations.com
SUMMARY:Seattle Mariners vs San Francisco Giants
DESCRIPTION:Purchase tickets
URL:https://www.clippervacations.com/sailing/seattle-mariners-vs-san-francisco-giants-2026-07-18/
CATEGORIES:Seattle,Seattle Mariners
END:VEVENT
END:VCALENDAR