BEGIN:VCALENDAR
VERSION:2.0
PRODID:-//Clipper Vacations - ECPv6.10.1.1//NONSGML v1.0//EN
CALSCALE:GREGORIAN
METHOD:PUBLISH
X-ORIGINAL-URL:https://www.clippervacations.com
X-WR-CALDESC:Events for Clipper Vacations
REFRESH-INTERVAL;VALUE=DURATION:PT1H
X-Robots-Tag:noindex
X-PUBLISHED-TTL:PT1H
BEGIN:VTIMEZONE
TZID:America/Los_Angeles
BEGIN:DAYLIGHT
TZOFFSETFROM:-0800
TZOFFSETTO:-0700
TZNAME:PDT
DTSTART:20260308T100000
END:DAYLIGHT
BEGIN:STANDARD
TZOFFSETFROM:-0700
TZOFFSETTO:-0800
TZNAME:PST
DTSTART:20261101T090000
END:STANDARD
END:VTIMEZONE
BEGIN:VEVENT
DTSTART;TZID=America/Los_Angeles:20260624T080000
DTEND;TZID=America/Los_Angeles:20260624T110000
DTSTAMP:20260421T070600
CREATED:20251014T203441Z
LAST-MODIFIED:20251124T201840Z
UID:10000877-1782288000-1782298800@www.clippervacations.com
SUMMARY:Seattle - Victoria
DESCRIPTION:Fares starting at $199
URL:https://www.clippervacations.com/sailing/seattle-victoria-2026-06-24/
LOCATION:Seattle Clipper Terminal\, 2701 Alaskan Way\, Pier 69\, Seattle\, WA\, 98121\, United States
CATEGORIES:Sailings
END:VEVENT
BEGIN:VEVENT
DTSTART;TZID=America/Los_Angeles:20260624T120000
DTEND;TZID=America/Los_Angeles:20260624T140000
DTSTAMP:20260421T070600
CREATED:20251211T043257Z
LAST-MODIFIED:20251231T001232Z
UID:10001296-1782302400-1782309600@www.clippervacations.com
SUMMARY:FIFA: Qatar vs TBD
DESCRIPTION:
URL:https://www.clippervacations.com/sailing/fifa-qatar-vs-tbd/
LOCATION:Lumen Field\, 800 Occidental Ave S\, Seattle\, WA\, 98134\, United States
CATEGORIES:Fifa World Cup,Seattle
END:VEVENT
BEGIN:VEVENT
DTSTART;TZID=America/Los_Angeles:20260624T170000
DTEND;TZID=America/Los_Angeles:20260624T194500
DTSTAMP:20260421T070600
CREATED:20251014T203639Z
LAST-MODIFIED:20251124T201527Z
UID:10001129-1782320400-1782330300@www.clippervacations.com
SUMMARY:Victoria - Seattle
DESCRIPTION:Fares starting at $191
URL:https://www.clippervacations.com/sailing/victoria-seattle-2026-06-24/
LOCATION:Victoria Steamship Terminal\, Steamship Terminal\, Victoria\, British Columbia\, V8V 1W9\, Canada
CATEGORIES:Sailings
END:VEVENT
END:VCALENDAR